{"text_format":"1","workbook":"xlsx","n_sheets":19,"sheets":["Instructions","Humorous Monologues","HumorousMR","Dramatic","DramaticMR","Classical","ClassicalMR","Contemporary","ContemporaryMR","Pantomime","PantomimeMR","MusicalTheatre","MusicalTheatreMR","One-Acts","CostumeDesign","ScenicDesign","Sweepstakes","ScenicResults","CostumeResults"],"not_rendered":{"charts":0,"images":0,"macros":1,"external_links":0,"defined_names":2,"comments":0,"pivot_tables":0},"unopened":[],"bounds":{"document_bytes":16777216,"sheet_cells":100000,"rows_first":2000,"rows_last":500,"rows_between":2000,"halvings":0,"cell_chars":16384,"cell_head_chars":4096},"cells_cut":0,"cells_raw":0,"read":"whole","date_system":"1900"}

{"sheet":"Instructions","index":0,"n_rows":13,"n_cols":3,"rows_kept":13,"cut":false,"hidden":false,"merged":[[0,0,0,2],[1,0,1,2],[3,0,3,2],[4,0,4,2]]}
["Directions for Using the UHSAA SCORING SPREADSHEET"]
["for Region and State Theatre Meets:"]
[]
["If you have any questions, please email Giselle Gremmert at giselle.gremmert@canyonsdistrict.org"]
["If there is an emergency the day of your meet, feel free to call or text at 801-391-7864"]
["Before you start...",null,"In the Tab Room..."]
["Refresh your memory on the Policies and Guidelines of the Competition. Rules are changing every year. Make sure you have the most updated information! ",null,"If a school does not bring a full slate of pieces, you can leave boxes blank or enter a zero. Whichever makes sense for you."]
["Please make sure you are using the correct spreadsheet for your classification. Region and State Spreadsheets are different! 1A/2A is different from 3A-6A!",null,"As scores come in to the tabulation room, enter their respective rank (1-4 or 1-6) and score (0-75). The spreadsheet should do all of the math for you from there."]
["DO NOT, UNDER ANY CIRCUMSTANCES: delete a row or column, add a row or column. If you think there is a reason you need to do so, contact Giselle Gremmert first or you will likely ruin your whole spreadsheet. ",null,"Once you have all of your scores in and you need to determine which pieces will go to the final medals round, click on the medals round tab at the bottom of the spreadsheet. There is one for each event. All you have to do is click on the \"sort first by rank, then by score\" button, and the top 5-8 pieces on the table will be eligible for Medals' Round."]
["Each school should be assigned a letter code (ie. A, B, DD, etc…). You can type in which school belongs to which code on the Sweepstakes page of the score sheet. Do not try to add a school I or school O. The letters are skipped intentionally.",null,"Please note the drop-down menus for time violations. If a piece goes over or under time, you can just select the number of rounds that occurred in and the spreadsheet will do all the math for you. It will also strike out any piece that has a time violation in more than 1 round. This means it is ineligible to move on to State or go to Medals Round."]
["You can type in student names and piece titles next to their assigned number on each of the event pages.",null,"PLEASE NOTE: If a school has 4 entries in an event, on the State spreadsheet, the lowest score will automatically be dropped. You won’t have to do anything. This feature is not in the Region scoresheet, so make sure you’re using the correct one."]
["If you would like coaches to give you their entrant information in a convenient format for the spreadsheet, click on the  Slate Entry Form URL below. It has everything divided into the correct number of boxes so you can more easily copy and paste into this spreasheet. (File -->Make a copy). ",null,"Scores that turn the whole line yellow meet a point threshhold. At Region, that means the piece qualifies for State and receives a Superior Medal. At State, that means the piece receives a Superior Medal."]
["https://docs.google.com/spreadsheets/d/1KvhAQPQFbuyZ23tB98sun25-0YTyifYxrCT7RtfStYE/edit?usp=sharing",null,"IF A STUDENT MAKES MEDALS ROUND, they qualify for State/receive a Superior Medal EVEN IF their point total does not automatically qualify them. Make sure to check for any outlier students so you don't miss giving them a medal/sending them to State. Their line may not be yellow. "]

{"sheet":"Humorous Monologues","index":1,"n_rows":152,"n_cols":33,"rows_kept":152,"cut":false,"hidden":false,"merged":[[0,0,0,8]]}
["Humorous Monologues",null,null,null,null,null,null,null,null,null,"Rank 1-4",null,null,null,null,null,null,null,null,null,null,null,null,"S","E","G","F",null,"1violation","2violations","3violations"]
[null,null,null,null,null,null,null,null,null,null,"Round 1:",null,"Round 2:",null,"Round 3:",null,"-2 for each",null,null,null,null,null,null,null,null,null,null,"Drops lowest from column q"]
[null,null,null,null,null,null,null,"Student Name",null,"Title of Piece","R1 rank","R1 score","R2 rank","R2 score","R3 rank","R3 score","Time Violations",null,"TOTAL SCORE",null,"TOTAL RANK",null,null,"TOTAL SCHOOL SWEEPS POINTS",null,null,null,"Drop Lowest"]
["A-101",null,null,null,null,null,null,"J","Wales","Crystal",4.0,19.0,1.0,23.0,1.0,25.0,null,{"$f":"IF(Q4=\"1violation\",-7*1,IF(Q4=\"2violations\",-7*2,IF(Q4=\"3violations\",-7*3,IF(Q4=\"\",\"\"))))","v":""},{"$f":"SUM(L4,N4,P4,R4)","v":67},null,{"$f":"SUM(K4,M4,O4)","v":6},null,null,null,{"$f":"SUM(S4,S6,S5,S7,-AB4)","v":215},null,null,{"$f":"MIN(S4:S7)","v":67}]
["A-102",null,null,null,null,null,null,"Hunter","Hughes","Little Flying Ace",2.0,24.0,2.0,25.0,3.0,25.0,null,"",74,null,7]
["A-103",null,null,null,null,null,null,"Brexton","Jensen","Cat in the Hat AA",2.0,23.0,1.0,24.0,1.0,25.0,null,"",72,null,4]
["A-104",null,null,null,null,null,null,"Dallin ","Nielsen","Welcome to Hell",4.0,21.0,3.0,23.0,2.0,25.0,null,"",69,null,9]
[]
["B-101",null,null,null,null,null,null,"Amy","Lebaron","Star Spangled Girl",4.0,24.0,4.0,22.0,4.0,20.0,null,{"$f":"IF(Q9=\"1violation\",-7*1,IF(Q9=\"2violations\",-7*2,IF(Q9=\"3violations\",-7*3,IF(Q9=\"\",\"\"))))","v":""},{"$f":"SUM(L9,N9,P9,R9)","v":66},null,{"$f":"SUM(K9,M9,O9)","v":12},null,null,null,{"$f":"SUM(S9,S11,S10,S12,-AB9)","v":66},null,null,{"$f":"MIN(S9:S12)","v":0}]
["B-102",null,null,null,null,null,null,null,null,null,null,null,null,null,null,null,null,"",0,null,0]
["B-103",null,null,null,null,null,null,null,null,null,null,null,null,null,null,null,null,"",0,null,0]
["B-104",null,null,null,null,null,null,null,null,null,null,null,null,null,null,null,null,"",0,null,0]
[]
["C-101",null,null,null,null,null,null,"Jaxson","Pittman","Welcome to Hell",1.0,25.0,4.0,24.0,1.0,25.0,null,{"$f":"IF(Q14=\"1violation\",-7*1,IF(Q14=\"2violations\",-7*2,IF(Q14=\"3violations\",-7*3,IF(Q14=\"\",\"\"))))","v":""},{"$f":"SUM(L14,N14,P14,R14)","v":74},null,{"$f":"SUM(K14,M14,O14)","v":6},null,null,null,{"$f":"SUM(S14,S16,S15,S17,-AB14)","v":221},null,null,{"$f":"MIN(S14:S17)","v":69}]
["C-102",null,null,null,null,null,null,"Ava","Johnson","I kissed a Boy Once",1.0,25.0,1.0,25.0,2.0,23.0,null,"",73,null,4]
["C-103",null,null,null,null,null,null,"Asher","Tomlinson","Alligator Allen",1.0,24.0,1.0,25.0,1.0,25.0,null,"",74,null,3]
["C-104",null,null,null,null,null,null,"Alexy ","Mortensen","Gratitude Lists",4.0,20.0,2.0,25.0,4.0,24.0,null,"",69,null,10]
[]
["D-101",null,null,null,null,null,null,null,null,null,null,null,null,null,null,null,null,{"$f":"IF(Q19=\"1violation\",-7*1,IF(Q19=\"2violations\",-7*2,IF(Q19=\"3violations\",-7*3,IF(Q19=\"\",\"\"))))","v":""},{"$f":"SUM(L19,N19,P19,R19)","v":0},null,{"$f":"SUM(K19,M19,O19)","v":0},null,null,null,{"$f":"SUM(S19,S21,S20,S22,-AB19)","v":0},null,null,{"$f":"MIN(S19:S22)","v":0}]
["D-102",null,null,null,null,null,null,null,null,null,null,null,null,null,null,null,null,"",0,null,0]
["D-103",null,null,null,null,null,null,null,null,null,null,null,null,null,null,null,null,"",0,null,0]
["D-104",null,null,null,null,null,null,null,null,null,null,null,null,null,null,null,null,"",0,null,0]
[]
["E-101",null,null,null,null,null,null,"Taylor","Leavitt","Rapocolypse",2.0,25.0,2.0,21.0,1.0,25.0,null,{"$f":"IF(Q24=\"1violation\",-7*1,IF(Q24=\"2violations\",-7*2,IF(Q24=\"3violations\",-7*3,IF(Q24=\"\",\"\"))))","v":""},{"$f":"SUM(L24,N24,P24,R24)","v":71},null,{"$f":"SUM(K24,M24,O24)","v":5},null,null,null,{"$f":"SUM(S24,S26,S25,S27,-AB24)","v":217},null,null,{"$f":"MIN(S24:S27)","v":66}]
["E-102",null,null,null,null,null,null,"Jayden","Leithead","Road to Ruin",1.0,25.0,3.0,25.0,2.0,25.0,null,"",75,null,6]
["E-103",null,null,null,null,null,null,"Jasper","Moser","Designated",4.0,24.0,4.0,23.0,3.0,24.0,null,"",71,null,11]
["E-104",null,null,null,null,null,null,"Malia","Maxfeild","Stakeout",2.0,22.0,4.0,23.0,3.0,21.0,null,"",66,null,9]
[]
["F-101",null,null,null,null,null,null,"Sulice","Ihli","Coolest Thing",1.0,25.0,4.0,25.0,4.0,25.0,null,{"$f":"IF(Q29=\"1violation\",-7*1,IF(Q29=\"2violations\",-7*2,IF(Q29=\"3violations\",-7*3,IF(Q29=\"\",\"\"))))","v":""},{"$f":"SUM(L29,N29,P29,R29)","v":75},null,{"$f":"SUM(K29,M29,O29)","v":9},null,null,null,{"$f":"SUM(S29,S31,S30,S32,-AB29)","v":211},null,null,{"$f":"MIN(S29:S32)","v":60}]
["F-102",null,null,null,null,null,null,"Michael","Kayda","How to Silence",4.0,18.0,4.0,25.0,3.0,25.0,null,"",68,null,11]
["F-103",null,null,null,null,null,null,"Marz","Hamaker","Last Golden ",4.0,22.0,4.0,17.0,4.0,21.0,null,"",60,null,12]
["F-104",null,null,null,null,null,null,"Asa","Edwards","Rudolphs Brother",3.0,23.0,4.0,21.0,4.0,24.0,null,"",68,null,11]
[null,null,null,null,null,null,null,null,null,null,null,null,null,null,null,null,null,null,null,null,null,null,null,null,null,null,null,null,null,null,null,null,"\\"]
["G-101",null,null,null,null,null,null,null,null,null,null,null,null,null,null,null,null,{"$f":"IF(Q34=\"1violation\",-7*1,IF(Q34=\"2violations\",-7*2,IF(Q34=\"3violations\",-7*3,IF(Q34=\"\",\"\"))))","v":""},{"$f":"SUM(L34,N34,P34,R34)","v":0},null,{"$f":"SUM(K34,M34,O34)","v":0},null,null,null,{"$f":"SUM(S34,S36,S35,S37,-AB34)","v":0},null,null,{"$f":"MIN(S34:S37)","v":0},null,null,null,null,210.0]
["G-102",null,null,null,null,null,null,null,null,null,null,null,null,null,null,null,null,"",0,null,0]
["G-103",null,null,null,null,null,null,null,null,null,null,null,null,null,null,null,null,"",0,null,0]
["G-104",null,null,null,null,null,null,null,null,null,null,null,null,null,null,null,null,"",0,null,0]
[]
["H-101",null,null,null,null,null,null,"Charlotte","Pulica","I love you",4.0,23.0,2.0,22.0,4.0,24.0,null,{"$f":"IF(Q39=\"1violation\",-7*1,IF(Q39=\"2violations\",-7*2,IF(Q39=\"3violations\",-7*3,IF(Q39=\"\",\"\"))))","v":""},{"$f":"SUM(L39,N39,P39,R39)","v":69},null,{"$f":"SUM(K39,M39,O39)","v":10},null,null,null,{"$f":"SUM(S39,S41,S40,S42,-AB39)","v":207},null,null,{"$f":"MIN(S39:S42)","v":63}]
["H-102",null,null,null,null,null,null,"Mason","Ames","Funeral Parlor",4.0,17.0,4.0,22.0,4.0,24.0,null,"",63,null,12]
["H-103",null,null,null,null,null,null,null,null,"Clue",3.0,24.0,3.0,20.0,4.0,25.0,null,"",69,null,10]
["H-104",null,null,null,null,null,null,null,null,"I hate Hamlet",4.0,23.0,1.0,25.0,3.0,21.0,null,"",69,null,8]
[]
["J-101",null,null,null,null,null,null,null,null,null,null,null,null,null,null,null,null,{"$f":"IF(Q44=\"1violation\",-7*1,IF(Q44=\"2violations\",-7*2,IF(Q44=\"3violations\",-7*3,IF(Q44=\"\",\"\"))))","v":""},{"$f":"SUM(L44,N44,P44,R44)","v":0},null,{"$f":"SUM(K44,M44,O44)","v":0},null,null,null,{"$f":"SUM(S44,S46,S45,S47,-AB44)","v":0},null,null,{"$f":"MIN(S44:S47)","v":0}]
["J-102",null,null,null,null,null,null,null,null,null,null,null,null,null,null,null,null,"",0,null,0]
["J-103",null,null,null,null,null,null,null,null,null,null,null,null,null,null,null,null,"",0,null,0]
["J-104",null,null,null,null,null,null,null,null,null,null,null,null,null,null,null,null,"",0,null,0]
[]
["K-101",null,null,null,null,null,null,null,null,null,null,null,null,null,null,null,null,{"$f":"IF(Q49=\"1violation\",-7*1,IF(Q49=\"2violations\",-7*2,IF(Q49=\"3violations\",-7*3,IF(Q49=\"\",\"\"))))","v":""},{"$f":"SUM(L49,N49,P49,R49)","v":0},null,{"$f":"SUM(K49,M49,O49)","v":0},null,null,null,{"$f":"SUM(S49,S51,S50,S52,-AB49)","v":0},null,null,{"$f":"MIN(S49:S52)","v":0}]
["K-102",null,null,null,null,null,null,null,null,null,null,null,null,null,null,null,null,"",0,null,0]
["K-103",null,null,null,null,null,null,null,null,null,null,null,null,null,null,null,null,"",0,null,0]
["K-104",null,null,null,null,null,null,null,null,null,null,null,null,null,null,null,null,"",0,null,0]
[]
["L-101",null,null,null,null,null,null,"Ezra","Amaya","Drunk Englishmen",4.0,23.0,4.0,23.0,2.0,25.0,null,{"$f":"IF(Q54=\"1violation\",-7*1,IF(Q54=\"2violations\",-7*2,IF(Q54=\"3violations\",-7*3,IF(Q54=\"\",\"\"))))","v":""},{"$f":"SUM(L54,N54,P54,R54)","v":71},null,{"$f":"SUM(K54,M54,O54)","v":10},null,null,null,{"$f":"SUM(S54,S56,S55,S57,-AB54)","v":213},null,null,{"$f":"MIN(S54:S57)","v":64}]
["L-102",null,null,null,null,null,null,"Evelyn","Halk","Auditioners",4.0,24.0,3.0,20.0,4.0,20.0,null,"",64,null,11]
["L-103",null,null,null,null,null,null,"Emma","Holm","Laundry and Bourbon",3.0,21.0,3.0,25.0,4.0,25.0,null,"",71,null,10]
["L-104",null,null,null,null,null,null,"Cooper","Innes","Merchant",4.0,21.0,4.0,25.0,2.0,25.0,null,"",71,null,10]
[]
["M-101",null,null,null,null,null,null,"Payton","Wakefield","Cheerleader",3.0,22.0,4.0,19.0,1.0,25.0,null,{"$f":"IF(Q59=\"1violation\",-7*1,IF(Q59=\"2violations\",-7*2,IF(Q59=\"3violations\",-7*3,IF(Q59=\"\",\"\"))))","v":""},{"$f":"SUM(L59,N59,P59,R59)","v":66},null,{"$f":"SUM(K59,M59,O59)","v":8},null,null,null,{"$f":"SUM(S59,S61,S60,S62,-AB59)","v":140},null,null,{"$f":"MIN(S59:S62)","v":0}]
["M-102",null,null,null,null,null,null,"Keagan","Bennett","Science Lesson",3.0,25.0,2.0,25.0,4.0,24.0,null,"",74,null,9]
["M-103",null,null,null,null,null,null,null,null,null,null,null,null,null,null,null,null,"",0,null,0]
["M-104",null,null,null,null,null,null,null,null,null,null,null,null,null,null,null,null,"",0,null,0]
[]
["N-101",null,null,null,null,null,null,"Aislinn","Bastian","See Me",null,null,null,null,null,null,null,{"$f":"IF(Q64=\"1violation\",-7*1,IF(Q64=\"2violations\",-7*2,IF(Q64=\"3violations\",-7*3,IF(Q64=\"\",\"\"))))","v":""},{"$f":"SUM(L64,N64,P64,R64)","v":0},null,{"$f":"SUM(K64,M64,O64)","v":0},null,null,null,{"$f":"SUM(S64,S66,S65,S67,-AB64)","v":0},null,null,{"$f":"MIN(S64:S67)","v":0}]
["N-102",null,null,null,null,null,null,null,null,null,null,null,null,null,null,null,null,"",0,null,0]
["N-103",null,null,null,null,null,null,null,null,null,null,null,null,null,null,null,null,"",0,null,0]
["N-104",null,null,null,null,null,null,null,null,null,null,null,null,null,null,null,null,"",0,null,0]
[]
["P-101",null,null,null,null,null,null,"Haven","Caldwell","Photographer",1.0,24.0,4.0,24.0,2.0,24.0,null,{"$f":"IF(Q69=\"1violation\",-7*1,IF(Q69=\"2violations\",-7*2,IF(Q69=\"3violations\",-7*3,IF(Q69=\"\",\"\"))))","v":""},{"$f":"SUM(L69,N69,P69,R69)","v":72},null,{"$f":"SUM(K69,M69,O69)","v":7},null,null,null,{"$f":"SUM(S69,S71,S70,S72,-AB69)","v":221},null,null,{"$f":"MIN(S69:S72)","v":66}]
["P-102",null,null,null,null,null,null,"Seth","Howarth","Judge",2.0,25.0,1.0,25.0,1.0,25.0,null,"",75,null,4]
["P-103",null,null,null,null,null,null,"Caden","Smith","Your Honor",1.0,25.0,2.0,24.0,3.0,25.0,null,"",74,null,6]
["P-104",null,null,null,null,null,null,"Joslynn","Stewart","Kidnapped",4.0,16.0,1.0,25.0,3.0,25.0,null,"",66,null,8]
[]
["Q-101",null,null,null,null,null,null,null,null,null,null,null,null,null,null,null,null,{"$f":"IF(Q74=\"1violation\",-7*1,IF(Q74=\"2violations\",-7*2,IF(Q74=\"3violations\",-7*3,IF(Q74=\"\",\"\"))))","v":""},{"$f":"SUM(L74,N74,P74,R74)","v":0},null,{"$f":"SUM(K74,M74,O74)","v":0},null,null,null,{"$f":"SUM(S74,S76,S75,S77,-AB74)","v":0},null,null,{"$f":"MIN(S74:S77)","v":0}]
["Q-102",null,null,null,null,null,null,null,null,null,null,null,null,null,null,null,null,"",0,null,0]
["Q-103",null,null,null,null,null,null,null,null,null,null,null,null,null,null,null,null,"",0,null,0]
["Q-104",null,null,null,null,null,null,null,null,null,null,null,null,null,null,null,null,"",0,null,0]
[]
["R-101",null,null,null,null,null,null,"Jocelyne","Betts","Hello, Goodbye",3.0,22.0,2.0,25.0,4.0,25.0,null,{"$f":"IF(Q79=\"1violation\",-7*1,IF(Q79=\"2violations\",-7*2,IF(Q79=\"3violations\",-7*3,IF(Q79=\"\",\"\"))))","v":""},{"$f":"SUM(L79,N79,P79,R79)","v":72},null,{"$f":"SUM(K79,M79,O79)","v":9},null,null,null,{"$f":"SUM(S79,S81,S80,S82,-AB79)","v":132},null,null,{"$f":"MIN(S79:S82)","v":0}]
["R-102",null,null,null,null,null,null,"Mia","Beck","Sleeping Beauty",4.0,19.0,4.0,18.0,4.0,23.0,null,"",60,null,12]
["R-103",null,null,null,null,null,null,null,null,null,null,null,null,null,null,null,null,"",0,null,0]
["R-104",null,null,null,null,null,null,null,null,null,null,null,null,null,null,null,null,"",0,null,0]
[]
["S-101",null,null,null,null,null,null,"Taylor","Fowlke","Female Superiority",3.0,24.0,3.0,23.0,4.0,21.0,null,{"$f":"IF(Q84=\"1violation\",-7*1,IF(Q84=\"2violations\",-7*2,IF(Q84=\"3violations\",-7*3,IF(Q84=\"\",\"\"))))","v":""},{"$f":"SUM(L84,N84,P84,R84)","v":68},null,{"$f":"SUM(K84,M84,O84)","v":10},null,null,null,{"$f":"SUM(S84,S86,S85,S87,-AB84)","v":208},null,null,{"$f":"MIN(S84:S87)","v":0}]
["S-102",null,null,null,null,null,null,"Leah","Walters","Mad Mockery",2.0,23.0,4.0,19.0,4.0,23.0,null,"",65,null,10]
["S-103",null,null,null,null,null,null,"Aubrey","Ewer","5 Stages of Love",2.0,25.0,3.0,25.0,2.0,25.0,null,"",75,null,7]
["S-104",null,null,null,null,null,null,null,null,null,null,null,null,null,null,null,null,"",0,null,0]
[]
["T-101",null,null,null,null,null,null,null,null,null,null,null,null,null,null,null,null,{"$f":"IF(Q89=\"1violation\",-7*1,IF(Q89=\"2violations\",-7*2,IF(Q89=\"3violations\",-7*3,IF(Q89=\"\",\"\"))))","v":""},{"$f":"SUM(L89,N89,P89,R89)","v":0},null,{"$f":"SUM(K89,M89,O89)","v":0},null,null,null,{"$f":"SUM(S89,S91,S90,S92,-AB89)","v":0},null,null,{"$f":"MIN(S89:S92)","v":0}]
["T-102",null,null,null,null,null,null,null,null,null,null,null,null,null,null,null,null,"",0,null,0]
["T-103",null,null,null,null,null,null,null,null,null,null,null,null,null,null,null,null,"",0,null,0]
["T-104",null,null,null,null,null,null,null,null,null,null,null,null,null,null,null,null,"",0,null,0]
[]
["U-101",null,null,null,null,null,null,null,null,null,null,null,null,null,null,null,null,{"$f":"IF(Q94=\"1violation\",-7*1,IF(Q94=\"2violations\",-7*2,IF(Q94=\"3violations\",-7*3,IF(Q94=\"\",\"\"))))","v":""},{"$f":"SUM(L94,N94,P94,R94)","v":0},null,{"$f":"SUM(K94,M94,O94)","v":0},null,null,null,{"$f":"SUM(S94,S96,S95,S97,-AB94)","v":0},null,null,{"$f":"MIN(S94:S97)","v":0}]
["U-102",null,null,null,null,null,null,null,null,null,null,null,null,null,null,null,null,"",0,null,0]
["U-103",null,null,null,null,null,null,null,null,null,null,null,null,null,null,null,null,"",0,null,0]
["U-104",null,null,null,null,null,null,null,null,null,null,null,null,null,null,null,null,"",0,null,0]
[]
["V-101",null,null,null,null,null,null,null,null,null,null,null,null,null,null,null,null,{"$f":"IF(Q99=\"1violation\",-7*1,IF(Q99=\"2violations\",-7*2,IF(Q99=\"3violations\",-7*3,IF(Q99=\"\",\"\"))))","v":""},{"$f":"SUM(L99,N99,P99,R99)","v":0},null,{"$f":"SUM(K99,M99,O99)","v":0},null,null,null,{"$f":"SUM(S99,S101,S100,S102,-AB99)","v":0},null,null,{"$f":"MIN(S99:S102)","v":0}]
["V-102",null,null,null,null,null,null,null,null,null,null,null,null,null,null,null,null,"",0,null,0]
["V-103",null,null,null,null,null,null,null,null,null,null,null,null,null,null,null,null,"",0,null,0]
["V-104",null,null,null,null,null,null,null,null,null,null,null,null,null,null,null,null,"",0,null,0]
[]
["W-101",null,null,null,null,null,null,null,null,null,null,null,null,null,null,null,null,{"$f":"IF(Q104=\"1violation\",-7*1,IF(Q104=\"2violations\",-7*2,IF(Q104=\"3violations\",-7*3,IF(Q104=\"\",\"\"))))","v":""},{"$f":"SUM(L104,N104,P104,R104)","v":0},null,{"$f":"SUM(K104,M104,O104)","v":0},null,null,null,{"$f":"SUM(S104,S106,S105,S107,-AB104)","v":0},null,null,{"$f":"MIN(S104:S107)","v":0}]
["W-102",null,null,null,null,null,null,null,null,null,null,null,null,null,null,null,null,"",0,null,0]
["W-103",null,null,null,null,null,null,null,null,null,null,null,null,null,null,null,null,"",0,null,0]
["W-104",null,null,null,null,null,null,null,null,null,null,null,null,null,null,null,null,"",0,null,0]
[]
["X-101",null,null,null,null,null,null,null,null,null,null,null,null,null,null,null,null,{"$f":"IF(Q109=\"1violation\",-7*1,IF(Q109=\"2violations\",-7*2,IF(Q109=\"3violations\",-7*3,IF(Q109=\"\",\"\"))))","v":""},{"$f":"SUM(L109,N109,P109,R109)","v":0},null,{"$f":"SUM(K109,M109,O109)","v":0},null,null,null,{"$f":"SUM(S109,S111,S110,S112,-AB109)","v":0},null,null,{"$f":"MIN(S109:S112)","v":0}]
["X-102",null,null,null,null,null,null,null,null,null,null,null,null,null,null,null,null,"",0,null,0]
["X-103",null,null,null,null,null,null,null,null,null,null,null,null,null,null,null,null,"",0,null,0]
["X-104",null,null,null,null,null,null,null,null,null,null,null,null,null,null,null,null,"",0,null,0]
[]
["Y-101",null,null,null,null,null,null,null,null,null,null,null,null,null,null,null,null,{"$f":"IF(Q114=\"1violation\",-7*1,IF(Q114=\"2violations\",-7*2,IF(Q114=\"3violations\",-7*3,IF(Q114=\"\",\"\"))))","v":""},{"$f":"SUM(L114,N114,P114,R114)","v":0},null,{"$f":"SUM(K114,M114,O114)","v":0},null,null,null,{"$f":"SUM(S114,S116,S115,S117,-AB114)","v":0},null,null,{"$f":"MIN(S114:S117)","v":0}]
["Y-102",null,null,null,null,null,null,null,null,null,null,null,null,null,null,null,null,"",0,null,0]
["Y-103",null,null,null,null,null,null,null,null,null,null,null,null,null,null,null,null,"",0,null,0]
["Y-104",null,null,null,null,null,null,null,null,null,null,null,null,null,null,null,null,"",0,null,0]
[]
["Z-101",null,null,null,null,null,null,null,null,null,null,null,null,null,null,null,null,{"$f":"IF(Q119=\"1violation\",-7*1,IF(Q119=\"2violations\",-7*2,IF(Q119=\"3violations\",-7*3,IF(Q119=\"\",\"\"))))","v":""},{"$f":"SUM(L119,N119,P119,R119)","v":0},null,{"$f":"SUM(K119,M119,O119)","v":0},null,null,null,{"$f":"SUM(S119,S121,S120,S122,-AB119)","v":0},null,null,{"$f":"MIN(S119:S122)","v":0}]
["Z-102",null,null,null,null,null,null,null,null,null,null,null,null,null,null,null,null,"",0,null,0]
["Z-103",null,null,null,null,null,null,null,null,null,null,null,null,null,null,null,null,"",0,null,0]
["Z-104",null,null,null,null,null,null,null,null,null,null,null,null,null,null,null,null,"",0,null,0]
[]
["AA-101",null,null,null,null,null,null,null,null,null,null,null,null,null,null,null,null,{"$f":"IF(Q124=\"1violation\",-7*1,IF(Q124=\"2violations\",-7*2,IF(Q124=\"3violations\",-7*3,IF(Q124=\"\",\"\"))))","v":""},{"$f":"SUM(L124,N124,P124,R124)","v":0},null,{"$f":"SUM(K124,M124,O124)","v":0},null,null,null,{"$f":"SUM(S124,S126,S125,S127,-AB124)","v":0},null,null,{"$f":"MIN(S124:S127)","v":0}]
["AA-102",null,null,null,null,null,null,null,null,null,null,null,null,null,null,null,null,"",0,null,0]
["AA-103",null,null,null,null,null,null,null,null,null,null,null,null,null,null,null,null,"",0,null,0]
["AA-104",null,null,null,null,null,null,null,null,null,null,null,null,null,null,null,null,"",0,null,0]
[]
["BB-101",null,null,null,null,null,null,null,null,null,null,null,null,null,null,null,null,{"$f":"IF(Q129=\"1violation\",-7*1,IF(Q129=\"2violations\",-7*2,IF(Q129=\"3violations\",-7*3,IF(Q129=\"\",\"\"))))","v":""},{"$f":"SUM(L129,N129,P129,R129)","v":0},null,{"$f":"SUM(K129,M129,O129)","v":0},null,null,null,{"$f":"SUM(S129,S131,S130,S132,-AB129)","v":0},null,null,{"$f":"MIN(S129:S132)","v":0}]
["BB-102",null,null,null,null,null,null,null,null,null,null,null,null,null,null,null,null,"",0,null,0]
["BB-103",null,null,null,null,null,null,null,null,null,null,null,null,null,null,null,null,"",0,null,0]
["BB-104",null,null,null,null,null,null,null,null,null,null,null,null,null,null,null,null,"",0,null,0]
[]
["CC-101",null,null,null,null,null,null,null,null,null,null,null,null,null,null,null,null,{"$f":"IF(Q134=\"1violation\",-7*1,IF(Q134=\"2violations\",-7*2,IF(Q134=\"3violations\",-7*3,IF(Q134=\"\",\"\"))))","v":""},{"$f":"SUM(L134,N134,P134,R134)","v":0},null,{"$f":"SUM(K134,M134,O134)","v":0},null,null,null,{"$f":"SUM(S134,S136,S135,S137,-AB134)","v":0},null,null,{"$f":"MIN(S134:S137)","v":0}]
["CC-102",null,null,null,null,null,null,null,null,null,null,null,null,null,null,null,null,"",0,null,0]
["CC-103",null,null,null,null,null,null,null,null,null,null,null,null,null,null,null,null,"",0,null,0]
["CC-104",null,null,null,null,null,null,null,null,null,null,null,null,null,null,null,null,"",0,null,0]
[]
["DD-101",null,null,null,null,null,null,null,null,null,null,null,null,null,null,null,null,{"$f":"IF(Q139=\"1violation\",-7*1,IF(Q139=\"2violations\",-7*2,IF(Q139=\"3violations\",-7*3,IF(Q139=\"\",\"\"))))","v":""},{"$f":"SUM(L139,N139,P139,R139)","v":0},null,{"$f":"SUM(K139,M139,O139)","v":0},null,null,null,{"$f":"SUM(S139,S141,S140,S142,-AB139)","v":0},null,null,{"$f":"MIN(S139:S142)","v":0}]
["DD-102",null,null,null,null,null,null,null,null,null,null,null,null,null,null,null,null,"",0,null,0]
["DD-103",null,null,null,null,null,null,null,null,null,null,null,null,null,null,null,null,"",0,null,0]
["DD-104",null,null,null,null,null,null,null,null,null,null,null,null,null,null,null,null,"",0,null,0]
[]
["EE-101",null,null,null,null,null,null,null,null,null,null,null,null,null,null,null,null,{"$f":"IF(Q144=\"1violation\",-7*1,IF(Q144=\"2violations\",-7*2,IF(Q144=\"3violations\",-7*3,IF(Q144=\"\",\"\"))))","v":""},{"$f":"SUM(L144,N144,P144,R144)","v":0},null,{"$f":"SUM(K144,M144,O144)","v":0},null,null,null,{"$f":"SUM(S144,S146,S145,S147,-AB144)","v":0},null,null,{"$f":"MIN(S144:S147)","v":0}]
["EE-102",null,null,null,null,null,null,null,null,null,null,null,null,null,null,null,null,"",0,null,0]
["EE-103",null,null,null,null,null,null,null,null,null,null,null,null,null,null,null,null,"",0,null,0]
["EE-104",null,null,null,null,null,null,null,null,null,null,null,null,null,null,null,null,"",0,null,0]
[]
["FF-101",null,null,null,null,null,null,null,null,null,null,null,null,null,null,null,null,{"$f":"IF(Q149=\"1violation\",-7*1,IF(Q149=\"2violations\",-7*2,IF(Q149=\"3violations\",-7*3,IF(Q149=\"\",\"\"))))","v":""},{"$f":"SUM(L149,N149,P149,R149)","v":0},null,{"$f":"SUM(K149,M149,O149)","v":0},null,null,null,{"$f":"SUM(S149,S151,S150,S152,-AB149)","v":0},null,null,{"$f":"MIN(S149:S152)","v":0}]
["FF-102",null,null,null,null,null,null,null,null,null,null,null,null,null,null,null,null,"",0,null,0]
["FF-103",null,null,null,null,null,null,null,null,null,null,null,null,null,null,null,null,"",0,null,0]
["FF-104",null,null,null,null,null,null,null,null,null,null,null,null,null,null,null,null,"",0,null,0]

{"sheet":"HumorousMR","index":2,"n_rows":122,"n_cols":12,"rows_kept":122,"cut":false,"hidden":false,"merged":[]}
["Humorous",null,null,null,"Finals Medals Round Scores"]
["ID","Rank","Score","LeaveBlank","MR 1 Rank","MR 1 Score","MR2 Rank","MR 2 Score","MR3 Rank","MR 3 Score","Total MR Rank","Total MR Score"]
[{"$f":"'Humorous Monologues'!A5","v":"A-102"},{"$f":"'Humorous Monologues'!U5","v":7},{"$f":"'Humorous Monologues'!S5","v":74},{"$f":"IF((HumorousMR!$B3+HumorousMR!$C3)>0,1,0)","v":1},null,null,null,null,null,null,{"$f":"SUM(E3,G3,I3)","v":0},0]
[{"$f":"'Humorous Monologues'!A6","v":"A-103"},{"$f":"'Humorous Monologues'!U6","v":4},{"$f":"'Humorous Monologues'!S6","v":72},{"$f":"IF((HumorousMR!$B4+HumorousMR!$C4)>0,1,0)","v":1},2.0,25.0,2.0,24.0,5.0,23.0,{"$f":"SUM(E4,G4,I4)","v":9},72]
[{"$f":"'Humorous Monologues'!A9","v":"B-101"},{"$f":"'Humorous Monologues'!U9","v":12},{"$f":"'Humorous Monologues'!S9","v":66},{"$f":"IF((HumorousMR!$B5+HumorousMR!$C5)>0,1,0)","v":1},null,null,null,null,null,null,{"$f":"SUM(E5,G5,I5)","v":0},0]
[{"$f":"'Humorous Monologues'!A7","v":"A-104"},{"$f":"'Humorous Monologues'!U7","v":9},{"$f":"'Humorous Monologues'!S7","v":69},{"$f":"IF((HumorousMR!$B6+HumorousMR!$C6)>0,1,0)","v":1},null,null,null,null,null,null,{"$f":"SUM(E6,G6,I6)","v":0},0]
[{"$f":"'Humorous Monologues'!A14","v":"C-101"},{"$f":"'Humorous Monologues'!U14","v":6},{"$f":"'Humorous Monologues'!S14","v":74},{"$f":"IF((HumorousMR!$B7+HumorousMR!$C7)>0,1,0)","v":1},1.0,25.0,6.0,22.0,6.0,22.0,{"$f":"SUM(E7,G7,I7)","v":13},69]
[{"$f":"'Humorous Monologues'!A4","v":"A-101"},{"$f":"'Humorous Monologues'!U4","v":6},{"$f":"'Humorous Monologues'!S4","v":67},{"$f":"IF((HumorousMR!$B8+HumorousMR!$C8)>0,1,0)","v":1},null,null,null,null,null,null,{"$f":"SUM(E8,G8,I8)","v":0},0]
[{"$f":"'Humorous Monologues'!A11","v":"B-103"},{"$f":"'Humorous Monologues'!U11","v":0},{"$f":"'Humorous Monologues'!S11","v":0},{"$f":"IF((HumorousMR!$B9+HumorousMR!$C9)>0,1,0)","v":0},null,null,null,null,null,null,{"$f":"SUM(E9,G9,I9)","v":0},0]
[{"$f":"'Humorous Monologues'!A10","v":"B-102"},{"$f":"'Humorous Monologues'!U10","v":0},{"$f":"'Humorous Monologues'!S10","v":0},{"$f":"IF((HumorousMR!$B10+HumorousMR!$C10)>0,1,0)","v":0},null,null,null,null,null,null,{"$f":"SUM(E10,G10,I10)","v":0},0]
[{"$f":"'Humorous Monologues'!A12","v":"B-104"},{"$f":"'Humorous Monologues'!U12","v":0},{"$f":"'Humorous Monologues'!S12","v":0},{"$f":"IF((HumorousMR!$B11+HumorousMR!$C11)>0,1,0)","v":0},null,null,null,null,null,null,{"$f":"SUM(E11,G11,I11)","v":0},0]
[{"$f":"'Humorous Monologues'!A124","v":"AA-101"},{"$f":"'Humorous Monologues'!U124","v":0},{"$f":"'Humorous Monologues'!S124","v":0},{"$f":"IF((HumorousMR!$B12+HumorousMR!$C12)>0,1,0)","v":0},null,null,null,null,null,null,{"$f":"SUM(E12,G12,I12)","v":0},0]
[{"$f":"'Humorous Monologues'!A125","v":"AA-102"},{"$f":"'Humorous Monologues'!U125","v":0},{"$f":"'Humorous Monologues'!S125","v":0},{"$f":"IF((HumorousMR!$B13+HumorousMR!$C13)>0,1,0)","v":0},null,null,null,null,null,null,{"$f":"SUM(E13,G13,I13)","v":0},0]
[{"$f":"'Humorous Monologues'!A126","v":"AA-103"},{"$f":"'Humorous Monologues'!U126","v":0},{"$f":"'Humorous Monologues'!S126","v":0},{"$f":"IF((HumorousMR!$B14+HumorousMR!$C14)>0,1,0)","v":0},null,null,null,null,null,null,{"$f":"SUM(E14,G14,I14)","v":0},0]
[{"$f":"'Humorous Monologues'!A127","v":"AA-104"},{"$f":"'Humorous Monologues'!U127","v":0},{"$f":"'Humorous Monologues'!S127","v":0},{"$f":"IF((HumorousMR!$B15+HumorousMR!$C15)>0,1,0)","v":0},null,null,null,null,null,null,{"$f":"SUM(E15,G15,I15)","v":0},0]
[{"$f":"'Humorous Monologues'!A129","v":"BB-101"},{"$f":"'Humorous Monologues'!U129","v":0},{"$f":"'Humorous Monologues'!S129","v":0},{"$f":"IF((HumorousMR!$B16+HumorousMR!$C16)>0,1,0)","v":0},null,null,null,null,null,null,{"$f":"SUM(E16,G16,I16)","v":0},0]
[{"$f":"'Humorous Monologues'!A130","v":"BB-102"},{"$f":"'Humorous Monologues'!U130","v":0},{"$f":"'Humorous Monologues'!S130","v":0},{"$f":"IF((HumorousMR!$B17+HumorousMR!$C17)>0,1,0)","v":0},null,null,null,null,null,null,{"$f":"SUM(E17,G17,I17)","v":0},0]
[{"$f":"'Humorous Monologues'!A131","v":"BB-103"},{"$f":"'Humorous Monologues'!U131","v":0},{"$f":"'Humorous Monologues'!S131","v":0},{"$f":"IF((HumorousMR!$B18+HumorousMR!$C18)>0,1,0)","v":0},null,null,null,null,null,null,{"$f":"SUM(E18,G18,I18)","v":0},0]
[{"$f":"'Humorous Monologues'!A132","v":"BB-104"},{"$f":"'Humorous Monologues'!U132","v":0},{"$f":"'Humorous Monologues'!S132","v":0},{"$f":"IF((HumorousMR!$B19+HumorousMR!$C19)>0,1,0)","v":0},null,null,null,null,null,null,{"$f":"SUM(E19,G19,I19)","v":0},0]
[{"$f":"'Humorous Monologues'!A15","v":"C-102"},{"$f":"'Humorous Monologues'!U15","v":4},{"$f":"'Humorous Monologues'!S15","v":73},{"$f":"IF((HumorousMR!$B20+HumorousMR!$C20)>0,1,0)","v":1},6.0,21.0,6.0,23.0,6.0,22.0,{"$f":"SUM(E20,G20,I20)","v":18},66]
[{"$f":"'Humorous Monologues'!A16","v":"C-103"},{"$f":"'Humorous Monologues'!U16","v":3},{"$f":"'Humorous Monologues'!S16","v":74},{"$f":"IF((HumorousMR!$B21+HumorousMR!$C21)>0,1,0)","v":1},6.0,21.0,1.0,24.0,1.0,24.0,{"$f":"SUM(E21,G21,I21)","v":8},69]
[{"$f":"'Humorous Monologues'!A17","v":"C-104"},{"$f":"'Humorous Monologues'!U17","v":10},{"$f":"'Humorous Monologues'!S17","v":69},{"$f":"IF((HumorousMR!$B22+HumorousMR!$C22)>0,1,0)","v":1},null,null,null,null,null,null,{"$f":"SUM(E22,G22,I22)","v":0},0]
[{"$f":"'Humorous Monologues'!A134","v":"CC-101"},{"$f":"'Humorous Monologues'!U134","v":0},{"$f":"'Humorous Monologues'!S134","v":0},{"$f":"IF((HumorousMR!$B23+HumorousMR!$C23)>0,1,0)","v":0},null,null,null,null,null,null,{"$f":"SUM(E23,G23,I23)","v":0},0]
[{"$f":"'Humorous Monologues'!A135","v":"CC-102"},{"$f":"'Humorous Monologues'!U135","v":0},{"$f":"'Humorous Monologues'!S135","v":0},{"$f":"IF((HumorousMR!$B24+HumorousMR!$C24)>0,1,0)","v":0},null,null,null,null,null,null,{"$f":"SUM(E24,G24,I24)","v":0},0]
[{"$f":"'Humorous Monologues'!A136","v":"CC-103"},{"$f":"'Humorous Monologues'!U136","v":0},{"$f":"'Humorous Monologues'!S136","v":0},{"$f":"IF((HumorousMR!$B25+HumorousMR!$C25)>0,1,0)","v":0},null,null,null,null,null,null,{"$f":"SUM(E25,G25,I25)","v":0},0]
[{"$f":"'Humorous Monologues'!A137","v":"CC-104"},{"$f":"'Humorous Monologues'!U137","v":0},{"$f":"'Humorous Monologues'!S137","v":0},{"$f":"IF((HumorousMR!$B26+HumorousMR!$C26)>0,1,0)","v":0},null,null,null,null,null,null,{"$f":"SUM(E26,G26,I26)","v":0},0]
[{"$f":"'Humorous Monologues'!A19","v":"D-101"},{"$f":"'Humorous Monologues'!U19","v":0},{"$f":"'Humorous Monologues'!S19","v":0},{"$f":"IF((HumorousMR!$B27+HumorousMR!$C27)>0,1,0)","v":0},null,null,null,null,null,null,{"$f":"SUM(E27,G27,I27)","v":0},0]
[{"$f":"'Humorous Monologues'!A20","v":"D-102"},{"$f":"'Humorous Monologues'!U20","v":0},{"$f":"'Humorous Monologues'!S20","v":0},{"$f":"IF((HumorousMR!$B28+HumorousMR!$C28)>0,1,0)","v":0},null,null,null,null,null,null,{"$f":"SUM(E28,G28,I28)","v":0},0]
[{"$f":"'Humorous Monologues'!A21","v":"D-103"},{"$f":"'Humorous Monologues'!U21","v":0},{"$f":"'Humorous Monologues'!S21","v":0},{"$f":"IF((HumorousMR!$B29+HumorousMR!$C29)>0,1,0)","v":0},null,null,null,null,null,null,{"$f":"SUM(E29,G29,I29)","v":0},0]
[{"$f":"'Humorous Monologues'!A22","v":"D-104"},{"$f":"'Humorous Monologues'!U22","v":0},{"$f":"'Humorous Monologues'!S22","v":0},{"$f":"IF((HumorousMR!$B30+HumorousMR!$C30)>0,1,0)","v":0},null,null,null,null,null,null,{"$f":"SUM(E30,G30,I30)","v":0},0]
[{"$f":"'Humorous Monologues'!A139","v":"DD-101"},{"$f":"'Humorous Monologues'!U139","v":0},{"$f":"'Humorous Monologues'!S139","v":0},{"$f":"IF((HumorousMR!$B31+HumorousMR!$C31)>0,1,0)","v":0},null,null,null,null,null,null,{"$f":"SUM(E31,G31,I31)","v":0},0]
[{"$f":"'Humorous Monologues'!A140","v":"DD-102"},{"$f":"'Humorous Monologues'!U140","v":0},{"$f":"'Humorous Monologues'!S140","v":0},{"$f":"IF((HumorousMR!$B32+HumorousMR!$C32)>0,1,0)","v":0},null,null,null,null,null,null,{"$f":"SUM(E32,G32,I32)","v":0},0]
[{"$f":"'Humorous Monologues'!A141","v":"DD-103"},{"$f":"'Humorous Monologues'!U141","v":0},{"$f":"'Humorous Monologues'!S141","v":0},{"$f":"IF((HumorousMR!$B33+HumorousMR!$C33)>0,1,0)","v":0},null,null,null,null,null,null,{"$f":"SUM(E33,G33,I33)","v":0},0]
[{"$f":"'Humorous Monologues'!A142","v":"DD-104"},{"$f":"'Humorous Monologues'!U142","v":0},{"$f":"'Humorous Monologues'!S142","v":0},{"$f":"IF((HumorousMR!$B34+HumorousMR!$C34)>0,1,0)","v":0},null,null,null,null,null,null,{"$f":"SUM(E34,G34,I34)","v":0},0]
[{"$f":"'Humorous Monologues'!A24","v":"E-101"},{"$f":"'Humorous Monologues'!U24","v":5},{"$f":"'Humorous Monologues'!S24","v":71},{"$f":"IF((HumorousMR!$B35+HumorousMR!$C35)>0,1,0)","v":1},5.0,22.0,6.0,21.0,2.0,24.0,{"$f":"SUM(E35,G35,I35)","v":13},67]
[{"$f":"'Humorous Monologues'!A25","v":"E-102"},{"$f":"'Humorous Monologues'!U25","v":6},{"$f":"'Humorous Monologues'!S25","v":75},{"$f":"IF((HumorousMR!$B36+HumorousMR!$C36)>0,1,0)","v":1},3.0,23.0,5.0,23.0,4.0,23.0,{"$f":"SUM(E36,G36,I36)","v":12},69]
[{"$f":"'Humorous Monologues'!A26","v":"E-103"},{"$f":"'Humorous Monologues'!U26","v":11},{"$f":"'Humorous Monologues'!S26","v":71},{"$f":"IF((HumorousMR!$B37+HumorousMR!$C37)>0,1,0)","v":1},null,null,null,null,null,null,{"$f":"SUM(E37,G37,I37)","v":0},0]
[{"$f":"'Humorous Monologues'!A27","v":"E-104"},{"$f":"'Humorous Monologues'!U27","v":9},{"$f":"'Humorous Monologues'!S27","v":66},{"$f":"IF((HumorousMR!$B38+HumorousMR!$C38)>0,1,0)","v":1},null,null,null,null,null,null,{"$f":"SUM(E38,G38,I38)","v":0},0]
[{"$f":"'Humorous Monologues'!A144","v":"EE-101"},{"$f":"'Humorous Monologues'!U144","v":0},{"$f":"'Humorous Monologues'!S144","v":0},{"$f":"IF((HumorousMR!$B39+HumorousMR!$C39)>0,1,0)","v":0},null,null,null,null,null,null,{"$f":"SUM(E39,G39,I39)","v":0},0]
[{"$f":"'Humorous Monologues'!A145","v":"EE-102"},{"$f":"'Humorous Monologues'!U145","v":0},{"$f":"'Humorous Monologues'!S145","v":0},{"$f":"IF((HumorousMR!$B40+HumorousMR!$C40)>0,1,0)","v":0},null,null,null,null,null,null,{"$f":"SUM(E40,G40,I40)","v":0},0]
[{"$f":"'Humorous Monologues'!A146","v":"EE-103"},{"$f":"'Humorous Monologues'!U146","v":0},{"$f":"'Humorous Monologues'!S146","v":0},{"$f":"IF((HumorousMR!$B41+HumorousMR!$C41)>0,1,0)","v":0},null,null,null,null,null,null,{"$f":"SUM(E41,G41,I41)","v":0},0]
[{"$f":"'Humorous Monologues'!A147","v":"EE-104"},{"$f":"'Humorous Monologues'!U147","v":0},{"$f":"'Humorous Monologues'!S147","v":0},{"$f":"IF((HumorousMR!$B42+HumorousMR!$C42)>0,1,0)","v":0},null,null,null,null,null,null,{"$f":"SUM(E42,G42,I42)","v":0},0]
[{"$f":"'Humorous Monologues'!A29","v":"F-101"},{"$f":"'Humorous Monologues'!U29","v":9},{"$f":"'Humorous Monologues'!S29","v":75},{"$f":"IF((HumorousMR!$B43+HumorousMR!$C43)>0,1,0)","v":1},null,null,null,null,null,null,{"$f":"SUM(E43,G43,I43)","v":0},0]
[{"$f":"'Humorous Monologues'!A30","v":"F-102"},{"$f":"'Humorous Monologues'!U30","v":11},{"$f":"'Humorous Monologues'!S30","v":68},{"$f":"IF((HumorousMR!$B44+HumorousMR!$C44)>0,1,0)","v":1},null,null,null,null,null,null,{"$f":"SUM(E44,G44,I44)","v":0},0]
[{"$f":"'Humorous Monologues'!A31","v":"F-103"},{"$f":"'Humorous Monologues'!U31","v":12},{"$f":"'Humorous Monologues'!S31","v":60},{"$f":"IF((HumorousMR!$B45+HumorousMR!$C45)>0,1,0)","v":1},null,null,null,null,null,null,{"$f":"SUM(E45,G45,I45)","v":0},0]
[{"$f":"'Humorous Monologues'!A32","v":"F-104"},{"$f":"'Humorous Monologues'!U32","v":11},{"$f":"'Humorous Monologues'!S32","v":68},{"$f":"IF((HumorousMR!$B46+HumorousMR!$C46)>0,1,0)","v":1},null,null,null,null,null,null,{"$f":"SUM(E46,G46,I46)","v":0},0]
[{"$f":"'Humorous Monologues'!A149","v":"FF-101"},{"$f":"'Humorous Monologues'!U149","v":0},{"$f":"'Humorous Monologues'!S149","v":0},{"$f":"IF((HumorousMR!$B47+HumorousMR!$C47)>0,1,0)","v":0},null,null,null,null,null,null,{"$f":"SUM(E47,G47,I47)","v":0},0]
[{"$f":"'Humorous Monologues'!A150","v":"FF-102"},{"$f":"'Humorous Monologues'!U150","v":0},{"$f":"'Humorous Monologues'!S150","v":0},{"$f":"IF((HumorousMR!$B48+HumorousMR!$C48)>0,1,0)","v":0},null,null,null,null,null,null,{"$f":"SUM(E48,G48,I48)","v":0},0]
[{"$f":"'Humorous Monologues'!A151","v":"FF-103"},{"$f":"'Humorous Monologues'!U151","v":0},{"$f":"'Humorous Monologues'!S151","v":0},{"$f":"IF((HumorousMR!$B49+HumorousMR!$C49)>0,1,0)","v":0},null,null,null,null,null,null,{"$f":"SUM(E49,G49,I49)","v":0},0]
[{"$f":"'Humorous Monologues'!A152","v":"FF-104"},{"$f":"'Humorous Monologues'!U152","v":0},{"$f":"'Humorous Monologues'!S152","v":0},{"$f":"IF((HumorousMR!$B50+HumorousMR!$C50)>0,1,0)","v":0},null,null,null,null,null,null,{"$f":"SUM(E50,G50,I50)","v":0},0]
[{"$f":"'Humorous Monologues'!A34","v":"G-101"},{"$f":"'Humorous Monologues'!U34","v":0},{"$f":"'Humorous Monologues'!S34","v":0},{"$f":"IF((HumorousMR!$B51+HumorousMR!$C51)>0,1,0)","v":0},null,null,null,null,null,null,{"$f":"SUM(E51,G51,I51)","v":0},0]
[{"$f":"'Humorous Monologues'!A35","v":"G-102"},{"$f":"'Humorous Monologues'!U35","v":0},{"$f":"'Humorous Monologues'!S35","v":0},{"$f":"IF((HumorousMR!$B52+HumorousMR!$C52)>0,1,0)","v":0},null,null,null,null,null,null,{"$f":"SUM(E52,G52,I52)","v":0},0]
[{"$f":"'Humorous Monologues'!A36","v":"G-103"},{"$f":"'Humorous Monologues'!U36","v":0},{"$f":"'Humorous Monologues'!S36","v":0},{"$f":"IF((HumorousMR!$B53+HumorousMR!$C53)>0,1,0)","v":0},null,null,null,null,null,null,{"$f":"SUM(E53,G53,I53)","v":0},0]
[{"$f":"'Humorous Monologues'!A37","v":"G-104"},{"$f":"'Humorous Monologues'!U37","v":0},{"$f":"'Humorous Monologues'!S37","v":0},{"$f":"IF((HumorousMR!$B54+HumorousMR!$C54)>0,1,0)","v":0},null,null,null,null,null,null,{"$f":"SUM(E54,G54,I54)","v":0},0]
[{"$f":"'Humorous Monologues'!A39","v":"H-101"},{"$f":"'Humorous Monologues'!U39","v":10},{"$f":"'Humorous Monologues'!S39","v":69},{"$f":"IF((HumorousMR!$B55+HumorousMR!$C55)>0,1,0)","v":1},null,null,null,null,null,null,{"$f":"SUM(E55,G55,I55)","v":0},0]
[{"$f":"'Humorous Monologues'!A40","v":"H-102"},{"$f":"'Humorous Monologues'!U40","v":12},{"$f":"'Humorous Monologues'!S40","v":63},{"$f":"IF((HumorousMR!$B56+HumorousMR!$C56)>0,1,0)","v":1},null,null,null,null,null,null,{"$f":"SUM(E56,G56,I56)","v":0},0]
[{"$f":"'Humorous Monologues'!A41","v":"H-103"},{"$f":"'Humorous Monologues'!U41","v":10},{"$f":"'Humorous Monologues'!S41","v":69},{"$f":"IF((HumorousMR!$B57+HumorousMR!$C57)>0,1,0)","v":1},null,null,null,null,null,null,{"$f":"SUM(E57,G57,I57)","v":0},0]
[{"$f":"'Humorous Monologues'!A42","v":"H-104"},{"$f":"'Humorous Monologues'!U42","v":8},{"$f":"'Humorous Monologues'!S42","v":69},{"$f":"IF((HumorousMR!$B58+HumorousMR!$C58)>0,1,0)","v":1},null,null,null,null,null,null,{"$f":"SUM(E58,G58,I58)","v":0},0]
[{"$f":"'Humorous Monologues'!A44","v":"J-101"},{"$f":"'Humorous Monologues'!U44","v":0},{"$f":"'Humorous Monologues'!S44","v":0},{"$f":"IF((HumorousMR!$B59+HumorousMR!$C59)>0,1,0)","v":0},null,null,null,null,null,null,{"$f":"SUM(E59,G59,I59)","v":0},0]
[{"$f":"'Humorous Monologues'!A45","v":"J-102"},{"$f":"'Humorous Monologues'!U45","v":0},{"$f":"'Humorous Monologues'!S45","v":0},{"$f":"IF((HumorousMR!$B60+HumorousMR!$C60)>0,1,0)","v":0},null,null,null,null,null,null,{"$f":"SUM(E60,G60,I60)","v":0},0]
[{"$f":"'Humorous Monologues'!A46","v":"J-103"},{"$f":"'Humorous Monologues'!U46","v":0},{"$f":"'Humorous Monologues'!S46","v":0},{"$f":"IF((HumorousMR!$B61+HumorousMR!$C61)>0,1,0)","v":0},null,null,null,null,null,null,{"$f":"SUM(E61,G61,I61)","v":0},0]
[{"$f":"'Humorous Monologues'!A47","v":"J-104"},{"$f":"'Humorous Monologues'!U47","v":0},{"$f":"'Humorous Monologues'!S47","v":0},{"$f":"IF((HumorousMR!$B62+HumorousMR!$C62)>0,1,0)","v":0},null,null,null,null,null,null,{"$f":"SUM(E62,G62,I62)","v":0},0]
[{"$f":"'Humorous Monologues'!A49","v":"K-101"},{"$f":"'Humorous Monologues'!U49","v":0},{"$f":"'Humorous Monologues'!S49","v":0},{"$f":"IF((HumorousMR!$B63+HumorousMR!$C63)>0,1,0)","v":0},null,null,null,null,null,null,{"$f":"SUM(E63,G63,I63)","v":0},0]
[{"$f":"'Humorous Monologues'!A50","v":"K-102"},{"$f":"'Humorous Monologues'!U50","v":0},{"$f":"'Humorous Monologues'!S50","v":0},{"$f":"IF((HumorousMR!$B64+HumorousMR!$C64)>0,1,0)","v":0},null,null,null,null,null,null,{"$f":"SUM(E64,G64,I64)","v":0},0]
[{"$f":"'Humorous Monologues'!A51","v":"K-103"},{"$f":"'Humorous Monologues'!U51","v":0},{"$f":"'Humorous Monologues'!S51","v":0},{"$f":"IF((HumorousMR!$B65+HumorousMR!$C65)>0,1,0)","v":0},null,null,null,null,null,null,{"$f":"SUM(E65,G65,I65)","v":0},0]
[{"$f":"'Humorous Monologues'!A52","v":"K-104"},{"$f":"'Humorous Monologues'!U52","v":0},{"$f":"'Humorous Monologues'!S52","v":0},{"$f":"IF((HumorousMR!$B66+HumorousMR!$C66)>0,1,0)","v":0},null,null,null,null,null,null,{"$f":"SUM(E66,G66,I66)","v":0},0]
[{"$f":"'Humorous Monologues'!A54","v":"L-101"},{"$f":"'Humorous Monologues'!U54","v":10},{"$f":"'Humorous Monologues'!S54","v":71},{"$f":"IF((HumorousMR!$B67+HumorousMR!$C67)>0,1,0)","v":1},null,null,null,null,null,null,{"$f":"SUM(E67,G67,I67)","v":0},0]
[{"$f":"'Humorous Monologues'!A55","v":"L-102"},{"$f":"'Humorous Monologues'!U55","v":11},{"$f":"'Humorous Monologues'!S55","v":64},{"$f":"IF((HumorousMR!$B68+HumorousMR!$C68)>0,1,0)","v":1},null,null,null,null,null,null,{"$f":"SUM(E68,G68,I68)","v":0},0]
[{"$f":"'Humorous Monologues'!A56","v":"L-103"},{"$f":"'Humorous Monologues'!U56","v":10},{"$f":"'Humorous Monologues'!S56","v":71},{"$f":"IF((HumorousMR!$B69+HumorousMR!$C69)>0,1,0)","v":1},null,null,null,null,null,null,{"$f":"SUM(E69,G69,I69)","v":0},0]
[{"$f":"'Humorous Monologues'!A57","v":"L-104"},{"$f":"'Humorous Monologues'!U57","v":10},{"$f":"'Humorous Monologues'!S57","v":71},{"$f":"IF((HumorousMR!$B70+HumorousMR!$C70)>0,1,0)","v":1},null,null,null,null,null,null,{"$f":"SUM(E70,G70,I70)","v":0},0]
[{"$f":"'Humorous Monologues'!A59","v":"M-101"},{"$f":"'Humorous Monologues'!U59","v":8},{"$f":"'Humorous Monologues'!S59","v":66},{"$f":"IF((HumorousMR!$B71+HumorousMR!$C71)>0,1,0)","v":1},null,null,null,null,null,null,{"$f":"SUM(E71,G71,I71)","v":0},0]
[{"$f":"'Humorous Monologues'!A60","v":"M-102"},{"$f":"'Humorous Monologues'!U60","v":9},{"$f":"'Humorous Monologues'!S60","v":74},{"$f":"IF((HumorousMR!$B72+HumorousMR!$C72)>0,1,0)","v":1},null,null,null,null,null,null,{"$f":"SUM(E72,G72,I72)","v":0},0]
[{"$f":"'Humorous Monologues'!A61","v":"M-103"},{"$f":"'Humorous Monologues'!U61","v":0},{"$f":"'Humorous Monologues'!S61","v":0},{"$f":"IF((HumorousMR!$B73+HumorousMR!$C73)>0,1,0)","v":0},null,null,null,null,null,null,{"$f":"SUM(E73,G73,I73)","v":0},0]
[{"$f":"'Humorous Monologues'!A62","v":"M-104"},{"$f":"'Humorous Monologues'!U62","v":0},{"$f":"'Humorous Monologues'!S62","v":0},{"$f":"IF((HumorousMR!$B74+HumorousMR!$C74)>0,1,0)","v":0},null,null,null,null,null,null,{"$f":"SUM(E74,G74,I74)","v":0},0]
[{"$f":"'Humorous Monologues'!A64","v":"N-101"},{"$f":"'Humorous Monologues'!U64","v":0},{"$f":"'Humorous Monologues'!S64","v":0},{"$f":"IF((HumorousMR!$B75+HumorousMR!$C75)>0,1,0)","v":0},null,null,null,null,null,null,{"$f":"SUM(E75,G75,I75)","v":0},0]
[{"$f":"'Humorous Monologues'!A65","v":"N-102"},{"$f":"'Humorous Monologues'!U65","v":0},{"$f":"'Humorous Monologues'!S65","v":0},{"$f":"IF((HumorousMR!$B76+HumorousMR!$C76)>0,1,0)","v":0},null,null,null,null,null,null,{"$f":"SUM(E76,G76,I76)","v":0},0]
[{"$f":"'Humorous Monologues'!A66","v":"N-103"},{"$f":"'Humorous Monologues'!U66","v":0},{"$f":"'Humorous Monologues'!S66","v":0},{"$f":"IF((HumorousMR!$B77+HumorousMR!$C77)>0,1,0)","v":0},null,null,null,null,null,null,{"$f":"SUM(E77,G77,I77)","v":0},0]
[{"$f":"'Humorous Monologues'!A67","v":"N-104"},{"$f":"'Humorous Monologues'!U67","v":0},{"$f":"'Humorous Monologues'!S67","v":0},{"$f":"IF((HumorousMR!$B78+HumorousMR!$C78)>0,1,0)","v":0},null,null,null,null,null,null,{"$f":"SUM(E78,G78,I78)","v":0},0]
[{"$f":"'Humorous Monologues'!A69","v":"P-101"},{"$f":"'Humorous Monologues'!U69","v":7},{"$f":"'Humorous Monologues'!S69","v":72},{"$f":"IF((HumorousMR!$B79+HumorousMR!$C79)>0,1,0)","v":1},null,null,null,null,null,null,{"$f":"SUM(E79,G79,I79)","v":0},0]
[{"$f":"'Humorous Monologues'!A70","v":"P-102"},{"$f":"'Humorous Monologues'!U70","v":4},{"$f":"'Humorous Monologues'!S70","v":75},{"$f":"IF((HumorousMR!$B80+HumorousMR!$C80)>0,1,0)","v":1},4.0,22.0,3.0,23.0,3.0,24.0,{"$f":"SUM(E80,G80,I80)","v":10},69]
[{"$f":"'Humorous Monologues'!A71","v":"P-103"},{"$f":"'Humorous Monologues'!U71","v":6},{"$f":"'Humorous Monologues'!S71","v":74},{"$f":"IF((HumorousMR!$B81+HumorousMR!$C81)>0,1,0)","v":1},6.0,20.0,4.0,23.0,6.0,23.0,{"$f":"SUM(E81,G81,I81)","v":16},66]
[{"$f":"'Humorous Monologues'!A72","v":"P-104"},{"$f":"'Humorous Monologues'!U72","v":8},{"$f":"'Humorous Monologues'!S72","v":66},{"$f":"IF((HumorousMR!$B82+HumorousMR!$C82)>0,1,0)","v":1},null,null,null,null,null,null,{"$f":"SUM(E82,G82,I82)","v":0},0]
[{"$f":"'Humorous Monologues'!A74","v":"Q-101"},{"$f":"'Humorous Monologues'!U74","v":0},{"$f":"'Humorous Monologues'!S74","v":0},{"$f":"IF((HumorousMR!$B83+HumorousMR!$C83)>0,1,0)","v":0},null,null,null,null,null,null,{"$f":"SUM(E83,G83,I83)","v":0},0]
[{"$f":"'Humorous Monologues'!A75","v":"Q-102"},{"$f":"'Humorous Monologues'!U75","v":0},{"$f":"'Humorous Monologues'!S75","v":0},{"$f":"IF((HumorousMR!$B84+HumorousMR!$C84)>0,1,0)","v":0},null,null,null,null,null,null,{"$f":"SUM(E84,G84,I84)","v":0},0]
[{"$f":"'Humorous Monologues'!A76","v":"Q-103"},{"$f":"'Humorous Monologues'!U76","v":0},{"$f":"'Humorous Monologues'!S76","v":0},{"$f":"IF((HumorousMR!$B85+HumorousMR!$C85)>0,1,0)","v":0},null,null,null,null,null,null,{"$f":"SUM(E85,G85,I85)","v":0},0]
[{"$f":"'Humorous Monologues'!A77","v":"Q-104"},{"$f":"'Humorous Monologues'!U77","v":0},{"$f":"'Humorous Monologues'!S77","v":0},{"$f":"IF((HumorousMR!$B86+HumorousMR!$C86)>0,1,0)","v":0},null,null,null,null,null,null,{"$f":"SUM(E86,G86,I86)","v":0},0]
[{"$f":"'Humorous Monologues'!A79","v":"R-101"},{"$f":"'Humorous Monologues'!U79","v":9},{"$f":"'Humorous Monologues'!S79","v":72},{"$f":"IF((HumorousMR!$B87+HumorousMR!$C87)>0,1,0)","v":1},null,null,null,null,null,null,{"$f":"SUM(E87,G87,I87)","v":0},0]
[{"$f":"'Humorous Monologues'!A80","v":"R-102"},{"$f":"'Humorous Monologues'!U80","v":12},{"$f":"'Humorous Monologues'!S80","v":60},{"$f":"IF((HumorousMR!$B88+HumorousMR!$C88)>0,1,0)","v":1},null,null,null,null,null,null,{"$f":"SUM(E88,G88,I88)","v":0},0]
[{"$f":"'Humorous Monologues'!A81","v":"R-103"},{"$f":"'Humorous Monologues'!U81","v":0},{"$f":"'Humorous Monologues'!S81","v":0},{"$f":"IF((HumorousMR!$B89+HumorousMR!$C89)>0,1,0)","v":0},null,null,null,null,null,null,{"$f":"SUM(E89,G89,I89)","v":0},0]
[{"$f":"'Humorous Monologues'!A82","v":"R-104"},{"$f":"'Humorous Monologues'!U82","v":0},{"$f":"'Humorous Monologues'!S82","v":0},{"$f":"IF((HumorousMR!$B90+HumorousMR!$C90)>0,1,0)","v":0},null,null,null,null,null,null,{"$f":"SUM(E90,G90,I90)","v":0},0]
[{"$f":"'Humorous Monologues'!A84","v":"S-101"},{"$f":"'Humorous Monologues'!U84","v":10},{"$f":"'Humorous Monologues'!S84","v":68},{"$f":"IF((HumorousMR!$B91+HumorousMR!$C91)>0,1,0)","v":1},null,null,null,null,null,null,{"$f":"SUM(E91,G91,I91)","v":0},0]
[{"$f":"'Humorous Monologues'!A85","v":"S-102"},{"$f":"'Humorous Monologues'!U85","v":10},{"$f":"'Humorous Monologues'!S85","v":65},{"$f":"IF((HumorousMR!$B92+HumorousMR!$C92)>0,1,0)","v":1},null,null,null,null,null,null,{"$f":"SUM(E92,G92,I92)","v":0},0]
[{"$f":"'Humorous Monologues'!A86","v":"S-103"},{"$f":"'Humorous Monologues'!U86","v":7},{"$f":"'Humorous Monologues'!S86","v":75},{"$f":"IF((HumorousMR!$B93+HumorousMR!$C93)>0,1,0)","v":1},null,null,null,null,null,null,{"$f":"SUM(E93,G93,I93)","v":0},0]
[{"$f":"'Humorous Monologues'!A87","v":"S-104"},{"$f":"'Humorous Monologues'!U87","v":0},{"$f":"'Humorous Monologues'!S87","v":0},{"$f":"IF((HumorousMR!$B94+HumorousMR!$C94)>0,1,0)","v":0},null,null,null,null,null,null,{"$f":"SUM(E94,G94,I94)","v":0},0]
[{"$f":"'Humorous Monologues'!A89","v":"T-101"},{"$f":"'Humorous Monologues'!U89","v":0},{"$f":"'Humorous Monologues'!S89","v":0},{"$f":"IF((HumorousMR!$B95+HumorousMR!$C95)>0,1,0)","v":0},null,null,null,null,null,null,{"$f":"SUM(E95,G95,I95)","v":0},0]
[{"$f":"'Humorous Monologues'!A90","v":"T-102"},{"$f":"'Humorous Monologues'!U90","v":0},{"$f":"'Humorous Monologues'!S90","v":0},{"$f":"IF((HumorousMR!$B96+HumorousMR!$C96)>0,1,0)","v":0},null,null,null,null,null,null,{"$f":"SUM(E96,G96,I96)","v":0},0]
[{"$f":"'Humorous Monologues'!A91","v":"T-103"},{"$f":"'Humorous Monologues'!U91","v":0},{"$f":"'Humorous Monologues'!S91","v":0},{"$f":"IF((HumorousMR!$B97+HumorousMR!$C97)>0,1,0)","v":0},null,null,null,null,null,null,{"$f":"SUM(E97,G97,I97)","v":0},0]
[{"$f":"'Humorous Monologues'!A92","v":"T-104"},{"$f":"'Humorous Monologues'!U92","v":0},{"$f":"'Humorous Monologues'!S92","v":0},{"$f":"IF((HumorousMR!$B98+HumorousMR!$C98)>0,1,0)","v":0},null,null,null,null,null,null,{"$f":"SUM(E98,G98,I98)","v":0},0]
[{"$f":"'Humorous Monologues'!A94","v":"U-101"},{"$f":"'Humorous Monologues'!U94","v":0},{"$f":"'Humorous Monologues'!S94","v":0},{"$f":"IF((HumorousMR!$B99+HumorousMR!$C99)>0,1,0)","v":0},null,null,null,null,null,null,{"$f":"SUM(E99,G99,I99)","v":0},0]
[{"$f":"'Humorous Monologues'!A95","v":"U-102"},{"$f":"'Humorous Monologues'!U95","v":0},{"$f":"'Humorous Monologues'!S95","v":0},{"$f":"IF((HumorousMR!$B100+HumorousMR!$C100)>0,1,0)","v":0},null,null,null,null,null,null,{"$f":"SUM(E100,G100,I100)","v":0},0]
[{"$f":"'Humorous Monologues'!A96","v":"U-103"},{"$f":"'Humorous Monologues'!U96","v":0},{"$f":"'Humorous Monologues'!S96","v":0},{"$f":"IF((HumorousMR!$B101+HumorousMR!$C101)>0,1,0)","v":0},null,null,null,null,null,null,{"$f":"SUM(E101,G101,I101)","v":0},0]
[{"$f":"'Humorous Monologues'!A97","v":"U-104"},{"$f":"'Humorous Monologues'!U97","v":0},{"$f":"'Humorous Monologues'!S97","v":0},{"$f":"IF((HumorousMR!$B102+HumorousMR!$C102)>0,1,0)","v":0},null,null,null,null,null,null,{"$f":"SUM(E102,G102,I102)","v":0},0]
[{"$f":"'Humorous Monologues'!A99","v":"V-101"},{"$f":"'Humorous Monologues'!U99","v":0},{"$f":"'Humorous Monologues'!S99","v":0},{"$f":"IF((HumorousMR!$B103+HumorousMR!$C103)>0,1,0)","v":0},null,null,null,null,null,null,{"$f":"SUM(E103,G103,I103)","v":0},0]
[{"$f":"'Humorous Monologues'!A100","v":"V-102"},{"$f":"'Humorous Monologues'!U100","v":0},{"$f":"'Humorous Monologues'!S100","v":0},{"$f":"IF((HumorousMR!$B104+HumorousMR!$C104)>0,1,0)","v":0},null,null,null,null,null,null,{"$f":"SUM(E104,G104,I104)","v":0},0]
[{"$f":"'Humorous Monologues'!A101","v":"V-103"},{"$f":"'Humorous Monologues'!U101","v":0},{"$f":"'Humorous Monologues'!S101","v":0},{"$f":"IF((HumorousMR!$B105+HumorousMR!$C105)>0,1,0)","v":0},null,null,null,null,null,null,{"$f":"SUM(E105,G105,I105)","v":0},0]
[{"$f":"'Humorous Monologues'!A102","v":"V-104"},{"$f":"'Humorous Monologues'!U102","v":0},{"$f":"'Humorous Monologues'!S102","v":0},{"$f":"IF((HumorousMR!$B106+HumorousMR!$C106)>0,1,0)","v":0},null,null,null,null,null,null,{"$f":"SUM(E106,G106,I106)","v":0},0]
[{"$f":"'Humorous Monologues'!A104","v":"W-101"},{"$f":"'Humorous Monologues'!U104","v":0},{"$f":"'Humorous Monologues'!S104","v":0},{"$f":"IF((HumorousMR!$B107+HumorousMR!$C107)>0,1,0)","v":0},null,null,null,null,null,null,{"$f":"SUM(E107,G107,I107)","v":0},0]
[{"$f":"'Humorous Monologues'!A105","v":"W-102"},{"$f":"'Humorous Monologues'!U105","v":0},{"$f":"'Humorous Monologues'!S105","v":0},{"$f":"IF((HumorousMR!$B108+HumorousMR!$C108)>0,1,0)","v":0},null,null,null,null,null,null,{"$f":"SUM(E108,G108,I108)","v":0},0]
[{"$f":"'Humorous Monologues'!A106","v":"W-103"},{"$f":"'Humorous Monologues'!U106","v":0},{"$f":"'Humorous Monologues'!S106","v":0},{"$f":"IF((HumorousMR!$B109+HumorousMR!$C109)>0,1,0)","v":0},null,null,null,null,null,null,{"$f":"SUM(E109,G109,I109)","v":0},0]
[{"$f":"'Humorous Monologues'!A107","v":"W-104"},{"$f":"'Humorous Monologues'!U107","v":0},{"$f":"'Humorous Monologues'!S107","v":0},{"$f":"IF((HumorousMR!$B110+HumorousMR!$C110)>0,1,0)","v":0},null,null,null,null,null,null,{"$f":"SUM(E110,G110,I110)","v":0},0]
[{"$f":"'Humorous Monologues'!A109","v":"X-101"},{"$f":"'Humorous Monologues'!U109","v":0},{"$f":"'Humorous Monologues'!S109","v":0},{"$f":"IF((HumorousMR!$B111+HumorousMR!$C111)>0,1,0)","v":0},null,null,null,null,null,null,{"$f":"SUM(E111,G111,I111)","v":0},0]
[{"$f":"'Humorous Monologues'!A110","v":"X-102"},{"$f":"'Humorous Monologues'!U110","v":0},{"$f":"'Humorous Monologues'!S110","v":0},{"$f":"IF((HumorousMR!$B112+HumorousMR!$C112)>0,1,0)","v":0},null,null,null,null,null,null,{"$f":"SUM(E112,G112,I112)","v":0},0]
[{"$f":"'Humorous Monologues'!A111","v":"X-103"},{"$f":"'Humorous Monologues'!U111","v":0},{"$f":"'Humorous Monologues'!S111","v":0},{"$f":"IF((HumorousMR!$B113+HumorousMR!$C113)>0,1,0)","v":0},null,null,null,null,null,null,{"$f":"SUM(E113,G113,I113)","v":0},0]
[{"$f":"'Humorous Monologues'!A112","v":"X-104"},{"$f":"'Humorous Monologues'!U112","v":0},{"$f":"'Humorous Monologues'!S112","v":0},{"$f":"IF((HumorousMR!$B114+HumorousMR!$C114)>0,1,0)","v":0},null,null,null,null,null,null,{"$f":"SUM(E114,G114,I114)","v":0},0]
[{"$f":"'Humorous Monologues'!A114","v":"Y-101"},{"$f":"'Humorous Monologues'!U114","v":0},{"$f":"'Humorous Monologues'!S114","v":0},{"$f":"IF((HumorousMR!$B115+HumorousMR!$C115)>0,1,0)","v":0},null,null,null,null,null,null,{"$f":"SUM(E115,G115,I115)","v":0},0]
[{"$f":"'Humorous Monologues'!A115","v":"Y-102"},{"$f":"'Humorous Monologues'!U115","v":0},{"$f":"'Humorous Monologues'!S115","v":0},{"$f":"IF((HumorousMR!$B116+HumorousMR!$C116)>0,1,0)","v":0},null,null,null,null,null,null,{"$f":"SUM(E116,G116,I116)","v":0},0]
[{"$f":"'Humorous Monologues'!A116","v":"Y-103"},{"$f":"'Humorous Monologues'!U116","v":0},{"$f":"'Humorous Monologues'!S116","v":0},{"$f":"IF((HumorousMR!$B117+HumorousMR!$C117)>0,1,0)","v":0},null,null,null,null,null,null,{"$f":"SUM(E117,G117,I117)","v":0},0]
[{"$f":"'Humorous Monologues'!A117","v":"Y-104"},{"$f":"'Humorous Monologues'!U117","v":0},{"$f":"'Humorous Monologues'!S117","v":0},{"$f":"IF((HumorousMR!$B118+HumorousMR!$C118)>0,1,0)","v":0},null,null,null,null,null,null,{"$f":"SUM(E118,G118,I118)","v":0},0]
[{"$f":"'Humorous Monologues'!A119","v":"Z-101"},{"$f":"'Humorous Monologues'!U119","v":0},{"$f":"'Humorous Monologues'!S119","v":0},{"$f":"IF((HumorousMR!$B119+HumorousMR!$C119)>0,1,0)","v":0},null,null,null,null,null,null,{"$f":"SUM(E119,G119,I119)","v":0},0]
[{"$f":"'Humorous Monologues'!A120","v":"Z-102"},{"$f":"'Humorous Monologues'!U120","v":0},{"$f":"'Humorous Monologues'!S120","v":0},{"$f":"IF((HumorousMR!$B120+HumorousMR!$C120)>0,1,0)","v":0},null,null,null,null,null,null,{"$f":"SUM(E120,G120,I120)","v":0},0]
[{"$f":"'Humorous Monologues'!A121","v":"Z-103"},{"$f":"'Humorous Monologues'!U121","v":0},{"$f":"'Humorous Monologues'!S121","v":0},{"$f":"IF((HumorousMR!$B121+HumorousMR!$C121)>0,1,0)","v":0},null,null,null,null,null,null,{"$f":"SUM(E121,G121,I121)","v":0},0]
[{"$f":"'Humorous Monologues'!A122","v":"Z-104"},{"$f":"'Humorous Monologues'!U122","v":0},{"$f":"'Humorous Monologues'!S122","v":0},{"$f":"IF((HumorousMR!$B122+HumorousMR!$C122)>0,1,0)","v":0},null,null,null,null,null,null,{"$f":"SUM(E122,G122,I122)","v":0},0]

{"sheet":"Dramatic","index":3,"n_rows":152,"n_cols":31,"rows_kept":152,"cut":false,"hidden":false,"merged":[[0,0,0,8]]}
["Dramatic Monologues",null,null,null,null,null,null,null,null,null,"Rank 1-4",null,null,null,null,null,null,null,null,null,null,null,null,"S","E","G","F",null,"1violation","2violations","3violations"]
[null,null,null,null,null,null,null,null,null,null,"Round 1:",null,"Round 2:",null,"Round 3:",null,"-2 for each",null,null,null,null,null,null,null,null,null,null,"Drops lowest from column q"]
[null,null,null,null,null,null,null,"Student Name",null,"Title of Piece","R1 rank","R1 score","R2 rank","R2 score","R3 rank","R3 score","Time Violations",null,"TOTAL SCORE",null,"TOTAL RANK",null,null,"TOTAL SCHOOL SWEEPS POINTS",null,null,null,"Drop Lowest"]
["A-201",null,null,null,null,null,null,"Brielle","Bratton","Electric Chair",2.0,25.0,4.0,23.0,1.0,25.0,null,{"$f":"IF(Q4=\"1violation\",-7*1,IF(Q4=\"2violations\",-7*2,IF(Q4=\"3violations\",-7*3,IF(Q4=\"\",\"\"))))","v":""},{"$f":"SUM(L4,N4,P4,R4)","v":73},null,{"$f":"SUM(K4,M4,O4)","v":7},null,null,null,{"$f":"SUM(S4,S6,S5,S7,-AB4)","v":214},null,null,{"$f":"MIN(S4:S7)","v":68}]
["A-202",null,null,null,null,null,null,"Jesse","Howick","Justice",1.0,25.0,4.0,24.0,2.0,20.0,null,"",69,null,7]
["A-203",null,null,null,null,null,null,"Rachel","Tanner","Should I stay?",4.0,22.0,1.0,25.0,3.0,21.0,null,"",68,null,8]
["A-204",null,null,null,null,null,null,"Linda","Andreason","Final Prayer",2.0,22.0,2.0,25.0,1.0,25.0,null,"",72,null,5]
[]
["B-201",null,null,null,null,null,null,null,null,null,null,null,null,null,null,null,null,{"$f":"IF(Q9=\"1violation\",-7*1,IF(Q9=\"2violations\",-7*2,IF(Q9=\"3violations\",-7*3,IF(Q9=\"\",\"\"))))","v":""},{"$f":"SUM(L9,N9,P9,R9)","v":0},null,{"$f":"SUM(K9,M9,O9)","v":0},null,null,null,{"$f":"SUM(S9,S11,S10,S12,-AB9)","v":0},null,null,{"$f":"MIN(S9:S12)","v":0}]
["B-202",null,null,null,null,null,null,null,null,null,null,null,null,null,null,null,null,"",0,null,0]
["B-203",null,null,null,null,null,null,null,null,null,null,null,null,null,null,null,null,"",0,null,0]
["B-204",null,null,null,null,null,null,null,null,null,null,null,null,null,null,null,null,"",0,null,0]
[]
["C-201",null,null,null,null,null,null,"Kailani","Hadlock","True Evil",1.0,23.0,2.0,25.0,3.0,24.0,null,{"$f":"IF(Q14=\"1violation\",-7*1,IF(Q14=\"2violations\",-7*2,IF(Q14=\"3violations\",-7*3,IF(Q14=\"\",\"\"))))","v":""},{"$f":"SUM(L14,N14,P14,R14)","v":72},null,{"$f":"SUM(K14,M14,O14)","v":6},null,null,null,{"$f":"SUM(S14,S16,S15,S17,-AB14)","v":217},null,null,{"$f":"MIN(S14:S17)","v":67}]
["C-202",null,null,null,null,null,null,"Hannah","Pttman","Like Dreaming",2.0,23.0,1.0,25.0,3.0,25.0,null,"",73,null,6]
["C-203",null,null,null,null,null,null,"Sophie ","Frint","Only Childrn",3.0,24.0,2.0,25.0,3.0,23.0,null,"",72,null,8]
["C-204",null,null,null,null,null,null,"MCkinley","Rasmussen","Night mother",1.0,24.0,1.0,25.0,1.0,25.0,"1violation",-7,67,null,3]
[]
["D-201",null,null,null,null,null,null,null,null,null,null,null,null,null,null,null,null,{"$f":"IF(Q19=\"1violation\",-7*1,IF(Q19=\"2violations\",-7*2,IF(Q19=\"3violations\",-7*3,IF(Q19=\"\",\"\"))))","v":""},{"$f":"SUM(L19,N19,P19,R19)","v":0},null,{"$f":"SUM(K19,M19,O19)","v":0},null,null,null,{"$f":"SUM(S19,S21,S20,S22,-AB19)","v":0},null,null,{"$f":"MIN(S19:S22)","v":0}]
["D-202",null,null,null,null,null,null,null,null,null,null,null,null,null,null,null,null,"",0,null,0]
["D-203",null,null,null,null,null,null,null,null,null,null,null,null,null,null,null,null,"",0,null,0]
["D-204",null,null,null,null,null,null,null,null,null,null,null,null,null,null,null,null,"",0,null,0]
[]
["E-201",null,null,null,null,null,null,"LJ ","Fryer","Cardboard Signs",4.0,21.0,4.0,24.0,1.0,24.0,null,{"$f":"IF(Q24=\"1violation\",-7*1,IF(Q24=\"2violations\",-7*2,IF(Q24=\"3violations\",-7*3,IF(Q24=\"\",\"\"))))","v":""},{"$f":"SUM(L24,N24,P24,R24)","v":69},null,{"$f":"SUM(K24,M24,O24)","v":9},null,null,null,{"$f":"SUM(S24,S26,S25,S27,-AB24)","v":139},null,null,{"$f":"MIN(S24:S27)","v":0}]
["E-202",null,null,null,null,null,null,"Ashton","Lester","Big C",3.0,25.0,4.0,22.0,4.0,23.0,null,"",70,null,11]
["E-203",null,null,null,null,null,null,null,null,null,null,null,null,null,null,null,null,"",0,null,0]
["E-204",null,null,null,null,null,null,null,null,null,null,null,null,null,null,null,null,"",0,null,0]
[]
["F-201",null,null,null,null,null,null,"Elisabeth","Blevins","Rabbit Hole",4.0,19.0,3.0,25.0,3.0,24.0,null,{"$f":"IF(Q29=\"1violation\",-7*1,IF(Q29=\"2violations\",-7*2,IF(Q29=\"3violations\",-7*3,IF(Q29=\"\",\"\"))))","v":""},{"$f":"SUM(L29,N29,P29,R29)","v":68},null,{"$f":"SUM(K29,M29,O29)","v":10},null,null,null,{"$f":"SUM(S29,S31,S30,S32,-AB29)","v":205},null,null,{"$f":"MIN(S29:S32)","v":53}]
["F-202",null,null,null,null,null,null,"Sean","Treshman","Jekyll/Hyde",4.0,24.0,4.0,24.0,4.0,21.0,null,"",69,null,12]
["F-203",null,null,null,null,null,null,"Annica","Cuthill","Julius Caesar",4.0,14.0,3.0,22.0,4.0,17.0,null,"",53,null,11]
["F-204",null,null,null,null,null,null,"Jacob","Workman","Twisted Aladin",4.0,23.0,4.0,23.0,4.0,22.0,null,"",68,null,12]
[]
["G-201",null,null,null,null,null,null,"Katie","Wakefield","Ellemosynary",4.0,23.0,4.0,14.0,4.0,21.0,null,{"$f":"IF(Q34=\"1violation\",-7*1,IF(Q34=\"2violations\",-7*2,IF(Q34=\"3violations\",-7*3,IF(Q34=\"\",\"\"))))","v":""},{"$f":"SUM(L34,N34,P34,R34)","v":58},null,{"$f":"SUM(K34,M34,O34)","v":12},null,null,null,{"$f":"SUM(S34,S36,S35,S37,-AB34)","v":127},null,null,{"$f":"MIN(S34:S37)","v":0}]
["G-202",null,null,null,null,null,null,"Magnus","Shannon","Hamlet",4.0,21.0,4.0,24.0,4.0,24.0,null,"",69,null,12]
["G-203",null,null,null,null,null,null,null,null,null,null,null,null,null,null,null,null,"",0,null,0]
["G-204",null,null,null,null,null,null,null,null,null,null,null,null,null,null,null,null,"",0,null,0]
[]
["H-201",null,null,null,null,null,null,"Orlando","Sham","Mockingbird",2.0,23.0,3.0,25.0,2.0,25.0,null,{"$f":"IF(Q39=\"1violation\",-7*1,IF(Q39=\"2violations\",-7*2,IF(Q39=\"3violations\",-7*3,IF(Q39=\"\",\"\"))))","v":""},{"$f":"SUM(L39,N39,P39,R39)","v":73},null,{"$f":"SUM(K39,M39,O39)","v":7},null,null,null,{"$f":"SUM(S39,S41,S40,S42,-AB39)","v":212},null,null,{"$f":"MIN(S39:S42)","v":58}]
["H-202",null,null,null,null,null,null,"Blake","Dunn","Children Lesser God",1.0,25.0,1.0,24.0,2.0,25.0,null,"",74,null,4]
["H-203",null,null,null,null,null,null,"Emma","Brooks","No one",4.0,19.0,4.0,24.0,3.0,22.0,null,"",65,null,11]
["H-204",null,null,null,null,null,null,"Kirsti","Meyers","Grow up Humanity",4.0,19.0,4.0,22.0,4.0,17.0,null,"",58,null,12]
[]
["J-201",null,null,null,null,null,null,"Henry","Everett","I want her to Know",3.0,23.0,3.0,16.0,1.0,23.0,null,{"$f":"IF(Q44=\"1violation\",-7*1,IF(Q44=\"2violations\",-7*2,IF(Q44=\"3violations\",-7*3,IF(Q44=\"\",\"\"))))","v":""},{"$f":"SUM(L44,N44,P44,R44)","v":62},null,{"$f":"SUM(K44,M44,O44)","v":7},null,null,null,{"$f":"SUM(S44,S46,S45,S47,-AB44)","v":62},null,null,{"$f":"MIN(S44:S47)","v":0}]
["J-202",null,null,null,null,null,null,null,null,null,null,null,null,null,null,null,null,"",0,null,0]
["J-203",null,null,null,null,null,null,null,null,null,null,null,null,null,null,null,null,"",0,null,0]
["J-204",null,null,null,null,null,null,null,null,null,null,null,null,null,null,null,null,"",0,null,0]
[]
["K-201",null,null,null,null,null,null,"Elizabeth","Cruz","Renouncing God",1.0,25.0,4.0,21.0,4.0,24.0,null,{"$f":"IF(Q49=\"1violation\",-7*1,IF(Q49=\"2violations\",-7*2,IF(Q49=\"3violations\",-7*3,IF(Q49=\"\",\"\"))))","v":""},{"$f":"SUM(L49,N49,P49,R49)","v":70},null,{"$f":"SUM(K49,M49,O49)","v":9},null,null,null,{"$f":"SUM(S49,S51,S50,S52,-AB49)","v":205},null,null,{"$f":"MIN(S49:S52)","v":0}]
["K-202",null,null,null,null,null,null,"Cheryl ","Cordell","Gruesome Playground",4.0,24.0,4.0,15.0,4.0,23.0,null,"",62,null,12]
["K-203",null,null,null,null,null,null,"Avery","Johnston","How to Fight Loneliness",3.0,24.0,2.0,25.0,2.0,24.0,null,"",73,null,7]
["K-204",null,null,null,null,null,null,null,null,null,null,null,null,null,null,null,null,"",0,null,0]
[]
["L-201",null,null,null,null,null,null,"Spencer","Tullis","Prodigal Son",4.0,14.0,3.0,25.0,4.0,16.0,null,{"$f":"IF(Q54=\"1violation\",-7*1,IF(Q54=\"2violations\",-7*2,IF(Q54=\"3violations\",-7*3,IF(Q54=\"\",\"\"))))","v":""},{"$f":"SUM(L54,N54,P54,R54)","v":55},null,{"$f":"SUM(K54,M54,O54)","v":11},null,null,null,{"$f":"SUM(S54,S56,S55,S57,-AB54)","v":114},null,null,{"$f":"MIN(S54:S57)","v":0}]
["L-202",null,null,null,null,null,null,"Ky","Duncan","No Release",4.0,21.0,4.0,14.0,4.0,24.0,null,"",59,null,12]
["L-203",null,null,null,null,null,null,null,null,null,null,null,null,null,null,null,null,"",0,null,0]
["L-204",null,null,null,null,null,null,null,null,null,null,null,null,null,null,null,null,"",0,null,0]
[]
["M-201",null,null,null,null,null,null,"Madilyn","Simmons","Lucky",4.0,23.0,1.0,25.0,4.0,21.0,null,{"$f":"IF(Q59=\"1violation\",-7*1,IF(Q59=\"2violations\",-7*2,IF(Q59=\"3violations\",-7*3,IF(Q59=\"\",\"\"))))","v":""},{"$f":"SUM(L59,N59,P59,R59)","v":69},null,{"$f":"SUM(K59,M59,O59)","v":9},null,null,null,{"$f":"SUM(S59,S61,S60,S62,-AB59)","v":139},null,null,{"$f":"MIN(S59:S62)","v":0}]
["M-202",null,null,null,null,null,null,"Tyson","Laws","Not My Fault",4.0,21.0,2.0,25.0,4.0,24.0,null,"",70,null,10]
["M-203",null,null,null,null,null,null,null,null,null,null,null,null,null,null,null,null,"",0,null,0]
["M-204",null,null,null,null,null,null,null,null,null,null,null,null,null,null,null,null,"",0,null,0]
[]
["N-201",null,null,null,null,null,null,"Kaylie","Raisor","Unrealistic",3.0,21.0,4.0,22.0,2.0,22.0,null,{"$f":"IF(Q64=\"1violation\",-7*1,IF(Q64=\"2violations\",-7*2,IF(Q64=\"3violations\",-7*3,IF(Q64=\"\",\"\"))))","v":""},{"$f":"SUM(L64,N64,P64,R64)","v":65},null,{"$f":"SUM(K64,M64,O64)","v":9},null,null,null,{"$f":"SUM(S64,S66,S65,S67,-AB64)","v":199},null,null,{"$f":"MIN(S64:S67)","v":0}]
["N-202",null,null,null,null,null,null,"Erica","Delgado","Rose are Red",4.0,23.0,4.0,23.0,3.0,19.0,null,"",65,null,11]
["N-203",null,null,null,null,null,null,"Chloe","Jones","You",1.0,23.0,4.0,23.0,4.0,23.0,null,"",69,null,9]
["N-204",null,null,null,null,null,null,null,null,null,null,null,null,null,null,null,null,"",0,null,0]
[]
["P-201",null,null,null,null,null,null,"Libby","Booher","Scissors",2.0,25.0,1.0,22.0,4.0,21.0,null,{"$f":"IF(Q69=\"1violation\",-7*1,IF(Q69=\"2violations\",-7*2,IF(Q69=\"3violations\",-7*3,IF(Q69=\"\",\"\"))))","v":""},{"$f":"SUM(L69,N69,P69,R69)","v":68},null,{"$f":"SUM(K69,M69,O69)","v":7},null,null,null,{"$f":"SUM(S69,S71,S70,S72,-AB69)","v":211},null,null,{"$f":"MIN(S69:S72)","v":68}]
["P-202",null,null,null,null,null,null,"Sadie","Hathaway","August Osage",2.0,24.0,3.0,24.0,2.0,24.0,null,"",72,null,7]
["P-203",null,null,null,null,null,null,"Kenna","Cook","Mrs. Packard",3.0,19.0,3.0,25.0,1.0,25.0,null,"",69,null,7]
["P-204",null,null,null,null,null,null,"Thayne","Smith","Henry Vi",2.0,25.0,2.0,22.0,4.0,23.0,null,"",70,null,8]
[]
["Q-201",null,null,null,null,null,null,null,null,null,null,null,null,null,null,null,null,{"$f":"IF(Q74=\"1violation\",-7*1,IF(Q74=\"2violations\",-7*2,IF(Q74=\"3violations\",-7*3,IF(Q74=\"\",\"\"))))","v":""},{"$f":"SUM(L74,N74,P74,R74)","v":0},null,{"$f":"SUM(K74,M74,O74)","v":0},null,null,null,{"$f":"SUM(S74,S76,S75,S77,-AB74)","v":0},null,null,{"$f":"MIN(S74:S77)","v":0}]
["Q-202",null,null,null,null,null,null,null,null,null,null,null,null,null,null,null,null,"",0,null,0]
["Q-203",null,null,null,null,null,null,null,null,null,null,null,null,null,null,null,null,"",0,null,0]
["Q-204",null,null,null,null,null,null,null,null,null,null,null,null,null,null,null,null,"",0,null,0]
[]
["R-201",null,null,null,null,null,null,"Foster","Bedingfield","Macbeth",3.0,21.0,2.0,21.0,4.0,22.0,null,{"$f":"IF(Q79=\"1violation\",-7*1,IF(Q79=\"2violations\",-7*2,IF(Q79=\"3violations\",-7*3,IF(Q79=\"\",\"\"))))","v":""},{"$f":"SUM(L79,N79,P79,R79)","v":64},null,{"$f":"SUM(K79,M79,O79)","v":9},null,null,null,{"$f":"SUM(S79,S81,S80,S82,-AB79)","v":135},null,null,{"$f":"MIN(S79:S82)","v":0}]
["R-202",null,null,null,null,null,null,"Alex","Whittaker","Death of Salesman",4.0,24.0,4.0,22.0,2.0,25.0,null,"",71,null,10]
["R-203",null,null,null,null,null,null,null,null,null,null,null,null,null,null,null,null,"",0,null,0]
["R-204",null,null,null,null,null,null,null,null,null,null,null,null,null,null,null,null,"",0,null,0]
[]
["S-201",null,null,null,null,null,null,"Rylee","Dalton","Steel Magnolias",1.0,25.0,1.0,25.0,1.0,25.0,null,{"$f":"IF(Q84=\"1violation\",-7*1,IF(Q84=\"2violations\",-7*2,IF(Q84=\"3violations\",-7*3,IF(Q84=\"\",\"\"))))","v":""},{"$f":"SUM(L84,N84,P84,R84)","v":75},null,{"$f":"SUM(K84,M84,O84)","v":3},null,null,null,{"$f":"SUM(S84,S86,S85,S87,-AB84)","v":142},null,null,{"$f":"MIN(S84:S87)","v":0}]
["S-202",null,null,null,null,null,null,"Sabrina","Schoenfeld","It was just a cat",4.0,24.0,4.0,22.0,4.0,21.0,null,"",67,null,12]
["S-203",null,null,null,null,null,null,null,null,null,null,null,null,null,null,null,null,"",0,null,0]
["S-204",null,null,null,null,null,null,null,null,null,null,null,null,null,null,null,null,"",0,null,0]
[]
["T-201",null,null,null,null,null,null,null,null,null,null,null,null,null,null,null,null,{"$f":"IF(Q89=\"1violation\",-7*1,IF(Q89=\"2violations\",-7*2,IF(Q89=\"3violations\",-7*3,IF(Q89=\"\",\"\"))))","v":""},{"$f":"SUM(L89,N89,P89,R89)","v":0},null,{"$f":"SUM(K89,M89,O89)","v":0},null,null,null,{"$f":"SUM(S89,S91,S90,S92,-AB89)","v":0},null,null,{"$f":"MIN(S89:S92)","v":0}]
["T-202",null,null,null,null,null,null,null,null,null,null,null,null,null,null,null,null,"",0,null,0]
["T-203",null,null,null,null,null,null,null,null,null,null,null,null,null,null,null,null,"",0,null,0]
["T-204",null,null,null,null,null,null,null,null,null,null,null,null,null,null,null,null,"",0,null,0]
[]
["U-201",null,null,null,null,null,null,null,null,null,null,null,null,null,null,null,null,{"$f":"IF(Q94=\"1violation\",-7*1,IF(Q94=\"2violations\",-7*2,IF(Q94=\"3violations\",-7*3,IF(Q94=\"\",\"\"))))","v":""},{"$f":"SUM(L94,N94,P94,R94)","v":0},null,{"$f":"SUM(K94,M94,O94)","v":0},null,null,null,{"$f":"SUM(S94,S96,S95,S97,-AB94)","v":0},null,null,{"$f":"MIN(S94:S97)","v":0}]
["U-202",null,null,null,null,null,null,null,null,null,null,null,null,null,null,null,null,"",0,null,0]
["U-203",null,null,null,null,null,null,null,null,null,null,null,null,null,null,null,null,"",0,null,0]
["U-204",null,null,null,null,null,null,null,null,null,null,null,null,null,null,null,null,"",0,null,0]
[]
["V-201",null,null,null,null,null,null,null,null,null,null,null,null,null,null,null,null,{"$f":"IF(Q99=\"1violation\",-7*1,IF(Q99=\"2violations\",-7*2,IF(Q99=\"3violations\",-7*3,IF(Q99=\"\",\"\"))))","v":""},{"$f":"SUM(L99,N99,P99,R99)","v":0},null,{"$f":"SUM(K99,M99,O99)","v":0},null,null,null,{"$f":"SUM(S99,S101,S100,S102,-AB99)","v":0},null,null,{"$f":"MIN(S99:S102)","v":0}]
["V-202",null,null,null,null,null,null,null,null,null,null,null,null,null,null,null,null,"",0,null,0]
["V-203",null,null,null,null,null,null,null,null,null,null,null,null,null,null,null,null,"",0,null,0]
["V-204",null,null,null,null,null,null,null,null,null,null,null,null,null,null,null,null,"",0,null,0]
[]
["W-201",null,null,null,null,null,null,null,null,null,null,null,null,null,null,null,null,{"$f":"IF(Q104=\"1violation\",-7*1,IF(Q104=\"2violations\",-7*2,IF(Q104=\"3violations\",-7*3,IF(Q104=\"\",\"\"))))","v":""},{"$f":"SUM(L104,N104,P104,R104)","v":0},null,{"$f":"SUM(K104,M104,O104)","v":0},null,null,null,{"$f":"SUM(S104,S106,S105,S107,-AB104)","v":0},null,null,{"$f":"MIN(S104:S107)","v":0}]
["W-202",null,null,null,null,null,null,null,null,null,null,null,null,null,null,null,null,"",0,null,0]
["W-203",null,null,null,null,null,null,null,null,null,null,null,null,null,null,null,null,"",0,null,0]
["W-204",null,null,null,null,null,null,null,null,null,null,null,null,null,null,null,null,"",0,null,0]
[]
["X-201",null,null,null,null,null,null,null,null,null,null,null,null,null,null,null,null,{"$f":"IF(Q109=\"1violation\",-7*1,IF(Q109=\"2violations\",-7*2,IF(Q109=\"3violations\",-7*3,IF(Q109=\"\",\"\"))))","v":""},{"$f":"SUM(L109,N109,P109,R109)","v":0},null,{"$f":"SUM(K109,M109,O109)","v":0},null,null,null,{"$f":"SUM(S109,S111,S110,S112,-AB109)","v":0},null,null,{"$f":"MIN(S109:S112)","v":0}]
["X-202",null,null,null,null,null,null,null,null,null,null,null,null,null,null,null,null,"",0,null,0]
["X-203",null,null,null,null,null,null,null,null,null,null,null,null,null,null,null,null,"",0,null,0]
["X-204",null,null,null,null,null,null,null,null,null,null,null,null,null,null,null,null,"",0,null,0]
[]
["Y-201",null,null,null,null,null,null,null,null,null,null,null,null,null,null,null,null,{"$f":"IF(Q114=\"1violation\",-7*1,IF(Q114=\"2violations\",-7*2,IF(Q114=\"3violations\",-7*3,IF(Q114=\"\",\"\"))))","v":""},{"$f":"SUM(L114,N114,P114,R114)","v":0},null,{"$f":"SUM(K114,M114,O114)","v":0},null,null,null,{"$f":"SUM(S114,S116,S115,S117,-AB114)","v":0},null,null,{"$f":"MIN(S114:S117)","v":0}]
["Y-202",null,null,null,null,null,null,null,null,null,null,null,null,null,null,null,null,"",0,null,0]
["Y-203",null,null,null,null,null,null,null,null,null,null,null,null,null,null,null,null,"",0,null,0]
["Y-204",null,null,null,null,null,null,null,null,null,null,null,null,null,null,null,null,"",0,null,0]
[]
["Z-201",null,null,null,null,null,null,null,null,null,null,null,null,null,null,null,null,{"$f":"IF(Q119=\"1violation\",-7*1,IF(Q119=\"2violations\",-7*2,IF(Q119=\"3violations\",-7*3,IF(Q119=\"\",\"\"))))","v":""},{"$f":"SUM(L119,N119,P119,R119)","v":0},null,{"$f":"SUM(K119,M119,O119)","v":0},null,null,null,{"$f":"SUM(S119,S121,S120,S122,-AB119)","v":0},null,null,{"$f":"MIN(S119:S122)","v":0}]
["Z-202",null,null,null,null,null,null,null,null,null,null,null,null,null,null,null,null,"",0,null,0]
["Z-203",null,null,null,null,null,null,null,null,null,null,null,null,null,null,null,null,"",0,null,0]
["Z-204",null,null,null,null,null,null,null,null,null,null,null,null,null,null,null,null,"",0,null,0]
[]
["AA-201",null,null,null,null,null,null,null,null,null,null,null,null,null,null,null,null,{"$f":"IF(Q124=\"1violation\",-7*1,IF(Q124=\"2violations\",-7*2,IF(Q124=\"3violations\",-7*3,IF(Q124=\"\",\"\"))))","v":""},{"$f":"SUM(L124,N124,P124,R124)","v":0},null,{"$f":"SUM(K124,M124,O124)","v":0},null,null,null,{"$f":"SUM(S124,S126,S125,S127,-AB124)","v":0},null,null,{"$f":"MIN(S124:S127)","v":0}]
["AA-202",null,null,null,null,null,null,null,null,null,null,null,null,null,null,null,null,"",0,null,0]
["AA-203",null,null,null,null,null,null,null,null,null,null,null,null,null,null,null,null,"",0,null,0]
["AA-204",null,null,null,null,null,null,null,null,null,null,null,null,null,null,null,null,"",0,null,0]
[]
["BB-201",null,null,null,null,null,null,null,null,null,null,null,null,null,null,null,null,{"$f":"IF(Q129=\"1violation\",-7*1,IF(Q129=\"2violations\",-7*2,IF(Q129=\"3violations\",-7*3,IF(Q129=\"\",\"\"))))","v":""},{"$f":"SUM(L129,N129,P129,R129)","v":0},null,{"$f":"SUM(K129,M129,O129)","v":0},null,null,null,{"$f":"SUM(S129,S131,S130,S132,-AB129)","v":0},null,null,{"$f":"MIN(S129:S132)","v":0}]
["BB-202",null,null,null,null,null,null,null,null,null,null,null,null,null,null,null,null,"",0,null,0]
["BB-203",null,null,null,null,null,null,null,null,null,null,null,null,null,null,null,null,"",0,null,0]
["BB-204",null,null,null,null,null,null,null,null,null,null,null,null,null,null,null,null,"",0,null,0]
[]
["CC-201",null,null,null,null,null,null,null,null,null,null,null,null,null,null,null,null,{"$f":"IF(Q134=\"1violation\",-7*1,IF(Q134=\"2violations\",-7*2,IF(Q134=\"3violations\",-7*3,IF(Q134=\"\",\"\"))))","v":""},{"$f":"SUM(L134,N134,P134,R134)","v":0},null,{"$f":"SUM(K134,M134,O134)","v":0},null,null,null,{"$f":"SUM(S134,S136,S135,S137,-AB134)","v":0},null,null,{"$f":"MIN(S134:S137)","v":0}]
["CC-202",null,null,null,null,null,null,null,null,null,null,null,null,null,null,null,null,"",0,null,0]
["CC-203",null,null,null,null,null,null,null,null,null,null,null,null,null,null,null,null,"",0,null,0]
["CC-204",null,null,null,null,null,null,null,null,null,null,null,null,null,null,null,null,"",0,null,0]
[]
["DD-201",null,null,null,null,null,null,null,null,null,null,null,null,null,null,null,null,{"$f":"IF(Q139=\"1violation\",-7*1,IF(Q139=\"2violations\",-7*2,IF(Q139=\"3violations\",-7*3,IF(Q139=\"\",\"\"))))","v":""},{"$f":"SUM(L139,N139,P139,R139)","v":0},null,{"$f":"SUM(K139,M139,O139)","v":0},null,null,null,{"$f":"SUM(S139,S141,S140,S142,-AB139)","v":0},null,null,{"$f":"MIN(S139:S142)","v":0}]
["DD-202",null,null,null,null,null,null,null,null,null,null,null,null,null,null,null,null,"",0,null,0]
["DD-203",null,null,null,null,null,null,null,null,null,null,null,null,null,null,null,null,"",0,null,0]
["DD-204",null,null,null,null,null,null,null,null,null,null,null,null,null,null,null,null,"",0,null,0]
[]
["EE-201",null,null,null,null,null,null,null,null,null,null,null,null,null,null,null,null,{"$f":"IF(Q144=\"1violation\",-7*1,IF(Q144=\"2violations\",-7*2,IF(Q144=\"3violations\",-7*3,IF(Q144=\"\",\"\"))))","v":""},{"$f":"SUM(L144,N144,P144,R144)","v":0},null,{"$f":"SUM(K144,M144,O144)","v":0},null,null,null,{"$f":"SUM(S144,S146,S145,S147,-AB144)","v":0},null,null,{"$f":"MIN(S144:S147)","v":0}]
["EE-202",null,null,null,null,null,null,null,null,null,null,null,null,null,null,null,null,"",0,null,0]
["EE-203",null,null,null,null,null,null,null,null,null,null,null,null,null,null,null,null,"",0,null,0]
["EE-204",null,null,null,null,null,null,null,null,null,null,null,null,null,null,null,null,"",0,null,0]
[]
["FF-201",null,null,null,null,null,null,null,null,null,null,null,null,null,null,null,null,{"$f":"IF(Q149=\"1violation\",-7*1,IF(Q149=\"2violations\",-7*2,IF(Q149=\"3violations\",-7*3,IF(Q149=\"\",\"\"))))","v":""},{"$f":"SUM(L149,N149,P149,R149)","v":0},null,{"$f":"SUM(K149,M149,O149)","v":0},null,null,null,{"$f":"SUM(S149,S151,S150,S152,-AB149)","v":0},null,null,{"$f":"MIN(S149:S152)","v":0}]
["FF-202",null,null,null,null,null,null,null,null,null,null,null,null,null,null,null,null,"",0,null,0]
["FF-203",null,null,null,null,null,null,null,null,null,null,null,null,null,null,null,null,"",0,null,0]
["FF-204",null,null,null,null,null,null,null,null,null,null,null,null,null,null,null,null,"",0,null,0]

{"sheet":"DramaticMR","index":4,"n_rows":122,"n_cols":12,"rows_kept":122,"cut":false,"hidden":false,"merged":[]}
["Dramatic",null,null,null,"Finals Medals Round Scores"]
["ID","Rank","Score","LeaveBlank","MR 1 Rank","MR 1 Score","MR2 Rank","MR 2 Score","MR3 Rank","MR 3 Score","Total MR Rank","Total MR Score"]
[{"$f":"Dramatic!A4","v":"A-201"},{"$f":"Dramatic!U4","v":7},{"$f":"Dramatic!S4","v":73},{"$f":"IF((DramaticMR!$B3+DramaticMR!$C3)>0,1,0)","v":1},null,null,null,null,null,null,{"$f":"SUM(E3,G3,I3)","v":0},0]
[{"$f":"Dramatic!A5","v":"A-202"},{"$f":"Dramatic!U5","v":7},{"$f":"Dramatic!S5","v":69},{"$f":"IF((DramaticMR!$B4+DramaticMR!$C4)>0,1,0)","v":1},null,null,null,null,null,null,{"$f":"SUM(E4,G4,I4)","v":0},0]
[{"$f":"Dramatic!A6","v":"A-203"},{"$f":"Dramatic!U6","v":8},{"$f":"Dramatic!S6","v":68},{"$f":"IF((DramaticMR!$B5+DramaticMR!$C5)>0,1,0)","v":1},null,null,null,null,null,null,{"$f":"SUM(E5,G5,I5)","v":0},0]
[{"$f":"Dramatic!A7","v":"A-204"},{"$f":"Dramatic!U7","v":5},{"$f":"Dramatic!S7","v":72},{"$f":"IF((DramaticMR!$B6+DramaticMR!$C6)>0,1,0)","v":1},4.0,24.0,4.0,25.0,3.0,24.0,{"$f":"SUM(E6,G6,I6)","v":11},73]
[{"$f":"Dramatic!A124","v":"AA-201"},{"$f":"Dramatic!U124","v":0},{"$f":"Dramatic!S124","v":0},{"$f":"IF((DramaticMR!$B7+DramaticMR!$C7)>0,1,0)","v":0},null,null,null,null,null,null,{"$f":"SUM(E7,G7,I7)","v":0},0]
[{"$f":"Dramatic!A125","v":"AA-202"},{"$f":"Dramatic!U125","v":0},{"$f":"Dramatic!S125","v":0},{"$f":"IF((DramaticMR!$B8+DramaticMR!$C8)>0,1,0)","v":0},null,null,null,null,null,null,{"$f":"SUM(E8,G8,I8)","v":0},0]
[{"$f":"Dramatic!A126","v":"AA-203"},{"$f":"Dramatic!U126","v":0},{"$f":"Dramatic!S126","v":0},{"$f":"IF((DramaticMR!$B9+DramaticMR!$C9)>0,1,0)","v":0},null,null,null,null,null,null,{"$f":"SUM(E9,G9,I9)","v":0},0]
[{"$f":"Dramatic!A127","v":"AA-204"},{"$f":"Dramatic!U127","v":0},{"$f":"Dramatic!S127","v":0},{"$f":"IF((DramaticMR!$B10+DramaticMR!$C10)>0,1,0)","v":0},null,null,null,null,null,null,{"$f":"SUM(E10,G10,I10)","v":0},0]
[{"$f":"Dramatic!A9","v":"B-201"},{"$f":"Dramatic!U9","v":0},{"$f":"Dramatic!S9","v":0},{"$f":"IF((DramaticMR!$B11+DramaticMR!$C11)>0,1,0)","v":0},null,null,null,null,null,null,{"$f":"SUM(E11,G11,I11)","v":0},0]
[{"$f":"Dramatic!A10","v":"B-202"},{"$f":"Dramatic!U10","v":0},{"$f":"Dramatic!S10","v":0},{"$f":"IF((DramaticMR!$B12+DramaticMR!$C12)>0,1,0)","v":0},null,null,null,null,null,null,{"$f":"SUM(E12,G12,I12)","v":0},0]
[{"$f":"Dramatic!A11","v":"B-203"},{"$f":"Dramatic!U11","v":0},{"$f":"Dramatic!S11","v":0},{"$f":"IF((DramaticMR!$B13+DramaticMR!$C13)>0,1,0)","v":0},null,null,null,null,null,null,{"$f":"SUM(E13,G13,I13)","v":0},0]
[{"$f":"Dramatic!A12","v":"B-204"},{"$f":"Dramatic!U12","v":0},{"$f":"Dramatic!S12","v":0},{"$f":"IF((DramaticMR!$B14+DramaticMR!$C14)>0,1,0)","v":0},null,null,null,null,null,null,{"$f":"SUM(E14,G14,I14)","v":0},0]
[{"$f":"Dramatic!A129","v":"BB-201"},{"$f":"Dramatic!U129","v":0},{"$f":"Dramatic!S129","v":0},{"$f":"IF((DramaticMR!$B15+DramaticMR!$C15)>0,1,0)","v":0},null,null,null,null,null,null,{"$f":"SUM(E15,G15,I15)","v":0},0]
[{"$f":"Dramatic!A130","v":"BB-202"},{"$f":"Dramatic!U130","v":0},{"$f":"Dramatic!S130","v":0},{"$f":"IF((DramaticMR!$B16+DramaticMR!$C16)>0,1,0)","v":0},null,null,null,null,null,null,{"$f":"SUM(E16,G16,I16)","v":0},0]
[{"$f":"Dramatic!A131","v":"BB-203"},{"$f":"Dramatic!U131","v":0},{"$f":"Dramatic!S131","v":0},{"$f":"IF((DramaticMR!$B17+DramaticMR!$C17)>0,1,0)","v":0},null,null,null,null,null,null,{"$f":"SUM(E17,G17,I17)","v":0},0]
[{"$f":"Dramatic!A132","v":"BB-204"},{"$f":"Dramatic!U132","v":0},{"$f":"Dramatic!S132","v":0},{"$f":"IF((DramaticMR!$B18+DramaticMR!$C18)>0,1,0)","v":0},null,null,null,null,null,null,{"$f":"SUM(E18,G18,I18)","v":0},0]
[{"$f":"Dramatic!A14","v":"C-201"},{"$f":"Dramatic!U14","v":6},{"$f":"Dramatic!S14","v":72},{"$f":"IF((DramaticMR!$B19+DramaticMR!$C19)>0,1,0)","v":1},2.0,25.0,1.0,25.0,2.0,25.0,{"$f":"SUM(E19,G19,I19)","v":5},75]
[{"$f":"Dramatic!A15","v":"C-202"},{"$f":"Dramatic!U15","v":6},{"$f":"Dramatic!S15","v":73},{"$f":"IF((DramaticMR!$B20+DramaticMR!$C20)>0,1,0)","v":1},3.0,24.0,5.0,25.0,5.0,21.0,{"$f":"SUM(E20,G20,I20)","v":13},70]
[{"$f":"Dramatic!A16","v":"C-203"},{"$f":"Dramatic!U16","v":8},{"$f":"Dramatic!S16","v":72},{"$f":"IF((DramaticMR!$B21+DramaticMR!$C21)>0,1,0)","v":1},null,null,null,null,null,null,{"$f":"SUM(E21,G21,I21)","v":0},0]
[{"$f":"Dramatic!A17","v":"C-204"},{"$f":"Dramatic!U17","v":3},{"$f":"Dramatic!S17","v":67},{"$f":"IF((DramaticMR!$B22+DramaticMR!$C22)>0,1,0)","v":1},6.0,23.0,3.0,25.0,6.0,20.0,{"$f":"SUM(E22,G22,I22)","v":15},68]
[{"$f":"Dramatic!A134","v":"CC-201"},{"$f":"Dramatic!U134","v":0},{"$f":"Dramatic!S134","v":0},{"$f":"IF((DramaticMR!$B23+DramaticMR!$C23)>0,1,0)","v":0},null,null,null,null,null,null,{"$f":"SUM(E23,G23,I23)","v":0},0]
[{"$f":"Dramatic!A135","v":"CC-202"},{"$f":"Dramatic!U135","v":0},{"$f":"Dramatic!S135","v":0},{"$f":"IF((DramaticMR!$B24+DramaticMR!$C24)>0,1,0)","v":0},null,null,null,null,null,null,{"$f":"SUM(E24,G24,I24)","v":0},0]
[{"$f":"Dramatic!A136","v":"CC-203"},{"$f":"Dramatic!U136","v":0},{"$f":"Dramatic!S136","v":0},{"$f":"IF((DramaticMR!$B25+DramaticMR!$C25)>0,1,0)","v":0},null,null,null,null,null,null,{"$f":"SUM(E25,G25,I25)","v":0},0]
[{"$f":"Dramatic!A137","v":"CC-204"},{"$f":"Dramatic!U137","v":0},{"$f":"Dramatic!S137","v":0},{"$f":"IF((DramaticMR!$B26+DramaticMR!$C26)>0,1,0)","v":0},null,null,null,null,null,null,{"$f":"SUM(E26,G26,I26)","v":0},0]
[{"$f":"Dramatic!A19","v":"D-201"},{"$f":"Dramatic!U19","v":0},{"$f":"Dramatic!S19","v":0},{"$f":"IF((DramaticMR!$B27+DramaticMR!$C27)>0,1,0)","v":0},null,null,null,null,null,null,{"$f":"SUM(E27,G27,I27)","v":0},0]
[{"$f":"Dramatic!A20","v":"D-202"},{"$f":"Dramatic!U20","v":0},{"$f":"Dramatic!S20","v":0},{"$f":"IF((DramaticMR!$B28+DramaticMR!$C28)>0,1,0)","v":0},null,null,null,null,null,null,{"$f":"SUM(E28,G28,I28)","v":0},0]
[{"$f":"Dramatic!A21","v":"D-203"},{"$f":"Dramatic!U21","v":0},{"$f":"Dramatic!S21","v":0},{"$f":"IF((DramaticMR!$B29+DramaticMR!$C29)>0,1,0)","v":0},null,null,null,null,null,null,{"$f":"SUM(E29,G29,I29)","v":0},0]
[{"$f":"Dramatic!A22","v":"D-204"},{"$f":"Dramatic!U22","v":0},{"$f":"Dramatic!S22","v":0},{"$f":"IF((DramaticMR!$B30+DramaticMR!$C30)>0,1,0)","v":0},null,null,null,null,null,null,{"$f":"SUM(E30,G30,I30)","v":0},0]
[{"$f":"Dramatic!A139","v":"DD-201"},{"$f":"Dramatic!U139","v":0},{"$f":"Dramatic!S139","v":0},{"$f":"IF((DramaticMR!$B31+DramaticMR!$C31)>0,1,0)","v":0},null,null,null,null,null,null,{"$f":"SUM(E31,G31,I31)","v":0},0]
[{"$f":"Dramatic!A140","v":"DD-202"},{"$f":"Dramatic!U140","v":0},{"$f":"Dramatic!S140","v":0},{"$f":"IF((DramaticMR!$B32+DramaticMR!$C32)>0,1,0)","v":0},null,null,null,null,null,null,{"$f":"SUM(E32,G32,I32)","v":0},0]
[{"$f":"Dramatic!A141","v":"DD-203"},{"$f":"Dramatic!U141","v":0},{"$f":"Dramatic!S141","v":0},{"$f":"IF((DramaticMR!$B33+DramaticMR!$C33)>0,1,0)","v":0},null,null,null,null,null,null,{"$f":"SUM(E33,G33,I33)","v":0},0]
[{"$f":"Dramatic!A142","v":"DD-204"},{"$f":"Dramatic!U142","v":0},{"$f":"Dramatic!S142","v":0},{"$f":"IF((DramaticMR!$B34+DramaticMR!$C34)>0,1,0)","v":0},null,null,null,null,null,null,{"$f":"SUM(E34,G34,I34)","v":0},0]
[{"$f":"Dramatic!A24","v":"E-201"},{"$f":"Dramatic!U24","v":9},{"$f":"Dramatic!S24","v":69},{"$f":"IF((DramaticMR!$B35+DramaticMR!$C35)>0,1,0)","v":1},null,null,null,null,null,null,{"$f":"SUM(E35,G35,I35)","v":0},0]
[{"$f":"Dramatic!A25","v":"E-202"},{"$f":"Dramatic!U25","v":11},{"$f":"Dramatic!S25","v":70},{"$f":"IF((DramaticMR!$B36+DramaticMR!$C36)>0,1,0)","v":1},null,null,null,null,null,null,{"$f":"SUM(E36,G36,I36)","v":0},0]
[{"$f":"Dramatic!A26","v":"E-203"},{"$f":"Dramatic!U26","v":0},{"$f":"Dramatic!S26","v":0},{"$f":"IF((DramaticMR!$B37+DramaticMR!$C37)>0,1,0)","v":0},null,null,null,null,null,null,{"$f":"SUM(E37,G37,I37)","v":0},0]
[{"$f":"Dramatic!A27","v":"E-204"},{"$f":"Dramatic!U27","v":0},{"$f":"Dramatic!S27","v":0},{"$f":"IF((DramaticMR!$B38+DramaticMR!$C38)>0,1,0)","v":0},null,null,null,null,null,null,{"$f":"SUM(E38,G38,I38)","v":0},0]
[{"$f":"Dramatic!A144","v":"EE-201"},{"$f":"Dramatic!U144","v":0},{"$f":"Dramatic!S144","v":0},{"$f":"IF((DramaticMR!$B39+DramaticMR!$C39)>0,1,0)","v":0},null,null,null,null,null,null,{"$f":"SUM(E39,G39,I39)","v":0},0]
[{"$f":"Dramatic!A145","v":"EE-202"},{"$f":"Dramatic!U145","v":0},{"$f":"Dramatic!S145","v":0},{"$f":"IF((DramaticMR!$B40+DramaticMR!$C40)>0,1,0)","v":0},null,null,null,null,null,null,{"$f":"SUM(E40,G40,I40)","v":0},0]
[{"$f":"Dramatic!A146","v":"EE-203"},{"$f":"Dramatic!U146","v":0},{"$f":"Dramatic!S146","v":0},{"$f":"IF((DramaticMR!$B41+DramaticMR!$C41)>0,1,0)","v":0},null,null,null,null,null,null,{"$f":"SUM(E41,G41,I41)","v":0},0]
[{"$f":"Dramatic!A147","v":"EE-204"},{"$f":"Dramatic!U147","v":0},{"$f":"Dramatic!S147","v":0},{"$f":"IF((DramaticMR!$B42+DramaticMR!$C42)>0,1,0)","v":0},null,null,null,null,null,null,{"$f":"SUM(E42,G42,I42)","v":0},0]
[{"$f":"Dramatic!A29","v":"F-201"},{"$f":"Dramatic!U29","v":10},{"$f":"Dramatic!S29","v":68},{"$f":"IF((DramaticMR!$B43+DramaticMR!$C43)>0,1,0)","v":1},null,null,null,null,null,null,{"$f":"SUM(E43,G43,I43)","v":0},0]
[{"$f":"Dramatic!A30","v":"F-202"},{"$f":"Dramatic!U30","v":12},{"$f":"Dramatic!S30","v":69},{"$f":"IF((DramaticMR!$B44+DramaticMR!$C44)>0,1,0)","v":1},null,null,null,null,null,null,{"$f":"SUM(E44,G44,I44)","v":0},0]
[{"$f":"Dramatic!A31","v":"F-203"},{"$f":"Dramatic!U31","v":11},{"$f":"Dramatic!S31","v":53},{"$f":"IF((DramaticMR!$B45+DramaticMR!$C45)>0,1,0)","v":1},null,null,null,null,null,null,{"$f":"SUM(E45,G45,I45)","v":0},0]
[{"$f":"Dramatic!A32","v":"F-204"},{"$f":"Dramatic!U32","v":12},{"$f":"Dramatic!S32","v":68},{"$f":"IF((DramaticMR!$B46+DramaticMR!$C46)>0,1,0)","v":1},null,null,null,null,null,null,{"$f":"SUM(E46,G46,I46)","v":0},0]
[{"$f":"Dramatic!A149","v":"FF-201"},{"$f":"Dramatic!U149","v":0},{"$f":"Dramatic!S149","v":0},{"$f":"IF((DramaticMR!$B47+DramaticMR!$C47)>0,1,0)","v":0},null,null,null,null,null,null,{"$f":"SUM(E47,G47,I47)","v":0},0]
[{"$f":"Dramatic!A150","v":"FF-202"},{"$f":"Dramatic!U150","v":0},{"$f":"Dramatic!S150","v":0},{"$f":"IF((DramaticMR!$B48+DramaticMR!$C48)>0,1,0)","v":0},null,null,null,null,null,null,{"$f":"SUM(E48,G48,I48)","v":0},0]
[{"$f":"Dramatic!A151","v":"FF-203"},{"$f":"Dramatic!U151","v":0},{"$f":"Dramatic!S151","v":0},{"$f":"IF((DramaticMR!$B49+DramaticMR!$C49)>0,1,0)","v":0},null,null,null,null,null,null,{"$f":"SUM(E49,G49,I49)","v":0},0]
[{"$f":"Dramatic!A152","v":"FF-204"},{"$f":"Dramatic!U152","v":0},{"$f":"Dramatic!S152","v":0},{"$f":"IF((DramaticMR!$B50+DramaticMR!$C50)>0,1,0)","v":0},null,null,null,null,null,null,{"$f":"SUM(E50,G50,I50)","v":0},0]
[{"$f":"Dramatic!A34","v":"G-201"},{"$f":"Dramatic!U34","v":12},{"$f":"Dramatic!S34","v":58},{"$f":"IF((DramaticMR!$B51+DramaticMR!$C51)>0,1,0)","v":1},null,null,null,null,null,null,{"$f":"SUM(E51,G51,I51)","v":0},0]
[{"$f":"Dramatic!A35","v":"G-202"},{"$f":"Dramatic!U35","v":12},{"$f":"Dramatic!S35","v":69},{"$f":"IF((DramaticMR!$B52+DramaticMR!$C52)>0,1,0)","v":1},null,null,null,null,null,null,{"$f":"SUM(E52,G52,I52)","v":0},0]
[{"$f":"Dramatic!A36","v":"G-203"},{"$f":"Dramatic!U36","v":0},{"$f":"Dramatic!S36","v":0},{"$f":"IF((DramaticMR!$B53+DramaticMR!$C53)>0,1,0)","v":0},null,null,null,null,null,null,{"$f":"SUM(E53,G53,I53)","v":0},0]
[{"$f":"Dramatic!A37","v":"G-204"},{"$f":"Dramatic!U37","v":0},{"$f":"Dramatic!S37","v":0},{"$f":"IF((DramaticMR!$B54+DramaticMR!$C54)>0,1,0)","v":0},null,null,null,null,null,null,{"$f":"SUM(E54,G54,I54)","v":0},0]
[{"$f":"Dramatic!A39","v":"H-201"},{"$f":"Dramatic!U39","v":7},{"$f":"Dramatic!S39","v":73},{"$f":"IF((DramaticMR!$B55+DramaticMR!$C55)>0,1,0)","v":1},null,null,null,null,null,null,{"$f":"SUM(E55,G55,I55)","v":0},0]
[{"$f":"Dramatic!A40","v":"H-202"},{"$f":"Dramatic!U40","v":4},{"$f":"Dramatic!S40","v":74},{"$f":"IF((DramaticMR!$B56+DramaticMR!$C56)>0,1,0)","v":1},1.0,25.0,2.0,25.0,1.0,25.0,{"$f":"SUM(E56,G56,I56)","v":4},75]
[{"$f":"Dramatic!A41","v":"H-203"},{"$f":"Dramatic!U41","v":11},{"$f":"Dramatic!S41","v":65},{"$f":"IF((DramaticMR!$B57+DramaticMR!$C57)>0,1,0)","v":1},null,null,null,null,null,null,{"$f":"SUM(E57,G57,I57)","v":0},0]
[{"$f":"Dramatic!A42","v":"H-204"},{"$f":"Dramatic!U42","v":12},{"$f":"Dramatic!S42","v":58},{"$f":"IF((DramaticMR!$B58+DramaticMR!$C58)>0,1,0)","v":1},null,null,null,null,null,null,{"$f":"SUM(E58,G58,I58)","v":0},0]
[{"$f":"Dramatic!A44","v":"J-201"},{"$f":"Dramatic!U44","v":7},{"$f":"Dramatic!S44","v":62},{"$f":"IF((DramaticMR!$B59+DramaticMR!$C59)>0,1,0)","v":1},null,null,null,null,null,null,{"$f":"SUM(E59,G59,I59)","v":0},0]
[{"$f":"Dramatic!A45","v":"J-202"},{"$f":"Dramatic!U45","v":0},{"$f":"Dramatic!S45","v":0},{"$f":"IF((DramaticMR!$B60+DramaticMR!$C60)>0,1,0)","v":0},null,null,null,null,null,null,{"$f":"SUM(E60,G60,I60)","v":0},0]
[{"$f":"Dramatic!A46","v":"J-203"},{"$f":"Dramatic!U46","v":0},{"$f":"Dramatic!S46","v":0},{"$f":"IF((DramaticMR!$B61+DramaticMR!$C61)>0,1,0)","v":0},null,null,null,null,null,null,{"$f":"SUM(E61,G61,I61)","v":0},0]
[{"$f":"Dramatic!A47","v":"J-204"},{"$f":"Dramatic!U47","v":0},{"$f":"Dramatic!S47","v":0},{"$f":"IF((DramaticMR!$B62+DramaticMR!$C62)>0,1,0)","v":0},null,null,null,null,null,null,{"$f":"SUM(E62,G62,I62)","v":0},0]
[{"$f":"Dramatic!A49","v":"K-201"},{"$f":"Dramatic!U49","v":9},{"$f":"Dramatic!S49","v":70},{"$f":"IF((DramaticMR!$B63+DramaticMR!$C63)>0,1,0)","v":1},null,null,null,null,null,null,{"$f":"SUM(E63,G63,I63)","v":0},0]
[{"$f":"Dramatic!A50","v":"K-202"},{"$f":"Dramatic!U50","v":12},{"$f":"Dramatic!S50","v":62},{"$f":"IF((DramaticMR!$B64+DramaticMR!$C64)>0,1,0)","v":1},null,null,null,null,null,null,{"$f":"SUM(E64,G64,I64)","v":0},0]
[{"$f":"Dramatic!A51","v":"K-203"},{"$f":"Dramatic!U51","v":7},{"$f":"Dramatic!S51","v":73},{"$f":"IF((DramaticMR!$B65+DramaticMR!$C65)>0,1,0)","v":1},null,null,null,null,null,null,{"$f":"SUM(E65,G65,I65)","v":0},0]
[{"$f":"Dramatic!A52","v":"K-204"},{"$f":"Dramatic!U52","v":0},{"$f":"Dramatic!S52","v":0},{"$f":"IF((DramaticMR!$B66+DramaticMR!$C66)>0,1,0)","v":0},null,null,null,null,null,null,{"$f":"SUM(E66,G66,I66)","v":0},0]
[{"$f":"Dramatic!A54","v":"L-201"},{"$f":"Dramatic!U54","v":11},{"$f":"Dramatic!S54","v":55},{"$f":"IF((DramaticMR!$B67+DramaticMR!$C67)>0,1,0)","v":1},null,null,null,null,null,null,{"$f":"SUM(E67,G67,I67)","v":0},0]
[{"$f":"Dramatic!A55","v":"L-202"},{"$f":"Dramatic!U55","v":12},{"$f":"Dramatic!S55","v":59},{"$f":"IF((DramaticMR!$B68+DramaticMR!$C68)>0,1,0)","v":1},null,null,null,null,null,null,{"$f":"SUM(E68,G68,I68)","v":0},0]
[{"$f":"Dramatic!A56","v":"L-203"},{"$f":"Dramatic!U56","v":0},{"$f":"Dramatic!S56","v":0},{"$f":"IF((DramaticMR!$B69+DramaticMR!$C69)>0,1,0)","v":0},null,null,null,null,null,null,{"$f":"SUM(E69,G69,I69)","v":0},0]
[{"$f":"Dramatic!A57","v":"L-204"},{"$f":"Dramatic!U57","v":0},{"$f":"Dramatic!S57","v":0},{"$f":"IF((DramaticMR!$B70+DramaticMR!$C70)>0,1,0)","v":0},null,null,null,null,null,null,{"$f":"SUM(E70,G70,I70)","v":0},0]
[{"$f":"Dramatic!A59","v":"M-201"},{"$f":"Dramatic!U59","v":9},{"$f":"Dramatic!S59","v":69},{"$f":"IF((DramaticMR!$B71+DramaticMR!$C71)>0,1,0)","v":1},null,null,null,null,null,null,{"$f":"SUM(E71,G71,I71)","v":0},0]
[{"$f":"Dramatic!A60","v":"M-202"},{"$f":"Dramatic!U60","v":10},{"$f":"Dramatic!S60","v":70},{"$f":"IF((DramaticMR!$B72+DramaticMR!$C72)>0,1,0)","v":1},null,null,null,null,null,null,{"$f":"SUM(E72,G72,I72)","v":0},0]
[{"$f":"Dramatic!A61","v":"M-203"},{"$f":"Dramatic!U61","v":0},{"$f":"Dramatic!S61","v":0},{"$f":"IF((DramaticMR!$B73+DramaticMR!$C73)>0,1,0)","v":0},null,null,null,null,null,null,{"$f":"SUM(E73,G73,I73)","v":0},0]
[{"$f":"Dramatic!A62","v":"M-204"},{"$f":"Dramatic!U62","v":0},{"$f":"Dramatic!S62","v":0},{"$f":"IF((DramaticMR!$B74+DramaticMR!$C74)>0,1,0)","v":0},null,null,null,null,null,null,{"$f":"SUM(E74,G74,I74)","v":0},0]
[{"$f":"Dramatic!A64","v":"N-201"},{"$f":"Dramatic!U64","v":9},{"$f":"Dramatic!S64","v":65},{"$f":"IF((DramaticMR!$B75+DramaticMR!$C75)>0,1,0)","v":1},null,null,null,null,null,null,{"$f":"SUM(E75,G75,I75)","v":0},0]
[{"$f":"Dramatic!A65","v":"N-202"},{"$f":"Dramatic!U65","v":11},{"$f":"Dramatic!S65","v":65},{"$f":"IF((DramaticMR!$B76+DramaticMR!$C76)>0,1,0)","v":1},null,null,null,null,null,null,{"$f":"SUM(E76,G76,I76)","v":0},0]
[{"$f":"Dramatic!A66","v":"N-203"},{"$f":"Dramatic!U66","v":9},{"$f":"Dramatic!S66","v":69},{"$f":"IF((DramaticMR!$B77+DramaticMR!$C77)>0,1,0)","v":1},null,null,null,null,null,null,{"$f":"SUM(E77,G77,I77)","v":0},0]
[{"$f":"Dramatic!A67","v":"N-204"},{"$f":"Dramatic!U67","v":0},{"$f":"Dramatic!S67","v":0},{"$f":"IF((DramaticMR!$B78+DramaticMR!$C78)>0,1,0)","v":0},null,null,null,null,null,null,{"$f":"SUM(E78,G78,I78)","v":0},0]
[{"$f":"Dramatic!A69","v":"P-201"},{"$f":"Dramatic!U69","v":7},{"$f":"Dramatic!S69","v":68},{"$f":"IF((DramaticMR!$B79+DramaticMR!$C79)>0,1,0)","v":1},null,null,null,null,null,null,{"$f":"SUM(E79,G79,I79)","v":0},0]
[{"$f":"Dramatic!A70","v":"P-202"},{"$f":"Dramatic!U70","v":7},{"$f":"Dramatic!S70","v":72},{"$f":"IF((DramaticMR!$B80+DramaticMR!$C80)>0,1,0)","v":1},null,null,null,null,null,null,{"$f":"SUM(E80,G80,I80)","v":0},0]
[{"$f":"Dramatic!A71","v":"P-203"},{"$f":"Dramatic!U71","v":7},{"$f":"Dramatic!S71","v":69},{"$f":"IF((DramaticMR!$B81+DramaticMR!$C81)>0,1,0)","v":1},null,null,null,null,null,null,{"$f":"SUM(E81,G81,I81)","v":0},0]
[{"$f":"Dramatic!A72","v":"P-204"},{"$f":"Dramatic!U72","v":8},{"$f":"Dramatic!S72","v":70},{"$f":"IF((DramaticMR!$B82+DramaticMR!$C82)>0,1,0)","v":1},null,null,null,null,null,null,{"$f":"SUM(E82,G82,I82)","v":0},0]
[{"$f":"Dramatic!A74","v":"Q-201"},{"$f":"Dramatic!U74","v":0},{"$f":"Dramatic!S74","v":0},{"$f":"IF((DramaticMR!$B83+DramaticMR!$C83)>0,1,0)","v":0},null,null,null,null,null,null,{"$f":"SUM(E83,G83,I83)","v":0},0]
[{"$f":"Dramatic!A75","v":"Q-202"},{"$f":"Dramatic!U75","v":0},{"$f":"Dramatic!S75","v":0},{"$f":"IF((DramaticMR!$B84+DramaticMR!$C84)>0,1,0)","v":0},null,null,null,null,null,null,{"$f":"SUM(E84,G84,I84)","v":0},0]
[{"$f":"Dramatic!A76","v":"Q-203"},{"$f":"Dramatic!U76","v":0},{"$f":"Dramatic!S76","v":0},{"$f":"IF((DramaticMR!$B85+DramaticMR!$C85)>0,1,0)","v":0},null,null,null,null,null,null,{"$f":"SUM(E85,G85,I85)","v":0},0]
[{"$f":"Dramatic!A77","v":"Q-204"},{"$f":"Dramatic!U77","v":0},{"$f":"Dramatic!S77","v":0},{"$f":"IF((DramaticMR!$B86+DramaticMR!$C86)>0,1,0)","v":0},null,null,null,null,null,null,{"$f":"SUM(E86,G86,I86)","v":0},0]
[{"$f":"Dramatic!A79","v":"R-201"},{"$f":"Dramatic!U79","v":9},{"$f":"Dramatic!S79","v":64},{"$f":"IF((DramaticMR!$B87+DramaticMR!$C87)>0,1,0)","v":1},null,null,null,null,null,null,{"$f":"SUM(E87,G87,I87)","v":0},0]
[{"$f":"Dramatic!A80","v":"R-202"},{"$f":"Dramatic!U80","v":10},{"$f":"Dramatic!S80","v":71},{"$f":"IF((DramaticMR!$B88+DramaticMR!$C88)>0,1,0)","v":1},null,null,null,null,null,null,{"$f":"SUM(E88,G88,I88)","v":0},0]
[{"$f":"Dramatic!A81","v":"R-203"},{"$f":"Dramatic!U81","v":0},{"$f":"Dramatic!S81","v":0},{"$f":"IF((DramaticMR!$B89+DramaticMR!$C89)>0,1,0)","v":0},null,null,null,null,null,null,{"$f":"SUM(E89,G89,I89)","v":0},0]
[{"$f":"Dramatic!A82","v":"R-204"},{"$f":"Dramatic!U82","v":0},{"$f":"Dramatic!S82","v":0},{"$f":"IF((DramaticMR!$B90+DramaticMR!$C90)>0,1,0)","v":0},null,null,null,null,null,null,{"$f":"SUM(E90,G90,I90)","v":0},0]
[{"$f":"Dramatic!A84","v":"S-201"},{"$f":"Dramatic!U84","v":3},{"$f":"Dramatic!S84","v":75},{"$f":"IF((DramaticMR!$B91+DramaticMR!$C91)>0,1,0)","v":1},5.0,23.0,6.0,25.0,4.0,22.0,{"$f":"SUM(E91,G91,I91)","v":15},70]
[{"$f":"Dramatic!A85","v":"S-202"},{"$f":"Dramatic!U85","v":12},{"$f":"Dramatic!S85","v":67},{"$f":"IF((DramaticMR!$B92+DramaticMR!$C92)>0,1,0)","v":1},null,null,null,null,null,null,{"$f":"SUM(E92,G92,I92)","v":0},0]
[{"$f":"Dramatic!A86","v":"S-203"},{"$f":"Dramatic!U86","v":0},{"$f":"Dramatic!S86","v":0},{"$f":"IF((DramaticMR!$B93+DramaticMR!$C93)>0,1,0)","v":0},null,null,null,null,null,null,{"$f":"SUM(E93,G93,I93)","v":0},0]
[{"$f":"Dramatic!A87","v":"S-204"},{"$f":"Dramatic!U87","v":0},{"$f":"Dramatic!S87","v":0},{"$f":"IF((DramaticMR!$B94+DramaticMR!$C94)>0,1,0)","v":0},null,null,null,null,null,null,{"$f":"SUM(E94,G94,I94)","v":0},0]
[{"$f":"Dramatic!A89","v":"T-201"},{"$f":"Dramatic!U89","v":0},{"$f":"Dramatic!S89","v":0},{"$f":"IF((DramaticMR!$B95+DramaticMR!$C95)>0,1,0)","v":0},null,null,null,null,null,null,{"$f":"SUM(E95,G95,I95)","v":0},0]
[{"$f":"Dramatic!A90","v":"T-202"},{"$f":"Dramatic!U90","v":0},{"$f":"Dramatic!S90","v":0},{"$f":"IF((DramaticMR!$B96+DramaticMR!$C96)>0,1,0)","v":0},null,null,null,null,null,null,{"$f":"SUM(E96,G96,I96)","v":0},0]
[{"$f":"Dramatic!A91","v":"T-203"},{"$f":"Dramatic!U91","v":0},{"$f":"Dramatic!S91","v":0},{"$f":"IF((DramaticMR!$B97+DramaticMR!$C97)>0,1,0)","v":0},null,null,null,null,null,null,{"$f":"SUM(E97,G97,I97)","v":0},0]
[{"$f":"Dramatic!A92","v":"T-204"},{"$f":"Dramatic!U92","v":0},{"$f":"Dramatic!S92","v":0},{"$f":"IF((DramaticMR!$B98+DramaticMR!$C98)>0,1,0)","v":0},null,null,null,null,null,null,{"$f":"SUM(E98,G98,I98)","v":0},0]
[{"$f":"Dramatic!A94","v":"U-201"},{"$f":"Dramatic!U94","v":0},{"$f":"Dramatic!S94","v":0},{"$f":"IF((DramaticMR!$B99+DramaticMR!$C99)>0,1,0)","v":0},null,null,null,null,null,null,{"$f":"SUM(E99,G99,I99)","v":0},0]
[{"$f":"Dramatic!A95","v":"U-202"},{"$f":"Dramatic!U95","v":0},{"$f":"Dramatic!S95","v":0},{"$f":"IF((DramaticMR!$B100+DramaticMR!$C100)>0,1,0)","v":0},null,null,null,null,null,null,{"$f":"SUM(E100,G100,I100)","v":0},0]
[{"$f":"Dramatic!A96","v":"U-203"},{"$f":"Dramatic!U96","v":0},{"$f":"Dramatic!S96","v":0},{"$f":"IF((DramaticMR!$B101+DramaticMR!$C101)>0,1,0)","v":0},null,null,null,null,null,null,{"$f":"SUM(E101,G101,I101)","v":0},0]
[{"$f":"Dramatic!A97","v":"U-204"},{"$f":"Dramatic!U97","v":0},{"$f":"Dramatic!S97","v":0},{"$f":"IF((DramaticMR!$B102+DramaticMR!$C102)>0,1,0)","v":0},null,null,null,null,null,null,{"$f":"SUM(E102,G102,I102)","v":0},0]
[{"$f":"Dramatic!A99","v":"V-201"},{"$f":"Dramatic!U99","v":0},{"$f":"Dramatic!S99","v":0},{"$f":"IF((DramaticMR!$B103+DramaticMR!$C103)>0,1,0)","v":0},null,null,null,null,null,null,{"$f":"SUM(E103,G103,I103)","v":0},0]
[{"$f":"Dramatic!A100","v":"V-202"},{"$f":"Dramatic!U100","v":0},{"$f":"Dramatic!S100","v":0},{"$f":"IF((DramaticMR!$B104+DramaticMR!$C104)>0,1,0)","v":0},null,null,null,null,null,null,{"$f":"SUM(E104,G104,I104)","v":0},0]
[{"$f":"Dramatic!A101","v":"V-203"},{"$f":"Dramatic!U101","v":0},{"$f":"Dramatic!S101","v":0},{"$f":"IF((DramaticMR!$B105+DramaticMR!$C105)>0,1,0)","v":0},null,null,null,null,null,null,{"$f":"SUM(E105,G105,I105)","v":0},0]
[{"$f":"Dramatic!A102","v":"V-204"},{"$f":"Dramatic!U102","v":0},{"$f":"Dramatic!S102","v":0},{"$f":"IF((DramaticMR!$B106+DramaticMR!$C106)>0,1,0)","v":0},null,null,null,null,null,null,{"$f":"SUM(E106,G106,I106)","v":0},0]
[{"$f":"Dramatic!A104","v":"W-201"},{"$f":"Dramatic!U104","v":0},{"$f":"Dramatic!S104","v":0},{"$f":"IF((DramaticMR!$B107+DramaticMR!$C107)>0,1,0)","v":0},null,null,null,null,null,null,{"$f":"SUM(E107,G107,I107)","v":0},0]
[{"$f":"Dramatic!A105","v":"W-202"},{"$f":"Dramatic!U105","v":0},{"$f":"Dramatic!S105","v":0},{"$f":"IF((DramaticMR!$B108+DramaticMR!$C108)>0,1,0)","v":0},null,null,null,null,null,null,{"$f":"SUM(E108,G108,I108)","v":0},0]
[{"$f":"Dramatic!A106","v":"W-203"},{"$f":"Dramatic!U106","v":0},{"$f":"Dramatic!S106","v":0},{"$f":"IF((DramaticMR!$B109+DramaticMR!$C109)>0,1,0)","v":0},null,null,null,null,null,null,{"$f":"SUM(E109,G109,I109)","v":0},0]
[{"$f":"Dramatic!A107","v":"W-204"},{"$f":"Dramatic!U107","v":0},{"$f":"Dramatic!S107","v":0},{"$f":"IF((DramaticMR!$B110+DramaticMR!$C110)>0,1,0)","v":0},null,null,null,null,null,null,{"$f":"SUM(E110,G110,I110)","v":0},0]
[{"$f":"Dramatic!A109","v":"X-201"},{"$f":"Dramatic!U109","v":0},{"$f":"Dramatic!S109","v":0},{"$f":"IF((DramaticMR!$B111+DramaticMR!$C111)>0,1,0)","v":0},null,null,null,null,null,null,{"$f":"SUM(E111,G111,I111)","v":0},0]
[{"$f":"Dramatic!A110","v":"X-202"},{"$f":"Dramatic!U110","v":0},{"$f":"Dramatic!S110","v":0},{"$f":"IF((DramaticMR!$B112+DramaticMR!$C112)>0,1,0)","v":0},null,null,null,null,null,null,{"$f":"SUM(E112,G112,I112)","v":0},0]
[{"$f":"Dramatic!A111","v":"X-203"},{"$f":"Dramatic!U111","v":0},{"$f":"Dramatic!S111","v":0},{"$f":"IF((DramaticMR!$B113+DramaticMR!$C113)>0,1,0)","v":0},null,null,null,null,null,null,{"$f":"SUM(E113,G113,I113)","v":0},0]
[{"$f":"Dramatic!A112","v":"X-204"},{"$f":"Dramatic!U112","v":0},{"$f":"Dramatic!S112","v":0},{"$f":"IF((DramaticMR!$B114+DramaticMR!$C114)>0,1,0)","v":0},null,null,null,null,null,null,{"$f":"SUM(E114,G114,I114)","v":0},0]
[{"$f":"Dramatic!A114","v":"Y-201"},{"$f":"Dramatic!U114","v":0},{"$f":"Dramatic!S114","v":0},{"$f":"IF((DramaticMR!$B115+DramaticMR!$C115)>0,1,0)","v":0},null,null,null,null,null,null,{"$f":"SUM(E115,G115,I115)","v":0},0]
[{"$f":"Dramatic!A115","v":"Y-202"},{"$f":"Dramatic!U115","v":0},{"$f":"Dramatic!S115","v":0},{"$f":"IF((DramaticMR!$B116+DramaticMR!$C116)>0,1,0)","v":0},null,null,null,null,null,null,{"$f":"SUM(E116,G116,I116)","v":0},0]
[{"$f":"Dramatic!A116","v":"Y-203"},{"$f":"Dramatic!U116","v":0},{"$f":"Dramatic!S116","v":0},{"$f":"IF((DramaticMR!$B117+DramaticMR!$C117)>0,1,0)","v":0},null,null,null,null,null,null,{"$f":"SUM(E117,G117,I117)","v":0},0]
[{"$f":"Dramatic!A117","v":"Y-204"},{"$f":"Dramatic!U117","v":0},{"$f":"Dramatic!S117","v":0},{"$f":"IF((DramaticMR!$B118+DramaticMR!$C118)>0,1,0)","v":0},null,null,null,null,null,null,{"$f":"SUM(E118,G118,I118)","v":0},0]
[{"$f":"Dramatic!A119","v":"Z-201"},{"$f":"Dramatic!U119","v":0},{"$f":"Dramatic!S119","v":0},{"$f":"IF((DramaticMR!$B119+DramaticMR!$C119)>0,1,0)","v":0},null,null,null,null,null,null,{"$f":"SUM(E119,G119,I119)","v":0},0]
[{"$f":"Dramatic!A120","v":"Z-202"},{"$f":"Dramatic!U120","v":0},{"$f":"Dramatic!S120","v":0},{"$f":"IF((DramaticMR!$B120+DramaticMR!$C120)>0,1,0)","v":0},null,null,null,null,null,null,{"$f":"SUM(E120,G120,I120)","v":0},0]
[{"$f":"Dramatic!A121","v":"Z-203"},{"$f":"Dramatic!U121","v":0},{"$f":"Dramatic!S121","v":0},{"$f":"IF((DramaticMR!$B121+DramaticMR!$C121)>0,1,0)","v":0},null,null,null,null,null,null,{"$f":"SUM(E121,G121,I121)","v":0},0]
[{"$f":"Dramatic!A122","v":"Z-204"},{"$f":"Dramatic!U122","v":0},{"$f":"Dramatic!S122","v":0},{"$f":"IF((DramaticMR!$B122+DramaticMR!$C122)>0,1,0)","v":0},null,null,null,null,null,null,{"$f":"SUM(E122,G122,I122)","v":0},0]

{"sheet":"Classical","index":5,"n_rows":152,"n_cols":31,"rows_kept":152,"cut":false,"hidden":false,"merged":[]}
["Classical Scenes",null,null,null,null,null,null,null,null,null,"Rank 1-4",null,null,null,null,null,null,null,null,null,null,null,null,"S","E","G","F",null,"1violation","2violations","3violations"]
[null,null,null,null,null,null,null,null,null,null,"Round 1:",null,"Round 2:",null,"Round 3:",null,"-2 for each",null,null,null,null,null,null,null,null,null,null,"Drops lowest from column q"]
[null,null,null,"Student Name",null,"Student Name",null,"Student Name",null,"Title of Piece","R1 rank","R1 score","R2 rank","R2 score","R3 rank","R3 score","Time Violations",null,"TOTAL SCORE",null,"TOTAL RANK",null,null,"TOTAL SCHOOL SWEEPS POINTS",null,null,null,"Drop Lowest"]
["A-301",null,null,"Dana","Carlisle","Anjolee","Jones","Lina","Rascon","As you like it",4.0,25.0,2.0,24.0,3.0,24.0,null,{"$f":"IF(Q4=\"1violation\",-7*1,IF(Q4=\"2violations\",-7*2,IF(Q4=\"3violations\",-7*3,IF(Q4=\"\",\"\"))))","v":""},{"$f":"SUM(L4,N4,P4,R4)","v":73},null,{"$f":"SUM(K4,M4,O4)","v":9},null,null,null,{"$f":"SUM(S4,S6,S5,S7,-AB4)","v":223},null,null,{"$f":"MIN(S4:S7)","v":73}]
["A-302",null,null,"Hailey","Howard","Brielle","Knapp","Lindsey","Olsen","Assembly Women",3.0,25.0,2.0,25.0,4.0,24.0,null,"",74,null,9]
["A-303",null,null,"Kailee","Schiffman","Matthew","Lundeberg",null,null,"Tartuffe",1.0,25.0,1.0,25.0,4.0,24.0,null,"",74,null,6]
["A-304",null,null,"Natalie","Dowding","Brynlee","Pipes",null,null,"Importance",1.0,25.0,1.0,25.0,1.0,25.0,null,"",75,null,3]
[]
["B-301",null,null,null,null,null,null,null,null,null,null,null,null,null,null,null,null,{"$f":"IF(Q9=\"1violation\",-7*1,IF(Q9=\"2violations\",-7*2,IF(Q9=\"3violations\",-7*3,IF(Q9=\"\",\"\"))))","v":""},{"$f":"SUM(L9,N9,P9,R9)","v":0},null,{"$f":"SUM(K9,M9,O9)","v":0},null,null,null,{"$f":"SUM(S9,S11,S10,S12,-AB9)","v":0},null,null,{"$f":"MIN(S9:S12)","v":0}]
["B-302",null,null,null,null,null,null,null,null,null,null,null,null,null,null,null,null,"",0,null,0]
["B-303",null,null,null,null,null,null,null,null,null,null,null,null,null,null,null,null,"",0,null,0]
["B-304",null,null,null,null,null,null,null,null,null,null,null,null,null,null,null,null,"",0,null,0]
[]
["C-301",null,null,null,"Wells",null,"Wheeler",null,null,"Twelfth Night",2.0,21.0,1.0,25.0,4.0,24.0,null,{"$f":"IF(Q14=\"1violation\",-7*1,IF(Q14=\"2violations\",-7*2,IF(Q14=\"3violations\",-7*3,IF(Q14=\"\",\"\"))))","v":""},{"$f":"SUM(L14,N14,P14,R14)","v":70},null,{"$f":"SUM(K14,M14,O14)","v":7},null,null,null,{"$f":"SUM(S14,S16,S15,S17,-AB14)","v":218},null,null,{"$f":"MIN(S14:S17)","v":0}]
["C-302",null,null,null,"Hawkins",null,"Hawley",null,null,"Importance",1.0,25.0,3.0,25.0,1.0,25.0,null,"",75,null,5]
["C-303",null,null,null,"Wells",null,"Rowley",null,null,"Two Gentleman",2.0,25.0,4.0,24.0,4.0,24.0,null,"",73,null,10]
["C-304",null,null,null,null,null,null,null,null,null,null,null,null,null,null,null,null,"",0,null,0]
[]
["D-301",null,null,null,null,null,null,null,null,null,null,null,null,null,null,null,null,{"$f":"IF(Q19=\"1violation\",-7*1,IF(Q19=\"2violations\",-7*2,IF(Q19=\"3violations\",-7*3,IF(Q19=\"\",\"\"))))","v":""},{"$f":"SUM(L19,N19,P19,R19)","v":0},null,{"$f":"SUM(K19,M19,O19)","v":0},null,null,null,{"$f":"SUM(S19,S21,S20,S22,-AB19)","v":0},null,null,{"$f":"MIN(S19:S22)","v":0}]
["D-302",null,null,null,null,null,null,null,null,null,null,null,null,null,null,null,null,"",0,null,0]
["D-303",null,null,null,null,null,null,null,null,null,null,null,null,null,null,null,null,"",0,null,0]
["D-304",null,null,null,null,null,null,null,null,null,null,null,null,null,null,null,null,"",0,null,0]
[]
["E-301",null,null,null,"Shidel",null,"Lester",null,null,"An Ideal Husband",4.0,20.0,4.0,25.0,4.0,24.0,null,{"$f":"IF(Q24=\"1violation\",-7*1,IF(Q24=\"2violations\",-7*2,IF(Q24=\"3violations\",-7*3,IF(Q24=\"\",\"\"))))","v":""},{"$f":"SUM(L24,N24,P24,R24)","v":69},null,{"$f":"SUM(K24,M24,O24)","v":12},null,null,null,{"$f":"SUM(S24,S26,S25,S27,-AB24)","v":69},null,null,{"$f":"MIN(S24:S27)","v":0}]
["E-302",null,null,null,null,null,null,null,null,null,null,null,null,null,null,null,null,"",0,null,0]
["E-303",null,null,null,null,null,null,null,null,null,null,null,null,null,null,null,null,"",0,null,0]
["E-304",null,null,null,null,null,null,null,null,null,null,null,null,null,null,null,null,"",0,null,0]
[]
["F-301",null,null,null,"Murphy",null,"Nielsen",null,null,"Macbeth",2.0,25.0,2.0,24.0,3.0,25.0,null,{"$f":"IF(Q29=\"1violation\",-7*1,IF(Q29=\"2violations\",-7*2,IF(Q29=\"3violations\",-7*3,IF(Q29=\"\",\"\"))))","v":""},{"$f":"SUM(L29,N29,P29,R29)","v":74},null,{"$f":"SUM(K29,M29,O29)","v":7},null,null,null,{"$f":"SUM(S29,S31,S30,S32,-AB29)","v":219},null,null,{"$f":"MIN(S29:S32)","v":71}]
["F-302",null,null,null,"Boren",null,"Pollock",null,null,"Taming",2.0,25.0,2.0,24.0,1.0,25.0,null,"",74,null,5]
["F-303",null,null,null,"Johnson",null,"Tanner",null,"Workman","Macbeth",4.0,23.0,3.0,24.0,3.0,24.0,null,"",71,null,10]
["F-304",null,null,null,"Bradford",null,"Jones",null,null,"Henry",3.0,25.0,4.0,21.0,1.0,25.0,null,"",71,null,8]
[]
["G-301",null,null,null,"Patterson",null,"Nichols",null,null,"Much Ado",3.0,24.0,2.0,25.0,3.0,25.0,null,{"$f":"IF(Q34=\"1violation\",-7*1,IF(Q34=\"2violations\",-7*2,IF(Q34=\"3violations\",-7*3,IF(Q34=\"\",\"\"))))","v":""},{"$f":"SUM(L34,N34,P34,R34)","v":74},null,{"$f":"SUM(K34,M34,O34)","v":8},null,null,null,{"$f":"SUM(S34,S36,S35,S37,-AB34)","v":74},null,null,{"$f":"MIN(S34:S37)","v":0}]
["G-302",null,null,null,null,null,null,null,null,null,null,null,null,null,null,null,null,"",0,null,0]
["G-303",null,null,null,null,null,null,null,null,null,null,null,null,null,null,null,null,"",0,null,0]
["G-304",null,null,null,null,null,null,null,null,null,null,null,null,null,null,null,null,"",0,null,0]
[]
["H-301",null,null,null,"Call",null,"Colbert",null,null,"Merchant",1.0,21.0,1.0,25.0,2.0,25.0,null,{"$f":"IF(Q39=\"1violation\",-7*1,IF(Q39=\"2violations\",-7*2,IF(Q39=\"3violations\",-7*3,IF(Q39=\"\",\"\"))))","v":""},{"$f":"SUM(L39,N39,P39,R39)","v":71},null,{"$f":"SUM(K39,M39,O39)","v":4},null,null,null,{"$f":"SUM(S39,S41,S40,S42,-AB39)","v":217},null,null,{"$f":"MIN(S39:S42)","v":71}]
["H-302",null,null,null,"Howe",null,"Sowards",null,null,"Richard III",4.0,24.0,4.0,23.0,2.0,25.0,null,"",72,null,10]
["H-303",null,null,null,"Uchmann",null,"Rushton",null,"Hokansen","Tartuffe",1.0,25.0,4.0,23.0,2.0,24.0,null,"",72,null,7]
["H-304",null,null,null,"Sowards",null,"Thatcher",null,"Rowley","Richard III",3.0,25.0,3.0,25.0,4.0,23.0,null,"",73,null,10]
[]
["J-301",null,null,null,null,null,null,null,null,null,null,null,null,null,null,null,null,{"$f":"IF(Q44=\"1violation\",-7*1,IF(Q44=\"2violations\",-7*2,IF(Q44=\"3violations\",-7*3,IF(Q44=\"\",\"\"))))","v":""},{"$f":"SUM(L44,N44,P44,R44)","v":0},null,{"$f":"SUM(K44,M44,O44)","v":0},null,null,null,{"$f":"SUM(S44,S46,S45,S47,-AB44)","v":0},null,null,{"$f":"MIN(S44:S47)","v":0}]
["J-302",null,null,null,null,null,null,null,null,null,null,null,null,null,null,null,null,"",0,null,0]
["J-303",null,null,null,null,null,null,null,null,null,null,null,null,null,null,null,null,"",0,null,0]
["J-304",null,null,null,null,null,null,null,null,null,null,null,null,null,null,null,null,"",0,null,0]
[]
["K-301",null,null,null,"Chiazzese",null,"Baker",null,"Swick","Richard III",4.0,20.0,4.0,21.0,3.0,25.0,null,{"$f":"IF(Q49=\"1violation\",-7*1,IF(Q49=\"2violations\",-7*2,IF(Q49=\"3violations\",-7*3,IF(Q49=\"\",\"\"))))","v":""},{"$f":"SUM(L49,N49,P49,R49)","v":66},null,{"$f":"SUM(K49,M49,O49)","v":11},null,null,null,{"$f":"SUM(S49,S51,S50,S52,-AB49)","v":66},null,null,{"$f":"MIN(S49:S52)","v":0}]
["K-302",null,null,null,null,null,null,null,null,null,null,null,null,null,null,null,null,"",0,null,0]
["K-303",null,null,null,null,null,null,null,null,null,null,null,null,null,null,null,null,"",0,null,0]
["K-304",null,null,null,null,null,null,null,null,null,null,null,null,null,null,null,null,"",0,null,0]
[]
["L-301",null,null,null,"Sanders",null,"Larrabee",null,null,"Antigone",4.0,25.0,4.0,21.0,4.0,24.0,null,{"$f":"IF(Q54=\"1violation\",-7*1,IF(Q54=\"2violations\",-7*2,IF(Q54=\"3violations\",-7*3,IF(Q54=\"\",\"\"))))","v":""},{"$f":"SUM(L54,N54,P54,R54)","v":70},null,{"$f":"SUM(K54,M54,O54)","v":12},null,null,null,{"$f":"SUM(S54,S56,S55,S57,-AB54)","v":70},null,null,{"$f":"MIN(S54:S57)","v":0}]
["L-302",null,null,null,null,null,null,null,null,null,null,null,null,null,null,null,null,"",0,null,0]
["L-303",null,null,null,null,null,null,null,null,null,null,null,null,null,null,null,null,"",0,null,0]
["L-304",null,null,null,null,null,null,null,null,null,null,null,null,null,null,null,null,"",0,null,0]
[]
["M-301",null,null,null,null,null,null,null,null,null,null,null,null,null,null,null,null,{"$f":"IF(Q59=\"1violation\",-7*1,IF(Q59=\"2violations\",-7*2,IF(Q59=\"3violations\",-7*3,IF(Q59=\"\",\"\"))))","v":""},{"$f":"SUM(L59,N59,P59,R59)","v":0},null,{"$f":"SUM(K59,M59,O59)","v":0},null,null,null,{"$f":"SUM(S59,S61,S60,S62,-AB59)","v":0},null,null,{"$f":"MIN(S59:S62)","v":0}]
["M-302",null,null,null,null,null,null,null,null,null,null,null,null,null,null,null,null,"",0,null,0]
["M-303",null,null,null,null,null,null,null,null,null,null,null,null,null,null,null,null,"",0,null,0]
["M-304",null,null,null,null,null,null,null,null,null,null,null,null,null,null,null,null,"",0,null,0]
[]
["N-301",null,null,null,"Davis",null,"Stott",null,null,"Importance",null,null,null,null,null,null,null,{"$f":"IF(Q64=\"1violation\",-7*1,IF(Q64=\"2violations\",-7*2,IF(Q64=\"3violations\",-7*3,IF(Q64=\"\",\"\"))))","v":""},{"$f":"SUM(L64,N64,P64,R64)","v":0},null,{"$f":"SUM(K64,M64,O64)","v":0},null,null,null,{"$f":"SUM(S64,S66,S65,S67,-AB64)","v":0},null,null,{"$f":"MIN(S64:S67)","v":0}]
["N-302",null,null,null,null,null,null,null,null,null,null,null,null,null,null,null,null,"",0,null,0]
["N-303",null,null,null,null,null,null,null,null,null,null,null,null,null,null,null,null,"",0,null,0]
["N-304",null,null,null,null,null,null,null,null,null,null,null,null,null,null,null,null,"",0,null,0]
[]
["P-301",null,null,null,"Anderson",null,"Anderson",null,null,"Henry VI",4.0,23.0,4.0,23.0,2.0,25.0,null,{"$f":"IF(Q69=\"1violation\",-7*1,IF(Q69=\"2violations\",-7*2,IF(Q69=\"3violations\",-7*3,IF(Q69=\"\",\"\"))))","v":""},{"$f":"SUM(L69,N69,P69,R69)","v":71},null,{"$f":"SUM(K69,M69,O69)","v":10},null,null,null,{"$f":"SUM(S69,S71,S70,S72,-AB69)","v":218},null,null,{"$f":"MIN(S69:S72)","v":0}]
["P-302",null,null,null,"Barsic",null,"Nesbit",null,null,"Hamlet",4.0,25.0,4.0,25.0,2.0,25.0,null,"",75,null,10]
["P-303",null,null,null,"Power",null,"Brinkerhoff",null,null,"Comedy",2.0,25.0,3.0,23.0,4.0,24.0,null,"",72,null,9]
["P-304",null,null,null,null,null,null,null,null,null,null,null,null,null,null,null,null,"",0,null,0]
[]
["Q-301",null,null,null,null,null,null,null,null,null,null,null,null,null,null,null,null,{"$f":"IF(Q74=\"1violation\",-7*1,IF(Q74=\"2violations\",-7*2,IF(Q74=\"3violations\",-7*3,IF(Q74=\"\",\"\"))))","v":""},{"$f":"SUM(L74,N74,P74,R74)","v":0},null,{"$f":"SUM(K74,M74,O74)","v":0},null,null,null,{"$f":"SUM(S74,S76,S75,S77,-AB74)","v":0},null,null,{"$f":"MIN(S74:S77)","v":0}]
["Q-302",null,null,null,null,null,null,null,null,null,null,null,null,null,null,null,null,"",0,null,0]
["Q-303",null,null,null,null,null,null,null,null,null,null,null,null,null,null,null,null,"",0,null,0]
["Q-304",null,null,null,null,null,null,null,null,null,null,null,null,null,null,null,null,"",0,null,0]
[]
["R-301",null,null,null,"Parker",null,"Iombardi",null,"Thornell","Midsummer",4.0,18.0,1.0,25.0,1.0,25.0,null,{"$f":"IF(Q79=\"1violation\",-7*1,IF(Q79=\"2violations\",-7*2,IF(Q79=\"3violations\",-7*3,IF(Q79=\"\",\"\"))))","v":""},{"$f":"SUM(L79,N79,P79,R79)","v":68},null,{"$f":"SUM(K79,M79,O79)","v":6},null,null,null,{"$f":"SUM(S79,S81,S80,S82,-AB79)","v":68},null,null,{"$f":"MIN(S79:S82)","v":0}]
["R-302",null,null,null,null,null,null,null,null,null,null,null,null,null,null,null,null,"",0,null,0]
["R-303",null,null,null,null,null,null,null,null,null,null,null,null,null,null,null,null,"",0,null,0]
["R-304",null,null,null,null,null,null,null,null,null,null,null,null,null,null,null,null,"",0,null,0]
[]
["S-301",null,null,null,"Luna-Trujillo",null,"Joseph",null,null,"Much Ado",3.0,20.0,3.0,24.0,4.0,23.0,null,{"$f":"IF(Q84=\"1violation\",-7*1,IF(Q84=\"2violations\",-7*2,IF(Q84=\"3violations\",-7*3,IF(Q84=\"\",\"\"))))","v":""},{"$f":"SUM(L84,N84,P84,R84)","v":67},null,{"$f":"SUM(K84,M84,O84)","v":10},null,null,null,{"$f":"SUM(S84,S86,S85,S87,-AB84)","v":67},null,null,{"$f":"MIN(S84:S87)","v":0}]
["S-302",null,null,null,null,null,null,null,null,null,null,null,null,null,null,null,null,"",0,null,0]
["S-303",null,null,null,null,null,null,null,null,null,null,null,null,null,null,null,null,"",0,null,0]
["S-304",null,null,null,null,null,null,null,null,null,null,null,null,null,null,null,null,"",0,null,0]
[]
["T-301",null,null,null,null,null,null,null,null,null,null,null,null,null,null,null,null,{"$f":"IF(Q89=\"1violation\",-7*1,IF(Q89=\"2violations\",-7*2,IF(Q89=\"3violations\",-7*3,IF(Q89=\"\",\"\"))))","v":""},{"$f":"SUM(L89,N89,P89,R89)","v":0},null,{"$f":"SUM(K89,M89,O89)","v":0},null,null,null,{"$f":"SUM(S89,S91,S90,S92,-AB89)","v":0},null,null,{"$f":"MIN(S89:S92)","v":0}]
["T-302",null,null,null,null,null,null,null,null,null,null,null,null,null,null,null,null,"",0,null,0]
["T-303",null,null,null,null,null,null,null,null,null,null,null,null,null,null,null,null,"",0,null,0]
["T-304",null,null,null,null,null,null,null,null,null,null,null,null,null,null,null,null,"",0,null,0]
[]
["U-301",null,null,null,null,null,null,null,null,null,null,null,null,null,null,null,null,{"$f":"IF(Q94=\"1violation\",-7*1,IF(Q94=\"2violations\",-7*2,IF(Q94=\"3violations\",-7*3,IF(Q94=\"\",\"\"))))","v":""},{"$f":"SUM(L94,N94,P94,R94)","v":0},null,{"$f":"SUM(K94,M94,O94)","v":0},null,null,null,{"$f":"SUM(S94,S96,S95,S97,-AB94)","v":0},null,null,{"$f":"MIN(S94:S97)","v":0}]
["U-302",null,null,null,null,null,null,null,null,null,null,null,null,null,null,null,null,"",0,null,0]
["U-303",null,null,null,null,null,null,null,null,null,null,null,null,null,null,null,null,"",0,null,0]
["U-304",null,null,null,null,null,null,null,null,null,null,null,null,null,null,null,null,"",0,null,0]
[]
["V-301",null,null,null,null,null,null,null,null,null,null,null,null,null,null,null,null,{"$f":"IF(Q99=\"1violation\",-7*1,IF(Q99=\"2violations\",-7*2,IF(Q99=\"3violations\",-7*3,IF(Q99=\"\",\"\"))))","v":""},{"$f":"SUM(L99,N99,P99,R99)","v":0},null,{"$f":"SUM(K99,M99,O99)","v":0},null,null,null,{"$f":"SUM(S99,S101,S100,S102,-AB99)","v":0},null,null,{"$f":"MIN(S99:S102)","v":0}]
["V-302",null,null,null,null,null,null,null,null,null,null,null,null,null,null,null,null,"",0,null,0]
["V-303",null,null,null,null,null,null,null,null,null,null,null,null,null,null,null,null,"",0,null,0]
["V-304",null,null,null,null,null,null,null,null,null,null,null,null,null,null,null,null,"",0,null,0]
[]
["W-301",null,null,null,null,null,null,null,null,null,null,null,null,null,null,null,null,{"$f":"IF(Q104=\"1violation\",-7*1,IF(Q104=\"2violations\",-7*2,IF(Q104=\"3violations\",-7*3,IF(Q104=\"\",\"\"))))","v":""},{"$f":"SUM(L104,N104,P104,R104)","v":0},null,{"$f":"SUM(K104,M104,O104)","v":0},null,null,null,{"$f":"SUM(S104,S106,S105,S107,-AB104)","v":0},null,null,{"$f":"MIN(S104:S107)","v":0}]
["W-302",null,null,null,null,null,null,null,null,null,null,null,null,null,null,null,null,"",0,null,0]
["W-303",null,null,null,null,null,null,null,null,null,null,null,null,null,null,null,null,"",0,null,0]
["W-304",null,null,null,null,null,null,null,null,null,null,null,null,null,null,null,null,"",0,null,0]
[]
["X-301",null,null,null,null,null,null,null,null,null,null,null,null,null,null,null,null,{"$f":"IF(Q109=\"1violation\",-7*1,IF(Q109=\"2violations\",-7*2,IF(Q109=\"3violations\",-7*3,IF(Q109=\"\",\"\"))))","v":""},{"$f":"SUM(L109,N109,P109,R109)","v":0},null,{"$f":"SUM(K109,M109,O109)","v":0},null,null,null,{"$f":"SUM(S109,S111,S110,S112,-AB109)","v":0},null,null,{"$f":"MIN(S109:S112)","v":0}]
["X-302",null,null,null,null,null,null,null,null,null,null,null,null,null,null,null,null,"",0,null,0]
["X-303",null,null,null,null,null,null,null,null,null,null,null,null,null,null,null,null,"",0,null,0]
["X-304",null,null,null,null,null,null,null,null,null,null,null,null,null,null,null,null,"",0,null,0]
[]
["Y-301",null,null,null,null,null,null,null,null,null,null,null,null,null,null,null,null,{"$f":"IF(Q114=\"1violation\",-7*1,IF(Q114=\"2violations\",-7*2,IF(Q114=\"3violations\",-7*3,IF(Q114=\"\",\"\"))))","v":""},{"$f":"SUM(L114,N114,P114,R114)","v":0},null,{"$f":"SUM(K114,M114,O114)","v":0},null,null,null,{"$f":"SUM(S114,S116,S115,S117,-AB114)","v":0},null,null,{"$f":"MIN(S114:S117)","v":0}]
["Y-302",null,null,null,null,null,null,null,null,null,null,null,null,null,null,null,null,"",0,null,0]
["Y-303",null,null,null,null,null,null,null,null,null,null,null,null,null,null,null,null,"",0,null,0]
["Y-304",null,null,null,null,null,null,null,null,null,null,null,null,null,null,null,null,"",0,null,0]
[]
["Z-301",null,null,null,null,null,null,null,null,null,null,null,null,null,null,null,null,{"$f":"IF(Q119=\"1violation\",-7*1,IF(Q119=\"2violations\",-7*2,IF(Q119=\"3violations\",-7*3,IF(Q119=\"\",\"\"))))","v":""},{"$f":"SUM(L119,N119,P119,R119)","v":0},null,{"$f":"SUM(K119,M119,O119)","v":0},null,null,null,{"$f":"SUM(S119,S121,S120,S122,-AB119)","v":0},null,null,{"$f":"MIN(S119:S122)","v":0}]
["Z-302",null,null,null,null,null,null,null,null,null,null,null,null,null,null,null,null,"",0,null,0]
["Z-303",null,null,null,null,null,null,null,null,null,null,null,null,null,null,null,null,"",0,null,0]
["Z-304",null,null,null,null,null,null,null,null,null,null,null,null,null,null,null,null,"",0,null,0]
[]
["AA-301",null,null,null,null,null,null,null,null,null,null,null,null,null,null,null,null,{"$f":"IF(Q124=\"1violation\",-7*1,IF(Q124=\"2violations\",-7*2,IF(Q124=\"3violations\",-7*3,IF(Q124=\"\",\"\"))))","v":""},{"$f":"SUM(L124,N124,P124,R124)","v":0},null,{"$f":"SUM(K124,M124,O124)","v":0},null,null,null,{"$f":"SUM(S124,S126,S125,S127,-AB124)","v":0},null,null,{"$f":"MIN(S124:S127)","v":0}]
["AA-302",null,null,null,null,null,null,null,null,null,null,null,null,null,null,null,null,"",0,null,0]
["AA-303",null,null,null,null,null,null,null,null,null,null,null,null,null,null,null,null,"",0,null,0]
["AA-304",null,null,null,null,null,null,null,null,null,null,null,null,null,null,null,null,"",0,null,0]
[]
["BB-301",null,null,null,null,null,null,null,null,null,null,null,null,null,null,null,null,{"$f":"IF(Q129=\"1violation\",-7*1,IF(Q129=\"2violations\",-7*2,IF(Q129=\"3violations\",-7*3,IF(Q129=\"\",\"\"))))","v":""},{"$f":"SUM(L129,N129,P129,R129)","v":0},null,{"$f":"SUM(K129,M129,O129)","v":0},null,null,null,{"$f":"SUM(S129,S131,S130,S132,-AB129)","v":0},null,null,{"$f":"MIN(S129:S132)","v":0}]
["BB-302",null,null,null,null,null,null,null,null,null,null,null,null,null,null,null,null,"",0,null,0]
["BB-303",null,null,null,null,null,null,null,null,null,null,null,null,null,null,null,null,"",0,null,0]
["BB-304",null,null,null,null,null,null,null,null,null,null,null,null,null,null,null,null,"",0,null,0]
[]
["CC-301",null,null,null,null,null,null,null,null,null,null,null,null,null,null,null,null,{"$f":"IF(Q134=\"1violation\",-7*1,IF(Q134=\"2violations\",-7*2,IF(Q134=\"3violations\",-7*3,IF(Q134=\"\",\"\"))))","v":""},{"$f":"SUM(L134,N134,P134,R134)","v":0},null,{"$f":"SUM(K134,M134,O134)","v":0},null,null,null,{"$f":"SUM(S134,S136,S135,S137,-AB134)","v":0},null,null,{"$f":"MIN(S134:S137)","v":0}]
["CC-302",null,null,null,null,null,null,null,null,null,null,null,null,null,null,null,null,"",0,null,0]
["CC-303",null,null,null,null,null,null,null,null,null,null,null,null,null,null,null,null,"",0,null,0]
["CC-304",null,null,null,null,null,null,null,null,null,null,null,null,null,null,null,null,"",0,null,0]
[]
["DD-301",null,null,null,null,null,null,null,null,null,null,null,null,null,null,null,null,{"$f":"IF(Q139=\"1violation\",-7*1,IF(Q139=\"2violations\",-7*2,IF(Q139=\"3violations\",-7*3,IF(Q139=\"\",\"\"))))","v":""},{"$f":"SUM(L139,N139,P139,R139)","v":0},null,{"$f":"SUM(K139,M139,O139)","v":0},null,null,null,{"$f":"SUM(S139,S141,S140,S142,-AB139)","v":0},null,null,{"$f":"MIN(S139:S142)","v":0}]
["DD-302",null,null,null,null,null,null,null,null,null,null,null,null,null,null,null,null,"",0,null,0]
["DD-303",null,null,null,null,null,null,null,null,null,null,null,null,null,null,null,null,"",0,null,0]
["DD-304",null,null,null,null,null,null,null,null,null,null,null,null,null,null,null,null,"",0,null,0]
[]
["EE-301",null,null,null,null,null,null,null,null,null,null,null,null,null,null,null,null,{"$f":"IF(Q144=\"1violation\",-7*1,IF(Q144=\"2violations\",-7*2,IF(Q144=\"3violations\",-7*3,IF(Q144=\"\",\"\"))))","v":""},{"$f":"SUM(L144,N144,P144,R144)","v":0},null,{"$f":"SUM(K144,M144,O144)","v":0},null,null,null,{"$f":"SUM(S144,S146,S145,S147,-AB144)","v":0},null,null,{"$f":"MIN(S144:S147)","v":0}]
["EE-302",null,null,null,null,null,null,null,null,null,null,null,null,null,null,null,null,"",0,null,0]
["EE-303",null,null,null,null,null,null,null,null,null,null,null,null,null,null,null,null,"",0,null,0]
["EE-304",null,null,null,null,null,null,null,null,null,null,null,null,null,null,null,null,"",0,null,0]
[]
["FF-301",null,null,null,null,null,null,null,null,null,null,null,null,null,null,null,null,{"$f":"IF(Q149=\"1violation\",-7*1,IF(Q149=\"2violations\",-7*2,IF(Q149=\"3violations\",-7*3,IF(Q149=\"\",\"\"))))","v":""},{"$f":"SUM(L149,N149,P149,R149)","v":0},null,{"$f":"SUM(K149,M149,O149)","v":0},null,null,null,{"$f":"SUM(S149,S151,S150,S152,-AB149)","v":0},null,null,{"$f":"MIN(S149:S152)","v":0}]
["FF-302",null,null,null,null,null,null,null,null,null,null,null,null,null,null,null,null,"",0,null,0]
["FF-303",null,null,null,null,null,null,null,null,null,null,null,null,null,null,null,null,"",0,null,0]
["FF-304",null,null,null,null,null,null,null,null,null,null,null,null,null,null,null,null,"",0,null,0]

{"sheet":"ClassicalMR","index":6,"n_rows":122,"n_cols":12,"rows_kept":122,"cut":false,"hidden":false,"merged":[]}
["Classical",null,null,null,"Finals Medals Round Scores"]
["ID","Rank","Score","LeaveBlank","MR 1 Rank","MR 1 Score","MR2 Rank","MR 2 Score","MR3 Rank","MR 3 Score","Total MR Rank","Total MR Score"]
[{"$f":"Classical!A4","v":"A-301"},{"$f":"Classical!U4","v":9},{"$f":"Classical!S4","v":73},{"$f":"IF((ClassicalMR!$B3+ClassicalMR!$C3)>0,1,0)","v":1},null,null,null,null,null,null,{"$f":"SUM(E3,G3,I3)","v":0},0]
[{"$f":"Classical!A5","v":"A-302"},{"$f":"Classical!U5","v":9},{"$f":"Classical!S5","v":74},{"$f":"IF((ClassicalMR!$B4+ClassicalMR!$C4)>0,1,0)","v":1},null,null,null,null,null,null,{"$f":"SUM(E4,G4,I4)","v":0},0]
[{"$f":"Classical!A6","v":"A-303"},{"$f":"Classical!U6","v":6},{"$f":"Classical!S6","v":74},{"$f":"IF((ClassicalMR!$B5+ClassicalMR!$C5)>0,1,0)","v":1},6.0,25.0,6.0,25.0,3.0,25.0,{"$f":"SUM(E5,G5,I5)","v":15},75]
[{"$f":"Classical!A7","v":"A-304"},{"$f":"Classical!U7","v":3},{"$f":"Classical!S7","v":75},{"$f":"IF((ClassicalMR!$B6+ClassicalMR!$C6)>0,1,0)","v":1},5.0,25.0,4.0,25.0,1.0,25.0,{"$f":"SUM(E6,G6,I6)","v":10},75]
[{"$f":"Classical!A124","v":"AA-301"},{"$f":"Classical!U124","v":0},{"$f":"Classical!S124","v":0},{"$f":"IF((ClassicalMR!$B7+ClassicalMR!$C7)>0,1,0)","v":0},null,null,null,null,null,null,{"$f":"SUM(E7,G7,I7)","v":0},0]
[{"$f":"Classical!A125","v":"AA-302"},{"$f":"Classical!U125","v":0},{"$f":"Classical!S125","v":0},{"$f":"IF((ClassicalMR!$B8+ClassicalMR!$C8)>0,1,0)","v":0},null,null,null,null,null,null,{"$f":"SUM(E8,G8,I8)","v":0},0]
[{"$f":"Classical!A126","v":"AA-303"},{"$f":"Classical!U126","v":0},{"$f":"Classical!S126","v":0},{"$f":"IF((ClassicalMR!$B9+ClassicalMR!$C9)>0,1,0)","v":0},null,null,null,null,null,null,{"$f":"SUM(E9,G9,I9)","v":0},0]
[{"$f":"Classical!A127","v":"AA-304"},{"$f":"Classical!U127","v":0},{"$f":"Classical!S127","v":0},{"$f":"IF((ClassicalMR!$B10+ClassicalMR!$C10)>0,1,0)","v":0},null,null,null,null,null,null,{"$f":"SUM(E10,G10,I10)","v":0},0]
[{"$f":"Classical!A9","v":"B-301"},{"$f":"Classical!U9","v":0},{"$f":"Classical!S9","v":0},{"$f":"IF((ClassicalMR!$B11+ClassicalMR!$C11)>0,1,0)","v":0},null,null,null,null,null,null,{"$f":"SUM(E11,G11,I11)","v":0},0]
[{"$f":"Classical!A10","v":"B-302"},{"$f":"Classical!U10","v":0},{"$f":"Classical!S10","v":0},{"$f":"IF((ClassicalMR!$B12+ClassicalMR!$C12)>0,1,0)","v":0},null,null,null,null,null,null,{"$f":"SUM(E12,G12,I12)","v":0},0]
[{"$f":"Classical!A11","v":"B-303"},{"$f":"Classical!U11","v":0},{"$f":"Classical!S11","v":0},{"$f":"IF((ClassicalMR!$B13+ClassicalMR!$C13)>0,1,0)","v":0},null,null,null,null,null,null,{"$f":"SUM(E13,G13,I13)","v":0},0]
[{"$f":"Classical!A12","v":"B-304"},{"$f":"Classical!U12","v":0},{"$f":"Classical!S12","v":0},{"$f":"IF((ClassicalMR!$B14+ClassicalMR!$C14)>0,1,0)","v":0},null,null,null,null,null,null,{"$f":"SUM(E14,G14,I14)","v":0},0]
[{"$f":"Classical!A129","v":"BB-301"},{"$f":"Classical!U129","v":0},{"$f":"Classical!S129","v":0},{"$f":"IF((ClassicalMR!$B15+ClassicalMR!$C15)>0,1,0)","v":0},null,null,null,null,null,null,{"$f":"SUM(E15,G15,I15)","v":0},0]
[{"$f":"Classical!A130","v":"BB-302"},{"$f":"Classical!U130","v":0},{"$f":"Classical!S130","v":0},{"$f":"IF((ClassicalMR!$B16+ClassicalMR!$C16)>0,1,0)","v":0},null,null,null,null,null,null,{"$f":"SUM(E16,G16,I16)","v":0},0]
[{"$f":"Classical!A131","v":"BB-303"},{"$f":"Classical!U131","v":0},{"$f":"Classical!S131","v":0},{"$f":"IF((ClassicalMR!$B17+ClassicalMR!$C17)>0,1,0)","v":0},null,null,null,null,null,null,{"$f":"SUM(E17,G17,I17)","v":0},0]
[{"$f":"Classical!A132","v":"BB-304"},{"$f":"Classical!U132","v":0},{"$f":"Classical!S132","v":0},{"$f":"IF((ClassicalMR!$B18+ClassicalMR!$C18)>0,1,0)","v":0},null,null,null,null,null,null,{"$f":"SUM(E18,G18,I18)","v":0},0]
[{"$f":"Classical!A14","v":"C-301"},{"$f":"Classical!U14","v":7},{"$f":"Classical!S14","v":70},{"$f":"IF((ClassicalMR!$B19+ClassicalMR!$C19)>0,1,0)","v":1},null,null,null,null,null,null,{"$f":"SUM(E19,G19,I19)","v":0},0]
[{"$f":"Classical!A15","v":"C-302"},{"$f":"Classical!U15","v":5},{"$f":"Classical!S15","v":75},{"$f":"IF((ClassicalMR!$B20+ClassicalMR!$C20)>0,1,0)","v":1},3.0,25.0,1.0,25.0,5.0,25.0,{"$f":"SUM(E20,G20,I20)","v":9},75]
[{"$f":"Classical!A16","v":"C-303"},{"$f":"Classical!U16","v":10},{"$f":"Classical!S16","v":73},{"$f":"IF((ClassicalMR!$B21+ClassicalMR!$C21)>0,1,0)","v":1},null,null,null,null,null,null,{"$f":"SUM(E21,G21,I21)","v":0},0]
[{"$f":"Classical!A17","v":"C-304"},{"$f":"Classical!U17","v":0},{"$f":"Classical!S17","v":0},{"$f":"IF((ClassicalMR!$B22+ClassicalMR!$C22)>0,1,0)","v":0},null,null,null,null,null,null,{"$f":"SUM(E22,G22,I22)","v":0},0]
[{"$f":"Classical!A134","v":"CC-301"},{"$f":"Classical!U134","v":0},{"$f":"Classical!S134","v":0},{"$f":"IF((ClassicalMR!$B23+ClassicalMR!$C23)>0,1,0)","v":0},null,null,null,null,null,null,{"$f":"SUM(E23,G23,I23)","v":0},0]
[{"$f":"Classical!A135","v":"CC-302"},{"$f":"Classical!U135","v":0},{"$f":"Classical!S135","v":0},{"$f":"IF((ClassicalMR!$B24+ClassicalMR!$C24)>0,1,0)","v":0},null,null,null,null,null,null,{"$f":"SUM(E24,G24,I24)","v":0},0]
[{"$f":"Classical!A136","v":"CC-303"},{"$f":"Classical!U136","v":0},{"$f":"Classical!S136","v":0},{"$f":"IF((ClassicalMR!$B25+ClassicalMR!$C25)>0,1,0)","v":0},null,null,null,null,null,null,{"$f":"SUM(E25,G25,I25)","v":0},0]
[{"$f":"Classical!A137","v":"CC-304"},{"$f":"Classical!U137","v":0},{"$f":"Classical!S137","v":0},{"$f":"IF((ClassicalMR!$B26+ClassicalMR!$C26)>0,1,0)","v":0},null,null,null,null,null,null,{"$f":"SUM(E26,G26,I26)","v":0},0]
[{"$f":"Classical!A19","v":"D-301"},{"$f":"Classical!U19","v":0},{"$f":"Classical!S19","v":0},{"$f":"IF((ClassicalMR!$B27+ClassicalMR!$C27)>0,1,0)","v":0},null,null,null,null,null,null,{"$f":"SUM(E27,G27,I27)","v":0},0]
[{"$f":"Classical!A20","v":"D-302"},{"$f":"Classical!U20","v":0},{"$f":"Classical!S20","v":0},{"$f":"IF((ClassicalMR!$B28+ClassicalMR!$C28)>0,1,0)","v":0},null,null,null,null,null,null,{"$f":"SUM(E28,G28,I28)","v":0},0]
[{"$f":"Classical!A21","v":"D-303"},{"$f":"Classical!U21","v":0},{"$f":"Classical!S21","v":0},{"$f":"IF((ClassicalMR!$B29+ClassicalMR!$C29)>0,1,0)","v":0},null,null,null,null,null,null,{"$f":"SUM(E29,G29,I29)","v":0},0]
[{"$f":"Classical!A22","v":"D-304"},{"$f":"Classical!U22","v":0},{"$f":"Classical!S22","v":0},{"$f":"IF((ClassicalMR!$B30+ClassicalMR!$C30)>0,1,0)","v":0},null,null,null,null,null,null,{"$f":"SUM(E30,G30,I30)","v":0},0]
[{"$f":"Classical!A139","v":"DD-301"},{"$f":"Classical!U139","v":0},{"$f":"Classical!S139","v":0},{"$f":"IF((ClassicalMR!$B31+ClassicalMR!$C31)>0,1,0)","v":0},null,null,null,null,null,null,{"$f":"SUM(E31,G31,I31)","v":0},0]
[{"$f":"Classical!A140","v":"DD-302"},{"$f":"Classical!U140","v":0},{"$f":"Classical!S140","v":0},{"$f":"IF((ClassicalMR!$B32+ClassicalMR!$C32)>0,1,0)","v":0},null,null,null,null,null,null,{"$f":"SUM(E32,G32,I32)","v":0},0]
[{"$f":"Classical!A141","v":"DD-303"},{"$f":"Classical!U141","v":0},{"$f":"Classical!S141","v":0},{"$f":"IF((ClassicalMR!$B33+ClassicalMR!$C33)>0,1,0)","v":0},null,null,null,null,null,null,{"$f":"SUM(E33,G33,I33)","v":0},0]
[{"$f":"Classical!A142","v":"DD-304"},{"$f":"Classical!U142","v":0},{"$f":"Classical!S142","v":0},{"$f":"IF((ClassicalMR!$B34+ClassicalMR!$C34)>0,1,0)","v":0},null,null,null,null,null,null,{"$f":"SUM(E34,G34,I34)","v":0},0]
[{"$f":"Classical!A24","v":"E-301"},{"$f":"Classical!U24","v":12},{"$f":"Classical!S24","v":69},{"$f":"IF((ClassicalMR!$B35+ClassicalMR!$C35)>0,1,0)","v":1},null,null,null,null,null,null,{"$f":"SUM(E35,G35,I35)","v":0},0]
[{"$f":"Classical!A25","v":"E-302"},{"$f":"Classical!U25","v":0},{"$f":"Classical!S25","v":0},{"$f":"IF((ClassicalMR!$B36+ClassicalMR!$C36)>0,1,0)","v":0},null,null,null,null,null,null,{"$f":"SUM(E36,G36,I36)","v":0},0]
[{"$f":"Classical!A26","v":"E-303"},{"$f":"Classical!U26","v":0},{"$f":"Classical!S26","v":0},{"$f":"IF((ClassicalMR!$B37+ClassicalMR!$C37)>0,1,0)","v":0},null,null,null,null,null,null,{"$f":"SUM(E37,G37,I37)","v":0},0]
[{"$f":"Classical!A27","v":"E-304"},{"$f":"Classical!U27","v":0},{"$f":"Classical!S27","v":0},{"$f":"IF((ClassicalMR!$B38+ClassicalMR!$C38)>0,1,0)","v":0},null,null,null,null,null,null,{"$f":"SUM(E38,G38,I38)","v":0},0]
[{"$f":"Classical!A144","v":"EE-301"},{"$f":"Classical!U144","v":0},{"$f":"Classical!S144","v":0},{"$f":"IF((ClassicalMR!$B39+ClassicalMR!$C39)>0,1,0)","v":0},null,null,null,null,null,null,{"$f":"SUM(E39,G39,I39)","v":0},0]
[{"$f":"Classical!A145","v":"EE-302"},{"$f":"Classical!U145","v":0},{"$f":"Classical!S145","v":0},{"$f":"IF((ClassicalMR!$B40+ClassicalMR!$C40)>0,1,0)","v":0},null,null,null,null,null,null,{"$f":"SUM(E40,G40,I40)","v":0},0]
[{"$f":"Classical!A146","v":"EE-303"},{"$f":"Classical!U146","v":0},{"$f":"Classical!S146","v":0},{"$f":"IF((ClassicalMR!$B41+ClassicalMR!$C41)>0,1,0)","v":0},null,null,null,null,null,null,{"$f":"SUM(E41,G41,I41)","v":0},0]
[{"$f":"Classical!A147","v":"EE-304"},{"$f":"Classical!U147","v":0},{"$f":"Classical!S147","v":0},{"$f":"IF((ClassicalMR!$B42+ClassicalMR!$C42)>0,1,0)","v":0},null,null,null,null,null,null,{"$f":"SUM(E42,G42,I42)","v":0},0]
[{"$f":"Classical!A29","v":"F-301"},{"$f":"Classical!U29","v":7},{"$f":"Classical!S29","v":74},{"$f":"IF((ClassicalMR!$B43+ClassicalMR!$C43)>0,1,0)","v":1},null,null,null,null,null,null,{"$f":"SUM(E43,G43,I43)","v":0},0]
[{"$f":"Classical!A30","v":"F-302"},{"$f":"Classical!U30","v":5},{"$f":"Classical!S30","v":74},{"$f":"IF((ClassicalMR!$B44+ClassicalMR!$C44)>0,1,0)","v":1},4.0,25.0,5.0,25.0,4.0,25.0,{"$f":"SUM(E44,G44,I44)","v":13},75]
[{"$f":"Classical!A31","v":"F-303"},{"$f":"Classical!U31","v":10},{"$f":"Classical!S31","v":71},{"$f":"IF((ClassicalMR!$B45+ClassicalMR!$C45)>0,1,0)","v":1},null,null,null,null,null,null,{"$f":"SUM(E45,G45,I45)","v":0},0]
[{"$f":"Classical!A32","v":"F-304"},{"$f":"Classical!U32","v":8},{"$f":"Classical!S32","v":71},{"$f":"IF((ClassicalMR!$B46+ClassicalMR!$C46)>0,1,0)","v":1},null,null,null,null,null,null,{"$f":"SUM(E46,G46,I46)","v":0},0]
[{"$f":"Classical!A34","v":"G-301"},{"$f":"Classical!U34","v":8},{"$f":"Classical!S34","v":74},{"$f":"IF((ClassicalMR!$B47+ClassicalMR!$C47)>0,1,0)","v":1},null,null,null,null,null,null,{"$f":"SUM(E47,G47,I47)","v":0},0]
[{"$f":"Classical!A35","v":"G-302"},{"$f":"Classical!U35","v":0},{"$f":"Classical!S35","v":0},{"$f":"IF((ClassicalMR!$B48+ClassicalMR!$C48)>0,1,0)","v":0},null,null,null,null,null,null,{"$f":"SUM(E48,G48,I48)","v":0},0]
[{"$f":"Classical!A36","v":"G-303"},{"$f":"Classical!U36","v":0},{"$f":"Classical!S36","v":0},{"$f":"IF((ClassicalMR!$B49+ClassicalMR!$C49)>0,1,0)","v":0},null,null,null,null,null,null,{"$f":"SUM(E49,G49,I49)","v":0},0]
[{"$f":"Classical!A37","v":"G-304"},{"$f":"Classical!U37","v":0},{"$f":"Classical!S37","v":0},{"$f":"IF((ClassicalMR!$B50+ClassicalMR!$C50)>0,1,0)","v":0},null,null,null,null,null,null,{"$f":"SUM(E50,G50,I50)","v":0},0]
[{"$f":"Classical!A39","v":"H-301"},{"$f":"Classical!U39","v":4},{"$f":"Classical!S39","v":71},{"$f":"IF((ClassicalMR!$B51+ClassicalMR!$C51)>0,1,0)","v":1},1.0,25.0,3.0,25.0,2.0,25.0,{"$f":"SUM(E51,G51,I51)","v":6},75]
[{"$f":"Classical!A40","v":"H-302"},{"$f":"Classical!U40","v":10},{"$f":"Classical!S40","v":72},{"$f":"IF((ClassicalMR!$B52+ClassicalMR!$C52)>0,1,0)","v":1},null,null,null,null,null,null,{"$f":"SUM(E52,G52,I52)","v":0},0]
[{"$f":"Classical!A41","v":"H-303"},{"$f":"Classical!U41","v":7},{"$f":"Classical!S41","v":72},{"$f":"IF((ClassicalMR!$B53+ClassicalMR!$C53)>0,1,0)","v":1},null,null,null,null,null,null,{"$f":"SUM(E53,G53,I53)","v":0},0]
[{"$f":"Classical!A42","v":"H-304"},{"$f":"Classical!U42","v":10},{"$f":"Classical!S42","v":73},{"$f":"IF((ClassicalMR!$B54+ClassicalMR!$C54)>0,1,0)","v":1},null,null,null,null,null,null,{"$f":"SUM(E54,G54,I54)","v":0},0]
[{"$f":"Classical!A44","v":"J-301"},{"$f":"Classical!U44","v":0},{"$f":"Classical!S44","v":0},{"$f":"IF((ClassicalMR!$B55+ClassicalMR!$C55)>0,1,0)","v":0},null,null,null,null,null,null,{"$f":"SUM(E55,G55,I55)","v":0},0]
[{"$f":"Classical!A45","v":"J-302"},{"$f":"Classical!U45","v":0},{"$f":"Classical!S45","v":0},{"$f":"IF((ClassicalMR!$B56+ClassicalMR!$C56)>0,1,0)","v":0},null,null,null,null,null,null,{"$f":"SUM(E56,G56,I56)","v":0},0]
[{"$f":"Classical!A46","v":"J-303"},{"$f":"Classical!U46","v":0},{"$f":"Classical!S46","v":0},{"$f":"IF((ClassicalMR!$B57+ClassicalMR!$C57)>0,1,0)","v":0},null,null,null,null,null,null,{"$f":"SUM(E57,G57,I57)","v":0},0]
[{"$f":"Classical!A47","v":"J-304"},{"$f":"Classical!U47","v":0},{"$f":"Classical!S47","v":0},{"$f":"IF((ClassicalMR!$B58+ClassicalMR!$C58)>0,1,0)","v":0},null,null,null,null,null,null,{"$f":"SUM(E58,G58,I58)","v":0},0]
[{"$f":"Classical!A49","v":"K-301"},{"$f":"Classical!U49","v":11},{"$f":"Classical!S49","v":66},{"$f":"IF((ClassicalMR!$B59+ClassicalMR!$C59)>0,1,0)","v":1},null,null,null,null,null,null,{"$f":"SUM(E59,G59,I59)","v":0},0]
[{"$f":"Classical!A50","v":"K-302"},{"$f":"Classical!U50","v":0},{"$f":"Classical!S50","v":0},{"$f":"IF((ClassicalMR!$B60+ClassicalMR!$C60)>0,1,0)","v":0},null,null,null,null,null,null,{"$f":"SUM(E60,G60,I60)","v":0},0]
[{"$f":"Classical!A51","v":"K-303"},{"$f":"Classical!U51","v":0},{"$f":"Classical!S51","v":0},{"$f":"IF((ClassicalMR!$B61+ClassicalMR!$C61)>0,1,0)","v":0},null,null,null,null,null,null,{"$f":"SUM(E61,G61,I61)","v":0},0]
[{"$f":"Classical!A52","v":"K-304"},{"$f":"Classical!U52","v":0},{"$f":"Classical!S52","v":0},{"$f":"IF((ClassicalMR!$B62+ClassicalMR!$C62)>0,1,0)","v":0},null,null,null,null,null,null,{"$f":"SUM(E62,G62,I62)","v":0},0]
[{"$f":"Classical!A54","v":"L-301"},{"$f":"Classical!U54","v":12},{"$f":"Classical!S54","v":70},{"$f":"IF((ClassicalMR!$B63+ClassicalMR!$C63)>0,1,0)","v":1},null,null,null,null,null,null,{"$f":"SUM(E63,G63,I63)","v":0},0]
[{"$f":"Classical!A55","v":"L-302"},{"$f":"Classical!U55","v":0},{"$f":"Classical!S55","v":0},{"$f":"IF((ClassicalMR!$B64+ClassicalMR!$C64)>0,1,0)","v":0},null,null,null,null,null,null,{"$f":"SUM(E64,G64,I64)","v":0},0]
[{"$f":"Classical!A56","v":"L-303"},{"$f":"Classical!U56","v":0},{"$f":"Classical!S56","v":0},{"$f":"IF((ClassicalMR!$B65+ClassicalMR!$C65)>0,1,0)","v":0},null,null,null,null,null,null,{"$f":"SUM(E65,G65,I65)","v":0},0]
[{"$f":"Classical!A57","v":"L-304"},{"$f":"Classical!U57","v":0},{"$f":"Classical!S57","v":0},{"$f":"IF((ClassicalMR!$B66+ClassicalMR!$C66)>0,1,0)","v":0},null,null,null,null,null,null,{"$f":"SUM(E66,G66,I66)","v":0},0]
[{"$f":"Classical!A59","v":"M-301"},{"$f":"Classical!U59","v":0},{"$f":"Classical!S59","v":0},{"$f":"IF((ClassicalMR!$B67+ClassicalMR!$C67)>0,1,0)","v":0},null,null,null,null,null,null,{"$f":"SUM(E67,G67,I67)","v":0},0]
[{"$f":"Classical!A60","v":"M-302"},{"$f":"Classical!U60","v":0},{"$f":"Classical!S60","v":0},{"$f":"IF((ClassicalMR!$B68+ClassicalMR!$C68)>0,1,0)","v":0},null,null,null,null,null,null,{"$f":"SUM(E68,G68,I68)","v":0},0]
[{"$f":"Classical!A61","v":"M-303"},{"$f":"Classical!U61","v":0},{"$f":"Classical!S61","v":0},{"$f":"IF((ClassicalMR!$B69+ClassicalMR!$C69)>0,1,0)","v":0},null,null,null,null,null,null,{"$f":"SUM(E69,G69,I69)","v":0},0]
[{"$f":"Classical!A62","v":"M-304"},{"$f":"Classical!U62","v":0},{"$f":"Classical!S62","v":0},{"$f":"IF((ClassicalMR!$B70+ClassicalMR!$C70)>0,1,0)","v":0},null,null,null,null,null,null,{"$f":"SUM(E70,G70,I70)","v":0},0]
[{"$f":"Classical!A64","v":"N-301"},{"$f":"Classical!U64","v":0},{"$f":"Classical!S64","v":0},{"$f":"IF((ClassicalMR!$B71+ClassicalMR!$C71)>0,1,0)","v":0},null,null,null,null,null,null,{"$f":"SUM(E71,G71,I71)","v":0},0]
[{"$f":"Classical!A65","v":"N-302"},{"$f":"Classical!U65","v":0},{"$f":"Classical!S65","v":0},{"$f":"IF((ClassicalMR!$B72+ClassicalMR!$C72)>0,1,0)","v":0},null,null,null,null,null,null,{"$f":"SUM(E72,G72,I72)","v":0},0]
[{"$f":"Classical!A66","v":"N-303"},{"$f":"Classical!U66","v":0},{"$f":"Classical!S66","v":0},{"$f":"IF((ClassicalMR!$B73+ClassicalMR!$C73)>0,1,0)","v":0},null,null,null,null,null,null,{"$f":"SUM(E73,G73,I73)","v":0},0]
[{"$f":"Classical!A67","v":"N-304"},{"$f":"Classical!U67","v":0},{"$f":"Classical!S67","v":0},{"$f":"IF((ClassicalMR!$B74+ClassicalMR!$C74)>0,1,0)","v":0},null,null,null,null,null,null,{"$f":"SUM(E74,G74,I74)","v":0},0]
[{"$f":"Classical!A69","v":"P-301"},{"$f":"Classical!U69","v":10},{"$f":"Classical!S69","v":71},{"$f":"IF((ClassicalMR!$B75+ClassicalMR!$C75)>0,1,0)","v":1},null,null,null,null,null,null,{"$f":"SUM(E75,G75,I75)","v":0},0]
[{"$f":"Classical!A70","v":"P-302"},{"$f":"Classical!U70","v":10},{"$f":"Classical!S70","v":75},{"$f":"IF((ClassicalMR!$B76+ClassicalMR!$C76)>0,1,0)","v":1},null,null,null,null,null,null,{"$f":"SUM(E76,G76,I76)","v":0},0]
[{"$f":"Classical!A71","v":"P-303"},{"$f":"Classical!U71","v":9},{"$f":"Classical!S71","v":72},{"$f":"IF((ClassicalMR!$B77+ClassicalMR!$C77)>0,1,0)","v":1},null,null,null,null,null,null,{"$f":"SUM(E77,G77,I77)","v":0},0]
[{"$f":"Classical!A72","v":"P-304"},{"$f":"Classical!U72","v":0},{"$f":"Classical!S72","v":0},{"$f":"IF((ClassicalMR!$B78+ClassicalMR!$C78)>0,1,0)","v":0},null,null,null,null,null,null,{"$f":"SUM(E78,G78,I78)","v":0},0]
[{"$f":"Classical!A74","v":"Q-301"},{"$f":"Classical!U74","v":0},{"$f":"Classical!S74","v":0},{"$f":"IF((ClassicalMR!$B79+ClassicalMR!$C79)>0,1,0)","v":0},null,null,null,null,null,null,{"$f":"SUM(E79,G79,I79)","v":0},0]
[{"$f":"Classical!A75","v":"Q-302"},{"$f":"Classical!U75","v":0},{"$f":"Classical!S75","v":0},{"$f":"IF((ClassicalMR!$B80+ClassicalMR!$C80)>0,1,0)","v":0},null,null,null,null,null,null,{"$f":"SUM(E80,G80,I80)","v":0},0]
[{"$f":"Classical!A76","v":"Q-303"},{"$f":"Classical!U76","v":0},{"$f":"Classical!S76","v":0},{"$f":"IF((ClassicalMR!$B81+ClassicalMR!$C81)>0,1,0)","v":0},null,null,null,null,null,null,{"$f":"SUM(E81,G81,I81)","v":0},0]
[{"$f":"Classical!A77","v":"Q-304"},{"$f":"Classical!U77","v":0},{"$f":"Classical!S77","v":0},{"$f":"IF((ClassicalMR!$B82+ClassicalMR!$C82)>0,1,0)","v":0},null,null,null,null,null,null,{"$f":"SUM(E82,G82,I82)","v":0},0]
[{"$f":"Classical!A79","v":"R-301"},{"$f":"Classical!U79","v":6},{"$f":"Classical!S79","v":68},{"$f":"IF((ClassicalMR!$B83+ClassicalMR!$C83)>0,1,0)","v":1},2.0,25.0,2.0,25.0,6.0,24.0,{"$f":"SUM(E83,G83,I83)","v":10},74]
[{"$f":"Classical!A80","v":"R-302"},{"$f":"Classical!U80","v":0},{"$f":"Classical!S80","v":0},{"$f":"IF((ClassicalMR!$B84+ClassicalMR!$C84)>0,1,0)","v":0},null,null,null,null,null,null,{"$f":"SUM(E84,G84,I84)","v":0},0]
[{"$f":"Classical!A81","v":"R-303"},{"$f":"Classical!U81","v":0},{"$f":"Classical!S81","v":0},{"$f":"IF((ClassicalMR!$B85+ClassicalMR!$C85)>0,1,0)","v":0},null,null,null,null,null,null,{"$f":"SUM(E85,G85,I85)","v":0},0]
[{"$f":"Classical!A82","v":"R-304"},{"$f":"Classical!U82","v":0},{"$f":"Classical!S82","v":0},{"$f":"IF((ClassicalMR!$B86+ClassicalMR!$C86)>0,1,0)","v":0},null,null,null,null,null,null,{"$f":"SUM(E86,G86,I86)","v":0},0]
[{"$f":"Classical!A84","v":"S-301"},{"$f":"Classical!U84","v":10},{"$f":"Classical!S84","v":67},{"$f":"IF((ClassicalMR!$B87+ClassicalMR!$C87)>0,1,0)","v":1},null,null,null,null,null,null,{"$f":"SUM(E87,G87,I87)","v":0},0]
[{"$f":"Classical!A85","v":"S-302"},{"$f":"Classical!U85","v":0},{"$f":"Classical!S85","v":0},{"$f":"IF((ClassicalMR!$B88+ClassicalMR!$C88)>0,1,0)","v":0},null,null,null,null,null,null,{"$f":"SUM(E88,G88,I88)","v":0},0]
[{"$f":"Classical!A86","v":"S-303"},{"$f":"Classical!U86","v":0},{"$f":"Classical!S86","v":0},{"$f":"IF((ClassicalMR!$B89+ClassicalMR!$C89)>0,1,0)","v":0},null,null,null,null,null,null,{"$f":"SUM(E89,G89,I89)","v":0},0]
[{"$f":"Classical!A87","v":"S-304"},{"$f":"Classical!U87","v":0},{"$f":"Classical!S87","v":0},{"$f":"IF((ClassicalMR!$B90+ClassicalMR!$C90)>0,1,0)","v":0},null,null,null,null,null,null,{"$f":"SUM(E90,G90,I90)","v":0},0]
[{"$f":"Classical!A89","v":"T-301"},{"$f":"Classical!U89","v":0},{"$f":"Classical!S89","v":0},{"$f":"IF((ClassicalMR!$B91+ClassicalMR!$C91)>0,1,0)","v":0},null,null,null,null,null,null,{"$f":"SUM(E91,G91,I91)","v":0},0]
[{"$f":"Classical!A90","v":"T-302"},{"$f":"Classical!U90","v":0},{"$f":"Classical!S90","v":0},{"$f":"IF((ClassicalMR!$B92+ClassicalMR!$C92)>0,1,0)","v":0},null,null,null,null,null,null,{"$f":"SUM(E92,G92,I92)","v":0},0]
[{"$f":"Classical!A91","v":"T-303"},{"$f":"Classical!U91","v":0},{"$f":"Classical!S91","v":0},{"$f":"IF((ClassicalMR!$B93+ClassicalMR!$C93)>0,1,0)","v":0},null,null,null,null,null,null,{"$f":"SUM(E93,G93,I93)","v":0},0]
[{"$f":"Classical!A92","v":"T-304"},{"$f":"Classical!U92","v":0},{"$f":"Classical!S92","v":0},{"$f":"IF((ClassicalMR!$B94+ClassicalMR!$C94)>0,1,0)","v":0},null,null,null,null,null,null,{"$f":"SUM(E94,G94,I94)","v":0},0]
[{"$f":"Classical!A94","v":"U-301"},{"$f":"Classical!U94","v":0},{"$f":"Classical!S94","v":0},{"$f":"IF((ClassicalMR!$B95+ClassicalMR!$C95)>0,1,0)","v":0},null,null,null,null,null,null,{"$f":"SUM(E95,G95,I95)","v":0},0]
[{"$f":"Classical!A95","v":"U-302"},{"$f":"Classical!U95","v":0},{"$f":"Classical!S95","v":0},{"$f":"IF((ClassicalMR!$B96+ClassicalMR!$C96)>0,1,0)","v":0},null,null,null,null,null,null,{"$f":"SUM(E96,G96,I96)","v":0},0]
[{"$f":"Classical!A96","v":"U-303"},{"$f":"Classical!U96","v":0},{"$f":"Classical!S96","v":0},{"$f":"IF((ClassicalMR!$B97+ClassicalMR!$C97)>0,1,0)","v":0},null,null,null,null,null,null,{"$f":"SUM(E97,G97,I97)","v":0},0]
[{"$f":"Classical!A97","v":"U-304"},{"$f":"Classical!U97","v":0},{"$f":"Classical!S97","v":0},{"$f":"IF((ClassicalMR!$B98+ClassicalMR!$C98)>0,1,0)","v":0},null,null,null,null,null,null,{"$f":"SUM(E98,G98,I98)","v":0},0]
[{"$f":"Classical!A99","v":"V-301"},{"$f":"Classical!U99","v":0},{"$f":"Classical!S99","v":0},{"$f":"IF((ClassicalMR!$B99+ClassicalMR!$C99)>0,1,0)","v":0},null,null,null,null,null,null,{"$f":"SUM(E99,G99,I99)","v":0},0]
[{"$f":"Classical!A100","v":"V-302"},{"$f":"Classical!U100","v":0},{"$f":"Classical!S100","v":0},{"$f":"IF((ClassicalMR!$B100+ClassicalMR!$C100)>0,1,0)","v":0},null,null,null,null,null,null,{"$f":"SUM(E100,G100,I100)","v":0},0]
[{"$f":"Classical!A101","v":"V-303"},{"$f":"Classical!U101","v":0},{"$f":"Classical!S101","v":0},{"$f":"IF((ClassicalMR!$B101+ClassicalMR!$C101)>0,1,0)","v":0},null,null,null,null,null,null,{"$f":"SUM(E101,G101,I101)","v":0},0]
[{"$f":"Classical!A102","v":"V-304"},{"$f":"Classical!U102","v":0},{"$f":"Classical!S102","v":0},{"$f":"IF((ClassicalMR!$B102+ClassicalMR!$C102)>0,1,0)","v":0},null,null,null,null,null,null,{"$f":"SUM(E102,G102,I102)","v":0},0]
[{"$f":"Classical!A104","v":"W-301"},{"$f":"Classical!U104","v":0},{"$f":"Classical!S104","v":0},{"$f":"IF((ClassicalMR!$B103+ClassicalMR!$C103)>0,1,0)","v":0},null,null,null,null,null,null,{"$f":"SUM(E103,G103,I103)","v":0},0]
[{"$f":"Classical!A105","v":"W-302"},{"$f":"Classical!U105","v":0},{"$f":"Classical!S105","v":0},{"$f":"IF((ClassicalMR!$B104+ClassicalMR!$C104)>0,1,0)","v":0},null,null,null,null,null,null,{"$f":"SUM(E104,G104,I104)","v":0},0]
[{"$f":"Classical!A106","v":"W-303"},{"$f":"Classical!U106","v":0},{"$f":"Classical!S106","v":0},{"$f":"IF((ClassicalMR!$B105+ClassicalMR!$C105)>0,1,0)","v":0},null,null,null,null,null,null,{"$f":"SUM(E105,G105,I105)","v":0},0]
[{"$f":"Classical!A107","v":"W-304"},{"$f":"Classical!U107","v":0},{"$f":"Classical!S107","v":0},{"$f":"IF((ClassicalMR!$B106+ClassicalMR!$C106)>0,1,0)","v":0},null,null,null,null,null,null,{"$f":"SUM(E106,G106,I106)","v":0},0]
[{"$f":"Classical!A109","v":"X-301"},{"$f":"Classical!U109","v":0},{"$f":"Classical!S109","v":0},{"$f":"IF((ClassicalMR!$B107+ClassicalMR!$C107)>0,1,0)","v":0},null,null,null,null,null,null,{"$f":"SUM(E107,G107,I107)","v":0},0]
[{"$f":"Classical!A110","v":"X-302"},{"$f":"Classical!U110","v":0},{"$f":"Classical!S110","v":0},{"$f":"IF((ClassicalMR!$B108+ClassicalMR!$C108)>0,1,0)","v":0},null,null,null,null,null,null,{"$f":"SUM(E108,G108,I108)","v":0},0]
[{"$f":"Classical!A111","v":"X-303"},{"$f":"Classical!U111","v":0},{"$f":"Classical!S111","v":0},{"$f":"IF((ClassicalMR!$B109+ClassicalMR!$C109)>0,1,0)","v":0},null,null,null,null,null,null,{"$f":"SUM(E109,G109,I109)","v":0},0]
[{"$f":"Classical!A112","v":"X-304"},{"$f":"Classical!U112","v":0},{"$f":"Classical!S112","v":0},{"$f":"IF((ClassicalMR!$B110+ClassicalMR!$C110)>0,1,0)","v":0},null,null,null,null,null,null,{"$f":"SUM(E110,G110,I110)","v":0},0]
[{"$f":"Classical!A114","v":"Y-301"},{"$f":"Classical!U114","v":0},{"$f":"Classical!S114","v":0},{"$f":"IF((ClassicalMR!$B111+ClassicalMR!$C111)>0,1,0)","v":0},null,null,null,null,null,null,{"$f":"SUM(E111,G111,I111)","v":0},0]
[{"$f":"Classical!A115","v":"Y-302"},{"$f":"Classical!U115","v":0},{"$f":"Classical!S115","v":0},{"$f":"IF((ClassicalMR!$B112+ClassicalMR!$C112)>0,1,0)","v":0},null,null,null,null,null,null,{"$f":"SUM(E112,G112,I112)","v":0},0]
[{"$f":"Classical!A116","v":"Y-303"},{"$f":"Classical!U116","v":0},{"$f":"Classical!S116","v":0},{"$f":"IF((ClassicalMR!$B113+ClassicalMR!$C113)>0,1,0)","v":0},null,null,null,null,null,null,{"$f":"SUM(E113,G113,I113)","v":0},0]
[{"$f":"Classical!A117","v":"Y-304"},{"$f":"Classical!U117","v":0},{"$f":"Classical!S117","v":0},{"$f":"IF((ClassicalMR!$B114+ClassicalMR!$C114)>0,1,0)","v":0},null,null,null,null,null,null,{"$f":"SUM(E114,G114,I114)","v":0},0]
[{"$f":"Classical!A119","v":"Z-301"},{"$f":"Classical!U119","v":0},{"$f":"Classical!S119","v":0},{"$f":"IF((ClassicalMR!$B115+ClassicalMR!$C115)>0,1,0)","v":0},null,null,null,null,null,null,{"$f":"SUM(E115,G115,I115)","v":0},0]
[{"$f":"Classical!A120","v":"Z-302"},{"$f":"Classical!U120","v":0},{"$f":"Classical!S120","v":0},{"$f":"IF((ClassicalMR!$B116+ClassicalMR!$C116)>0,1,0)","v":0},null,null,null,null,null,null,{"$f":"SUM(E116,G116,I116)","v":0},0]
[{"$f":"Classical!A121","v":"Z-303"},{"$f":"Classical!U121","v":0},{"$f":"Classical!S121","v":0},{"$f":"IF((ClassicalMR!$B117+ClassicalMR!$C117)>0,1,0)","v":0},null,null,null,null,null,null,{"$f":"SUM(E117,G117,I117)","v":0},0]
[{"$f":"Classical!A122","v":"Z-304"},{"$f":"Classical!U122","v":0},{"$f":"Classical!S122","v":0},{"$f":"IF((ClassicalMR!$B118+ClassicalMR!$C118)>0,1,0)","v":0},null,null,null,null,null,null,{"$f":"SUM(E118,G118,I118)","v":0},0]
[{"$f":"Classical!A149","v":"FF-301"},{"$f":"Classical!U149","v":0},{"$f":"Classical!S149","v":0},{"$f":"IF((ClassicalMR!$B119+ClassicalMR!$C119)>0,1,0)","v":0},null,null,null,null,null,null,{"$f":"SUM(E119,G119,I119)","v":0},0]
[{"$f":"Classical!A150","v":"FF-302"},{"$f":"Classical!U150","v":0},{"$f":"Classical!S150","v":0},{"$f":"IF((ClassicalMR!$B120+ClassicalMR!$C120)>0,1,0)","v":0},null,null,null,null,null,null,{"$f":"SUM(E120,G120,I120)","v":0},0]
[{"$f":"Classical!A151","v":"FF-303"},{"$f":"Classical!U151","v":0},{"$f":"Classical!S151","v":0},{"$f":"IF((ClassicalMR!$B121+ClassicalMR!$C121)>0,1,0)","v":0},null,null,null,null,null,null,{"$f":"SUM(E121,G121,I121)","v":0},0]
[{"$f":"Classical!A152","v":"FF-304"},{"$f":"Classical!U152","v":0},{"$f":"Classical!S152","v":0},{"$f":"IF((ClassicalMR!$B122+ClassicalMR!$C122)>0,1,0)","v":0},null,null,null,null,null,null,{"$f":"SUM(E122,G122,I122)","v":0},0]

{"sheet":"Contemporary","index":7,"n_rows":152,"n_cols":31,"rows_kept":152,"cut":false,"hidden":false,"merged":[]}
["Contemporary Scenes",null,null,null,null,null,null,null,null,null,"Rank 1-4",null,null,null,null,null,null,null,null,null,null,null,null,"S","E","G","F",null,"1violation","2violations","3violations"]
[null,null,null,null,null,null,null,null,null,null,"Round 1:",null,"Round 2:",null,"Round 3:",null,"-2 for each",null,null,null,null,null,null,null,null,null,null,"Drops lowest from column q"]
[null,null,null,"Student Name",null,"Student Name",null,"Student Name",null,"Title of Piece","R1 rank","R1 score","R2 rank","R2 score","R3 rank","R3 score","Time Violations",null,"TOTAL SCORE",null,"TOTAL RANK",null,null,"TOTAL SCHOOL SWEEPS POINTS",null,null,null,"Drop Lowest"]
["A-401",null,null,"Hattie","Stubbs","Quin","Zolinger",null,null,"You Belong To me",1.0,25.0,2.0,25.0,3.0,15.0,null,{"$f":"IF(Q4=\"1violation\",-7*1,IF(Q4=\"2violations\",-7*2,IF(Q4=\"3violations\",-7*3,IF(Q4=\"\",\"\"))))","v":""},{"$f":"SUM(L4,N4,P4,R4)","v":65},null,{"$f":"SUM(K4,M4,O4)","v":6},null,null,null,{"$f":"SUM(S4,S6,S5,S7,-AB4)","v":199},null,null,{"$f":"MIN(S4:S7)","v":57}]
["A-402",null,null,"Cayden","Hirschi","Kennedy","Lundeberg",null,null,"Proposals",4.0,22.0,4.0,15.0,1.0,23.0,null,"",60,null,9]
["A-403",null,null,"Matthew","Bishop","Alivia","Shumway","McKay","Steck","Stolen",4.0,17.0,2.0,21.0,4.0,19.0,null,"",57,null,10]
["A-404",null,null,"Janey","Christensen","Lillian","Wasden",null,null,"Parallel",3.0,25.0,2.0,25.0,2.0,24.0,null,"",74,null,7]
[]
["B-401",null,null,null,"Gorley",null,"Lovejoy",null,"Rykhus","First Date",4.0,21.0,4.0,15.0,4.0,23.0,null,{"$f":"IF(Q9=\"1violation\",-7*1,IF(Q9=\"2violations\",-7*2,IF(Q9=\"3violations\",-7*3,IF(Q9=\"\",\"\"))))","v":""},{"$f":"SUM(L9,N9,P9,R9)","v":59},null,{"$f":"SUM(K9,M9,O9)","v":12},null,null,null,{"$f":"SUM(S9,S11,S10,S12,-AB9)","v":59},null,null,{"$f":"MIN(S9:S12)","v":0}]
["B-402",null,null,null,null,null,null,null,null,null,null,null,null,null,null,null,null,"",0,null,0]
["B-403",null,null,null,null,null,null,null,null,null,null,null,null,null,null,null,null,"",0,null,0]
["B-404",null,null,null,null,null,null,null,null,null,null,null,null,null,null,null,null,"",0,null,0]
[]
["C-401",null,null,null,"Sorenson",null,"Frint",null,"Bess","Shakespeare",2.0,25.0,2.0,24.0,1.0,25.0,null,{"$f":"IF(Q14=\"1violation\",-7*1,IF(Q14=\"2violations\",-7*2,IF(Q14=\"3violations\",-7*3,IF(Q14=\"\",\"\"))))","v":""},{"$f":"SUM(L14,N14,P14,R14)","v":74},null,{"$f":"SUM(K14,M14,O14)","v":5},null,null,null,{"$f":"SUM(S14,S16,S15,S17,-AB14)","v":219},null,null,{"$f":"MIN(S14:S17)","v":71}]
["C-402",null,null,null,"Mathews",null,"Quick",null,"Jorgensen","Den of thieves",2.0,24.0,1.0,24.0,1.0,25.0,null,"",73,null,4]
["C-403",null,null,null,"Sims",null,"Emblton",null,null,"Den of thieves",1.0,23.0,2.0,25.0,1.0,23.0,null,"",71,null,4]
["C-404",null,null,null,"Costello",null,"Wilson",null,"Wheeler","Peter and Starcatcher",3.0,23.0,4.0,24.0,1.0,25.0,null,"",72,null,8]
[]
["D-401",null,null,null,null,null,null,null,null,null,null,null,null,null,null,null,null,{"$f":"IF(Q19=\"1violation\",-7*1,IF(Q19=\"2violations\",-7*2,IF(Q19=\"3violations\",-7*3,IF(Q19=\"\",\"\"))))","v":""},{"$f":"SUM(L19,N19,P19,R19)","v":0},null,{"$f":"SUM(K19,M19,O19)","v":0},null,null,null,{"$f":"SUM(S19,S21,S20,S22,-AB19)","v":0},null,null,{"$f":"MIN(S19:S22)","v":0}]
["D-402",null,null,null,null,null,null,null,null,null,null,null,null,null,null,null,null,"",0,null,0]
["D-403",null,null,null,null,null,null,null,null,null,null,null,null,null,null,null,null,"",0,null,0]
["D-404",null,null,null,null,null,null,null,null,null,null,null,null,null,null,null,null,"",0,null,0]
[]
["E-401",null,null,null,"Sheeran",null,"Leary",null,null,"Roots",4.0,21.0,4.0,21.0,4.0,22.0,null,{"$f":"IF(Q24=\"1violation\",-7*1,IF(Q24=\"2violations\",-7*2,IF(Q24=\"3violations\",-7*3,IF(Q24=\"\",\"\"))))","v":""},{"$f":"SUM(L24,N24,P24,R24)","v":64},null,{"$f":"SUM(K24,M24,O24)","v":12},null,null,null,{"$f":"SUM(S24,S26,S25,S27,-AB24)","v":64},null,null,{"$f":"MIN(S24:S27)","v":0}]
["E-402",null,null,null,null,null,null,null,null,null,null,null,null,null,null,null,null,"",0,null,0]
["E-403",null,null,null,null,null,null,null,null,null,null,null,null,null,null,null,null,"",0,null,0]
["E-404",null,null,null,null,null,null,null,null,null,null,null,null,null,null,null,null,"",0,null,0]
[]
["F-401",null,null,null,"Bennett",null,"Bradford",null,null,"Star Spangled",1.0,25.0,1.0,23.0,1.0,25.0,"1violation",{"$f":"IF(Q29=\"1violation\",-7*1,IF(Q29=\"2violations\",-7*2,IF(Q29=\"3violations\",-7*3,IF(Q29=\"\",\"\"))))","v":-7},{"$f":"SUM(L29,N29,P29,R29)","v":66},null,{"$f":"SUM(K29,M29,O29)","v":3},null,null,null,{"$f":"SUM(S29,S31,S30,S32,-AB29)","v":205},null,null,{"$f":"MIN(S29:S32)","v":0}]
["F-402",null,null,null,"Kaiser",null,"Styer",null,null,"Inherit Wind",1.0,25.0,1.0,25.0,2.0,25.0,null,"",75,null,4]
["F-403",null,null,null,"Campbell",null,"McKellar",null,null,"Steel Magnolias",2.0,25.0,2.0,24.0,4.0,15.0,null,"",64,null,8]
["F-404",null,null,null,null,null,null,null,null,null,null,null,null,null,null,null,null,"",0,null,0]
[]
["G-401",null,null,null,null,null,null,null,null,null,null,null,null,null,null,null,null,{"$f":"IF(Q34=\"1violation\",-7*1,IF(Q34=\"2violations\",-7*2,IF(Q34=\"3violations\",-7*3,IF(Q34=\"\",\"\"))))","v":""},{"$f":"SUM(L34,N34,P34,R34)","v":0},null,{"$f":"SUM(K34,M34,O34)","v":0},null,null,null,{"$f":"SUM(S34,S36,S35,S37,-AB34)","v":0},null,null,{"$f":"MIN(S34:S37)","v":0}]
["G-402",null,null,null,null,null,null,null,null,null,null,null,null,null,null,null,null,"",0,null,0]
["G-403",null,null,null,null,null,null,null,null,null,null,null,null,null,null,null,null,"",0,null,0]
["G-404",null,null,null,null,null,null,null,null,null,null,null,null,null,null,null,null,"",0,null,0]
[]
["H-401",null,null,null,"Madsen",null,"Call",null,null,"Rabbit Hole",2.0,21.0,3.0,20.0,2.0,25.0,null,{"$f":"IF(Q39=\"1violation\",-7*1,IF(Q39=\"2violations\",-7*2,IF(Q39=\"3violations\",-7*3,IF(Q39=\"\",\"\"))))","v":""},{"$f":"SUM(L39,N39,P39,R39)","v":66},null,{"$f":"SUM(K39,M39,O39)","v":7},null,null,null,{"$f":"SUM(S39,S41,S40,S42,-AB39)","v":204},null,null,{"$f":"MIN(S39:S42)","v":0}]
["H-402",null,null,null,"Paul",null,"Dupass",null,"Cooper","Your'e a Good Man",2.0,24.0,1.0,25.0,4.0,21.0,null,"",70,null,7]
["H-403",null,null,null,"McLelland",null,"Haley",null,null,"Rabbit Hole",3.0,19.0,3.0,24.0,1.0,25.0,null,"",68,null,7]
["H-404",null,null,null,null,null,null,null,null,null,null,null,null,null,null,null,null,"",0,null,0]
[]
["J-401",null,null,null,"Thorn",null,"Monsen",null,null,"Parallel Lives",1.0,25.0,1.0,25.0,3.0,24.0,null,{"$f":"IF(Q44=\"1violation\",-7*1,IF(Q44=\"2violations\",-7*2,IF(Q44=\"3violations\",-7*3,IF(Q44=\"\",\"\"))))","v":""},{"$f":"SUM(L44,N44,P44,R44)","v":74},null,{"$f":"SUM(K44,M44,O44)","v":5},null,null,null,{"$f":"SUM(S44,S46,S45,S47,-AB44)","v":138},null,null,{"$f":"MIN(S44:S47)","v":0}]
["J-402",null,null,null,"Hanks",null,"Carle",null,null,"Don't Drink the Water",4.0,20.0,4.0,20.0,3.0,24.0,null,"",64,null,11]
["J-403",null,null,null,null,null,null,null,null,null,null,null,null,null,null,null,null,"",0,null,0]
["J-404",null,null,null,null,null,null,null,null,null,null,null,null,null,null,null,null,"",0,null,0]
[]
["K-401",null,null,null,"Adetula",null,"Johnston",null,null,"Eleemosynary",3.0,22.0,3.0,23.0,4.0,19.0,null,{"$f":"IF(Q49=\"1violation\",-7*1,IF(Q49=\"2violations\",-7*2,IF(Q49=\"3violations\",-7*3,IF(Q49=\"\",\"\"))))","v":""},{"$f":"SUM(L49,N49,P49,R49)","v":64},null,{"$f":"SUM(K49,M49,O49)","v":10},null,null,null,{"$f":"SUM(S49,S51,S50,S52,-AB49)","v":201},null,null,{"$f":"MIN(S49:S52)","v":0}]
["K-402",null,null,null,"chamberlain",null,"Shemwell",null,null,"Gruesome Playground",2.0,24.0,3.0,22.0,3.0,22.0,null,"",68,null,8]
["K-403",null,null,null,"Mirabile",null,"Raven",null,null,"Whole House Full",2.0,25.0,1.0,22.0,3.0,22.0,null,"",69,null,6]
["K-404",null,null,null,null,null,null,null,null,null,null,null,null,null,null,null,null,"",0,null,0]
[]
["L-401",null,null,null,"Criddle",null,"Noyes",null,"Dart","Good Doctor",1.0,24.0,4.0,20.0,4.0,24.0,null,{"$f":"IF(Q54=\"1violation\",-7*1,IF(Q54=\"2violations\",-7*2,IF(Q54=\"3violations\",-7*3,IF(Q54=\"\",\"\"))))","v":""},{"$f":"SUM(L54,N54,P54,R54)","v":68},null,{"$f":"SUM(K54,M54,O54)","v":9},null,null,null,{"$f":"SUM(S54,S56,S55,S57,-AB54)","v":200},null,null,{"$f":"MIN(S54:S57)","v":60}]
["L-402",null,null,null,"Dalpiaz",null,"Stockdale",null,"McArthur","Blithe Spirit",4.0,15.0,4.0,23.0,2.0,22.0,null,"",60,null,10]
["L-403",null,null,null,"Davis",null,"Kranendonk",null,null,"Crucible",3.0,24.0,4.0,19.0,4.0,21.0,null,"",64,null,11]
["L-404",null,null,null,"Sweeney",null,"Ison",null,null,"Still as Stone",4.0,21.0,1.0,25.0,2.0,22.0,null,"",68,null,7]
[]
["M-401",null,null,null,null,null,null,null,null,null,null,null,null,null,null,null,null,{"$f":"IF(Q59=\"1violation\",-7*1,IF(Q59=\"2violations\",-7*2,IF(Q59=\"3violations\",-7*3,IF(Q59=\"\",\"\"))))","v":""},{"$f":"SUM(L59,N59,P59,R59)","v":0},null,{"$f":"SUM(K59,M59,O59)","v":0},null,null,null,{"$f":"SUM(S59,S61,S60,S62,-AB59)","v":0},null,null,{"$f":"MIN(S59:S62)","v":0}]
["M-402",null,null,null,null,null,null,null,null,null,null,null,null,null,null,null,null,"",0,null,0]
["M-403",null,null,null,null,null,null,null,null,null,null,null,null,null,null,null,null,"",0,null,0]
["M-404",null,null,null,null,null,null,null,null,null,null,null,null,null,null,null,null,"",0,null,0]
[]
["N-401",null,null,null,"Williams",null,"Keyser",null,null,"Reflects Action",4.0,22.0,3.0,24.0,4.0,22.0,null,{"$f":"IF(Q64=\"1violation\",-7*1,IF(Q64=\"2violations\",-7*2,IF(Q64=\"3violations\",-7*3,IF(Q64=\"\",\"\"))))","v":""},{"$f":"SUM(L64,N64,P64,R64)","v":68},null,{"$f":"SUM(K64,M64,O64)","v":11},null,null,null,{"$f":"SUM(S64,S66,S65,S67,-AB64)","v":130},null,null,{"$f":"MIN(S64:S67)","v":0}]
["N-402",null,null,null,"Livingston",null,"Livingston",null,null,"Somewhere, Nowhere",null,null,null,null,null,null,null,"",0,null,0]
["N-403",null,null,null,"Jones",null,"Neilson",null,"Newman","Little Shop",4.0,23.0,2.0,18.0,3.0,21.0,null,"",62,null,9]
["N-404",null,null,null,null,null,null,null,null,null,null,null,null,null,null,null,null,"",0,null,0]
[]
["P-401",null,null,null,"Anderson",null,"Lund",null,null,"Good Doctor",1.0,25.0,1.0,25.0,2.0,23.0,null,{"$f":"IF(Q69=\"1violation\",-7*1,IF(Q69=\"2violations\",-7*2,IF(Q69=\"3violations\",-7*3,IF(Q69=\"\",\"\"))))","v":""},{"$f":"SUM(L69,N69,P69,R69)","v":73},null,{"$f":"SUM(K69,M69,O69)","v":4},null,null,null,{"$f":"SUM(S69,S71,S70,S72,-AB69)","v":213},null,null,{"$f":"MIN(S69:S72)","v":60}]
["P-402",null,null,null,"Dyches",null,"Jessop",null,null,"Finale Placement",1.0,25.0,4.0,24.0,2.0,25.0,null,"",74,null,7]
["P-403",null,null,null,"Wallace",null,"Stavros",null,null,"Burn a Witch",4.0,18.0,3.0,17.0,1.0,25.0,null,"",60,null,8]
["P-404",null,null,null,"Howlett",null,"Hathaway",null,"Shepherd","Canker Sores",3.0,24.0,4.0,21.0,4.0,21.0,null,"",66,null,11]
[]
["Q-401",null,null,null,null,null,null,null,null,null,null,null,null,null,null,null,null,{"$f":"IF(Q74=\"1violation\",-7*1,IF(Q74=\"2violations\",-7*2,IF(Q74=\"3violations\",-7*3,IF(Q74=\"\",\"\"))))","v":""},{"$f":"SUM(L74,N74,P74,R74)","v":0},null,{"$f":"SUM(K74,M74,O74)","v":0},null,null,null,{"$f":"SUM(S74,S76,S75,S77,-AB74)","v":0},null,null,{"$f":"MIN(S74:S77)","v":0}]
["Q-402",null,null,null,null,null,null,null,null,null,null,null,null,null,null,null,null,"",0,null,0]
["Q-403",null,null,null,null,null,null,null,null,null,null,null,null,null,null,null,null,"",0,null,0]
["Q-404",null,null,null,null,null,null,null,null,null,null,null,null,null,null,null,null,"",0,null,0]
[]
["R-401",null,null,null,"Madsen",null,"Keddington",null,null,"Enchanted April",4.0,21.0,4.0,19.0,3.0,22.0,null,{"$f":"IF(Q79=\"1violation\",-7*1,IF(Q79=\"2violations\",-7*2,IF(Q79=\"3violations\",-7*3,IF(Q79=\"\",\"\"))))","v":""},{"$f":"SUM(L79,N79,P79,R79)","v":62},null,{"$f":"SUM(K79,M79,O79)","v":11},null,null,null,{"$f":"SUM(S79,S81,S80,S82,-AB79)","v":184},null,null,{"$f":"MIN(S79:S82)","v":0}]
["R-402",null,null,null,"WEis",null,"Black",null,null,"Antigone Now",2.0,23.0,3.0,21.0,2.0,19.0,"1violation",-7,56,null,7]
["R-403",null,null,null,"Evans",null,"Whitmar",null,null,"Funeral Parlor",4.0,24.0,2.0,21.0,4.0,21.0,null,"",66,null,10]
["R-404",null,null,null,null,null,null,null,null,null,null,null,null,null,null,null,null,"",0,null,0]
[]
["S-401",null,null,null,"Chambers",null,"Shinney",null,"Smurthwaite","Story of Hope",3.0,23.0,4.0,22.0,4.0,20.0,null,{"$f":"IF(Q84=\"1violation\",-7*1,IF(Q84=\"2violations\",-7*2,IF(Q84=\"3violations\",-7*3,IF(Q84=\"\",\"\"))))","v":""},{"$f":"SUM(L84,N84,P84,R84)","v":65},null,{"$f":"SUM(K84,M84,O84)","v":11},null,null,null,{"$f":"SUM(S84,S86,S85,S87,-AB84)","v":134},null,null,{"$f":"MIN(S84:S87)","v":0}]
["S-402",null,null,null,"Burton",null,"Thomsen",null,null,"Little Women",3.0,21.0,3.0,24.0,3.0,24.0,null,"",69,null,9]
["S-403",null,null,null,null,null,null,null,null,null,null,null,null,null,null,null,null,"",0,null,0]
["S-404",null,null,null,null,null,null,null,null,null,null,null,null,null,null,null,null,"",0,null,0]
[]
["T-401",null,null,null,null,null,null,null,null,null,null,null,null,null,null,null,null,{"$f":"IF(Q89=\"1violation\",-7*1,IF(Q89=\"2violations\",-7*2,IF(Q89=\"3violations\",-7*3,IF(Q89=\"\",\"\"))))","v":""},{"$f":"SUM(L89,N89,P89,R89)","v":0},null,{"$f":"SUM(K89,M89,O89)","v":0},null,null,null,{"$f":"SUM(S89,S91,S90,S92,-AB89)","v":0},null,null,{"$f":"MIN(S89:S92)","v":0}]
["T-402",null,null,null,null,null,null,null,null,null,null,null,null,null,null,null,null,"",0,null,0]
["T-403",null,null,null,null,null,null,null,null,null,null,null,null,null,null,null,null,"",0,null,0]
["T-404",null,null,null,null,null,null,null,null,null,null,null,null,null,null,null,null,"",0,null,0]
[]
["U-401",null,null,null,null,null,null,null,null,null,null,null,null,null,null,null,null,{"$f":"IF(Q94=\"1violation\",-7*1,IF(Q94=\"2violations\",-7*2,IF(Q94=\"3violations\",-7*3,IF(Q94=\"\",\"\"))))","v":""},{"$f":"SUM(L94,N94,P94,R94)","v":0},null,{"$f":"SUM(K94,M94,O94)","v":0},null,null,null,{"$f":"SUM(S94,S96,S95,S97,-AB94)","v":0},null,null,{"$f":"MIN(S94:S97)","v":0}]
["U-402",null,null,null,null,null,null,null,null,null,null,null,null,null,null,null,null,"",0,null,0]
["U-403",null,null,null,null,null,null,null,null,null,null,null,null,null,null,null,null,"",0,null,0]
["U-404",null,null,null,null,null,null,null,null,null,null,null,null,null,null,null,null,"",0,null,0]
[]
["V-401",null,null,null,null,null,null,null,null,null,null,null,null,null,null,null,null,{"$f":"IF(Q99=\"1violation\",-7*1,IF(Q99=\"2violations\",-7*2,IF(Q99=\"3violations\",-7*3,IF(Q99=\"\",\"\"))))","v":""},{"$f":"SUM(L99,N99,P99,R99)","v":0},null,{"$f":"SUM(K99,M99,O99)","v":0},null,null,null,{"$f":"SUM(S99,S101,S100,S102,-AB99)","v":0},null,null,{"$f":"MIN(S99:S102)","v":0}]
["V-402",null,null,null,null,null,null,null,null,null,null,null,null,null,null,null,null,"",0,null,0]
["V-403",null,null,null,null,null,null,null,null,null,null,null,null,null,null,null,null,"",0,null,0]
["V-404",null,null,null,null,null,null,null,null,null,null,null,null,null,null,null,null,"",0,null,0]
[]
["W-401",null,null,null,null,null,null,null,null,null,null,null,null,null,null,null,null,{"$f":"IF(Q104=\"1violation\",-7*1,IF(Q104=\"2violations\",-7*2,IF(Q104=\"3violations\",-7*3,IF(Q104=\"\",\"\"))))","v":""},{"$f":"SUM(L104,N104,P104,R104)","v":0},null,{"$f":"SUM(K104,M104,O104)","v":0},null,null,null,{"$f":"SUM(S104,S106,S105,S107,-AB104)","v":0},null,null,{"$f":"MIN(S104:S107)","v":0}]
["W-402",null,null,null,null,null,null,null,null,null,null,null,null,null,null,null,null,"",0,null,0]
["W-403",null,null,null,null,null,null,null,null,null,null,null,null,null,null,null,null,"",0,null,0]
["W-404",null,null,null,null,null,null,null,null,null,null,null,null,null,null,null,null,"",0,null,0]
[]
["X-401",null,null,null,null,null,null,null,null,null,null,null,null,null,null,null,null,{"$f":"IF(Q109=\"1violation\",-7*1,IF(Q109=\"2violations\",-7*2,IF(Q109=\"3violations\",-7*3,IF(Q109=\"\",\"\"))))","v":""},{"$f":"SUM(L109,N109,P109,R109)","v":0},null,{"$f":"SUM(K109,M109,O109)","v":0},null,null,null,{"$f":"SUM(S109,S111,S110,S112,-AB109)","v":0},null,null,{"$f":"MIN(S109:S112)","v":0}]
["X-402",null,null,null,null,null,null,null,null,null,null,null,null,null,null,null,null,"",0,null,0]
["X-403",null,null,null,null,null,null,null,null,null,null,null,null,null,null,null,null,"",0,null,0]
["X-404",null,null,null,null,null,null,null,null,null,null,null,null,null,null,null,null,"",0,null,0]
[]
["Y-401",null,null,null,null,null,null,null,null,null,null,null,null,null,null,null,null,{"$f":"IF(Q114=\"1violation\",-7*1,IF(Q114=\"2violations\",-7*2,IF(Q114=\"3violations\",-7*3,IF(Q114=\"\",\"\"))))","v":""},{"$f":"SUM(L114,N114,P114,R114)","v":0},null,{"$f":"SUM(K114,M114,O114)","v":0},null,null,null,{"$f":"SUM(S114,S116,S115,S117,-AB114)","v":0},null,null,{"$f":"MIN(S114:S117)","v":0}]
["Y-402",null,null,null,null,null,null,null,null,null,null,null,null,null,null,null,null,"",0,null,0]
["Y-403",null,null,null,null,null,null,null,null,null,null,null,null,null,null,null,null,"",0,null,0]
["Y-404",null,null,null,null,null,null,null,null,null,null,null,null,null,null,null,null,"",0,null,0]
[]
["Z-401",null,null,null,null,null,null,null,null,null,null,null,null,null,null,null,null,{"$f":"IF(Q119=\"1violation\",-7*1,IF(Q119=\"2violations\",-7*2,IF(Q119=\"3violations\",-7*3,IF(Q119=\"\",\"\"))))","v":""},{"$f":"SUM(L119,N119,P119,R119)","v":0},null,{"$f":"SUM(K119,M119,O119)","v":0},null,null,null,{"$f":"SUM(S119,S121,S120,S122,-AB119)","v":0},null,null,{"$f":"MIN(S119:S122)","v":0}]
["Z-402",null,null,null,null,null,null,null,null,null,null,null,null,null,null,null,null,"",0,null,0]
["Z-403",null,null,null,null,null,null,null,null,null,null,null,null,null,null,null,null,"",0,null,0]
["Z-404",null,null,null,null,null,null,null,null,null,null,null,null,null,null,null,null,"",0,null,0]
[]
["AA-401",null,null,null,null,null,null,null,null,null,null,null,null,null,null,null,null,{"$f":"IF(Q124=\"1violation\",-7*1,IF(Q124=\"2violations\",-7*2,IF(Q124=\"3violations\",-7*3,IF(Q124=\"\",\"\"))))","v":""},{"$f":"SUM(L124,N124,P124,R124)","v":0},null,{"$f":"SUM(K124,M124,O124)","v":0},null,null,null,{"$f":"SUM(S124,S126,S125,S127,-AB124)","v":0},null,null,{"$f":"MIN(S124:S127)","v":0}]
["AA-402",null,null,null,null,null,null,null,null,null,null,null,null,null,null,null,null,"",0,null,0]
["AA-403",null,null,null,null,null,null,null,null,null,null,null,null,null,null,null,null,"",0,null,0]
["AA-404",null,null,null,null,null,null,null,null,null,null,null,null,null,null,null,null,"",0,null,0]
[]
["BB-401",null,null,null,null,null,null,null,null,null,null,null,null,null,null,null,null,{"$f":"IF(Q129=\"1violation\",-7*1,IF(Q129=\"2violations\",-7*2,IF(Q129=\"3violations\",-7*3,IF(Q129=\"\",\"\"))))","v":""},{"$f":"SUM(L129,N129,P129,R129)","v":0},null,{"$f":"SUM(K129,M129,O129)","v":0},null,null,null,{"$f":"SUM(S129,S131,S130,S132,-AB129)","v":0},null,null,{"$f":"MIN(S129:S132)","v":0}]
["BB-402",null,null,null,null,null,null,null,null,null,null,null,null,null,null,null,null,"",0,null,0]
["BB-403",null,null,null,null,null,null,null,null,null,null,null,null,null,null,null,null,"",0,null,0]
["BB-404",null,null,null,null,null,null,null,null,null,null,null,null,null,null,null,null,"",0,null,0]
[]
["CC-401",null,null,null,null,null,null,null,null,null,null,null,null,null,null,null,null,{"$f":"IF(Q134=\"1violation\",-7*1,IF(Q134=\"2violations\",-7*2,IF(Q134=\"3violations\",-7*3,IF(Q134=\"\",\"\"))))","v":""},{"$f":"SUM(L134,N134,P134,R134)","v":0},null,{"$f":"SUM(K134,M134,O134)","v":0},null,null,null,{"$f":"SUM(S134,S136,S135,S137,-AB134)","v":0},null,null,{"$f":"MIN(S134:S137)","v":0}]
["CC-402",null,null,null,null,null,null,null,null,null,null,null,null,null,null,null,null,"",0,null,0]
["CC-403",null,null,null,null,null,null,null,null,null,null,null,null,null,null,null,null,"",0,null,0]
["CC-404",null,null,null,null,null,null,null,null,null,null,null,null,null,null,null,null,"",0,null,0]
[]
["DD-401",null,null,null,null,null,null,null,null,null,null,null,null,null,null,null,null,{"$f":"IF(Q139=\"1violation\",-7*1,IF(Q139=\"2violations\",-7*2,IF(Q139=\"3violations\",-7*3,IF(Q139=\"\",\"\"))))","v":""},{"$f":"SUM(L139,N139,P139,R139)","v":0},null,{"$f":"SUM(K139,M139,O139)","v":0},null,null,null,{"$f":"SUM(S139,S141,S140,S142,-AB139)","v":0},null,null,{"$f":"MIN(S139:S142)","v":0}]
["DD-402",null,null,null,null,null,null,null,null,null,null,null,null,null,null,null,null,"",0,null,0]
["DD-403",null,null,null,null,null,null,null,null,null,null,null,null,null,null,null,null,"",0,null,0]
["DD-404",null,null,null,null,null,null,null,null,null,null,null,null,null,null,null,null,"",0,null,0]
[]
["EE-401",null,null,null,null,null,null,null,null,null,null,null,null,null,null,null,null,{"$f":"IF(Q144=\"1violation\",-7*1,IF(Q144=\"2violations\",-7*2,IF(Q144=\"3violations\",-7*3,IF(Q144=\"\",\"\"))))","v":""},{"$f":"SUM(L144,N144,P144,R144)","v":0},null,{"$f":"SUM(K144,M144,O144)","v":0},null,null,null,{"$f":"SUM(S144,S146,S145,S147,-AB144)","v":0},null,null,{"$f":"MIN(S144:S147)","v":0}]
["EE-402",null,null,null,null,null,null,null,null,null,null,null,null,null,null,null,null,"",0,null,0]
["EE-403",null,null,null,null,null,null,null,null,null,null,null,null,null,null,null,null,"",0,null,0]
["EE-404",null,null,null,null,null,null,null,null,null,null,null,null,null,null,null,null,"",0,null,0]
[]
["FF-401",null,null,null,null,null,null,null,null,null,null,null,null,null,null,null,null,{"$f":"IF(Q149=\"1violation\",-7*1,IF(Q149=\"2violations\",-7*2,IF(Q149=\"3violations\",-7*3,IF(Q149=\"\",\"\"))))","v":""},{"$f":"SUM(L149,N149,P149,R149)","v":0},null,{"$f":"SUM(K149,M149,O149)","v":0},null,null,null,{"$f":"SUM(S149,S151,S150,S152,-AB149)","v":0},null,null,{"$f":"MIN(S149:S152)","v":0}]
["FF-402",null,null,null,null,null,null,null,null,null,null,null,null,null,null,null,null,"",0,null,0]
["FF-403",null,null,null,null,null,null,null,null,null,null,null,null,null,null,null,null,"",0,null,0]
["FF-404",null,null,null,null,null,null,null,null,null,null,null,null,null,null,null,null,"",0,null,0]

{"sheet":"ContemporaryMR","index":8,"n_rows":122,"n_cols":12,"rows_kept":122,"cut":false,"hidden":false,"merged":[]}
[" ",null,null,null,"Finals Medals Round Scores"]
["ID","Rank","Score","LeaveBlank","MR 1 Rank","MR 1 Score","MR2 Rank","MR 2 Score","MR3 Rank","MR 3 Score","Total MR Rank","Total MR Score"]
[{"$f":"Contemporary!A4","v":"A-401"},{"$f":"Contemporary!U4","v":6},{"$f":"Contemporary!S4","v":65},{"$f":"IF((ContemporaryMR!$B3+ContemporaryMR!$C3)>0,1,0)","v":1},null,null,null,null,null,null,{"$f":"SUM(E3,G3,I3)","v":0},0]
[{"$f":"Contemporary!A5","v":"A-402"},{"$f":"Contemporary!U5","v":9},{"$f":"Contemporary!S5","v":60},{"$f":"IF((ContemporaryMR!$B4+ContemporaryMR!$C4)>0,1,0)","v":1},null,null,null,null,null,null,{"$f":"SUM(E4,G4,I4)","v":0},0]
[{"$f":"Contemporary!A6","v":"A-403"},{"$f":"Contemporary!U6","v":10},{"$f":"Contemporary!S6","v":57},{"$f":"IF((ContemporaryMR!$B5+ContemporaryMR!$C5)>0,1,0)","v":1},null,null,null,null,null,null,{"$f":"SUM(E5,G5,I5)","v":0},0]
[{"$f":"Contemporary!A7","v":"A-404"},{"$f":"Contemporary!U7","v":7},{"$f":"Contemporary!S7","v":74},{"$f":"IF((ContemporaryMR!$B6+ContemporaryMR!$C6)>0,1,0)","v":1},null,null,null,null,null,null,{"$f":"SUM(E6,G6,I6)","v":0},0]
[{"$f":"Contemporary!A124","v":"AA-401"},{"$f":"Contemporary!U124","v":0},{"$f":"Contemporary!S124","v":0},{"$f":"IF((ContemporaryMR!$B7+ContemporaryMR!$C7)>0,1,0)","v":0},null,null,null,null,null,null,{"$f":"SUM(E7,G7,I7)","v":0},0]
[{"$f":"Contemporary!A125","v":"AA-402"},{"$f":"Contemporary!U125","v":0},{"$f":"Contemporary!S125","v":0},{"$f":"IF((ContemporaryMR!$B8+ContemporaryMR!$C8)>0,1,0)","v":0},null,null,null,null,null,null,{"$f":"SUM(E8,G8,I8)","v":0},0]
[{"$f":"Contemporary!A126","v":"AA-403"},{"$f":"Contemporary!U126","v":0},{"$f":"Contemporary!S126","v":0},{"$f":"IF((ContemporaryMR!$B9+ContemporaryMR!$C9)>0,1,0)","v":0},null,null,null,null,null,null,{"$f":"SUM(E9,G9,I9)","v":0},0]
[{"$f":"Contemporary!A127","v":"AA-404"},{"$f":"Contemporary!U127","v":0},{"$f":"Contemporary!S127","v":0},{"$f":"IF((ContemporaryMR!$B10+ContemporaryMR!$C10)>0,1,0)","v":0},null,null,null,null,null,null,{"$f":"SUM(E10,G10,I10)","v":0},0]
[{"$f":"Contemporary!A9","v":"B-401"},{"$f":"Contemporary!U9","v":12},{"$f":"Contemporary!S9","v":59},{"$f":"IF((ContemporaryMR!$B11+ContemporaryMR!$C11)>0,1,0)","v":1},null,null,null,null,null,null,{"$f":"SUM(E11,G11,I11)","v":0},0]
[{"$f":"Contemporary!A10","v":"B-402"},{"$f":"Contemporary!U10","v":0},{"$f":"Contemporary!S10","v":0},{"$f":"IF((ContemporaryMR!$B12+ContemporaryMR!$C12)>0,1,0)","v":0},null,null,null,null,null,null,{"$f":"SUM(E12,G12,I12)","v":0},0]
[{"$f":"Contemporary!A11","v":"B-403"},{"$f":"Contemporary!U11","v":0},{"$f":"Contemporary!S11","v":0},{"$f":"IF((ContemporaryMR!$B13+ContemporaryMR!$C13)>0,1,0)","v":0},null,null,null,null,null,null,{"$f":"SUM(E13,G13,I13)","v":0},0]
[{"$f":"Contemporary!A12","v":"B-404"},{"$f":"Contemporary!U12","v":0},{"$f":"Contemporary!S12","v":0},{"$f":"IF((ContemporaryMR!$B14+ContemporaryMR!$C14)>0,1,0)","v":0},null,null,null,null,null,null,{"$f":"SUM(E14,G14,I14)","v":0},0]
[{"$f":"Contemporary!A129","v":"BB-401"},{"$f":"Contemporary!U129","v":0},{"$f":"Contemporary!S129","v":0},{"$f":"IF((ContemporaryMR!$B15+ContemporaryMR!$C15)>0,1,0)","v":0},null,null,null,null,null,null,{"$f":"SUM(E15,G15,I15)","v":0},0]
[{"$f":"Contemporary!A130","v":"BB-402"},{"$f":"Contemporary!U130","v":0},{"$f":"Contemporary!S130","v":0},{"$f":"IF((ContemporaryMR!$B16+ContemporaryMR!$C16)>0,1,0)","v":0},null,null,null,null,null,null,{"$f":"SUM(E16,G16,I16)","v":0},0]
[{"$f":"Contemporary!A131","v":"BB-403"},{"$f":"Contemporary!U131","v":0},{"$f":"Contemporary!S131","v":0},{"$f":"IF((ContemporaryMR!$B17+ContemporaryMR!$C17)>0,1,0)","v":0},null,null,null,null,null,null,{"$f":"SUM(E17,G17,I17)","v":0},0]
[{"$f":"Contemporary!A132","v":"BB-404"},{"$f":"Contemporary!U132","v":0},{"$f":"Contemporary!S132","v":0},{"$f":"IF((ContemporaryMR!$B18+ContemporaryMR!$C18)>0,1,0)","v":0},null,null,null,null,null,null,{"$f":"SUM(E18,G18,I18)","v":0},0]
[{"$f":"Contemporary!A14","v":"C-401"},{"$f":"Contemporary!U14","v":5},{"$f":"Contemporary!S14","v":74},{"$f":"IF((ContemporaryMR!$B19+ContemporaryMR!$C19)>0,1,0)","v":1},2.0,24.0,6.0,24.0,6.0,24.0,{"$f":"SUM(E19,G19,I19)","v":14},72]
[{"$f":"Contemporary!A15","v":"C-402"},{"$f":"Contemporary!U15","v":4},{"$f":"Contemporary!S15","v":73},{"$f":"IF((ContemporaryMR!$B20+ContemporaryMR!$C20)>0,1,0)","v":1},4.0,24.0,1.0,25.0,1.0,25.0,{"$f":"SUM(E20,G20,I20)","v":6},74]
[{"$f":"Contemporary!A16","v":"C-403"},{"$f":"Contemporary!U16","v":4},{"$f":"Contemporary!S16","v":71},{"$f":"IF((ContemporaryMR!$B21+ContemporaryMR!$C21)>0,1,0)","v":1},3.0,24.0,3.0,25.0,3.0,25.0,{"$f":"SUM(E21,G21,I21)","v":9},74]
[{"$f":"Contemporary!A17","v":"C-404"},{"$f":"Contemporary!U17","v":8},{"$f":"Contemporary!S17","v":72},{"$f":"IF((ContemporaryMR!$B22+ContemporaryMR!$C22)>0,1,0)","v":1},null,null,null,null,null,null,{"$f":"SUM(E22,G22,I22)","v":0},0]
[{"$f":"Contemporary!A134","v":"CC-401"},{"$f":"Contemporary!U134","v":0},{"$f":"Contemporary!S134","v":0},{"$f":"IF((ContemporaryMR!$B23+ContemporaryMR!$C23)>0,1,0)","v":0},null,null,null,null,null,null,{"$f":"SUM(E23,G23,I23)","v":0},0]
[{"$f":"Contemporary!A135","v":"CC-402"},{"$f":"Contemporary!U135","v":0},{"$f":"Contemporary!S135","v":0},{"$f":"IF((ContemporaryMR!$B24+ContemporaryMR!$C24)>0,1,0)","v":0},null,null,null,null,null,null,{"$f":"SUM(E24,G24,I24)","v":0},0]
[{"$f":"Contemporary!A136","v":"CC-403"},{"$f":"Contemporary!U136","v":0},{"$f":"Contemporary!S136","v":0},{"$f":"IF((ContemporaryMR!$B25+ContemporaryMR!$C25)>0,1,0)","v":0},null,null,null,null,null,null,{"$f":"SUM(E25,G25,I25)","v":0},0]
[{"$f":"Contemporary!A137","v":"CC-404"},{"$f":"Contemporary!U137","v":0},{"$f":"Contemporary!S137","v":0},{"$f":"IF((ContemporaryMR!$B26+ContemporaryMR!$C26)>0,1,0)","v":0},null,null,null,null,null,null,{"$f":"SUM(E26,G26,I26)","v":0},0]
[{"$f":"Contemporary!A19","v":"D-401"},{"$f":"Contemporary!U19","v":0},{"$f":"Contemporary!S19","v":0},{"$f":"IF((ContemporaryMR!$B27+ContemporaryMR!$C27)>0,1,0)","v":0},null,null,null,null,null,null,{"$f":"SUM(E27,G27,I27)","v":0},0]
[{"$f":"Contemporary!A20","v":"D-402"},{"$f":"Contemporary!U20","v":0},{"$f":"Contemporary!S20","v":0},{"$f":"IF((ContemporaryMR!$B28+ContemporaryMR!$C28)>0,1,0)","v":0},null,null,null,null,null,null,{"$f":"SUM(E28,G28,I28)","v":0},0]
[{"$f":"Contemporary!A21","v":"D-403"},{"$f":"Contemporary!U21","v":0},{"$f":"Contemporary!S21","v":0},{"$f":"IF((ContemporaryMR!$B29+ContemporaryMR!$C29)>0,1,0)","v":0},null,null,null,null,null,null,{"$f":"SUM(E29,G29,I29)","v":0},0]
[{"$f":"Contemporary!A22","v":"D-404"},{"$f":"Contemporary!U22","v":0},{"$f":"Contemporary!S22","v":0},{"$f":"IF((ContemporaryMR!$B30+ContemporaryMR!$C30)>0,1,0)","v":0},null,null,null,null,null,null,{"$f":"SUM(E30,G30,I30)","v":0},0]
[{"$f":"Contemporary!A139","v":"DD-401"},{"$f":"Contemporary!U139","v":0},{"$f":"Contemporary!S139","v":0},{"$f":"IF((ContemporaryMR!$B31+ContemporaryMR!$C31)>0,1,0)","v":0},null,null,null,null,null,null,{"$f":"SUM(E31,G31,I31)","v":0},0]
[{"$f":"Contemporary!A140","v":"DD-402"},{"$f":"Contemporary!U140","v":0},{"$f":"Contemporary!S140","v":0},{"$f":"IF((ContemporaryMR!$B32+ContemporaryMR!$C32)>0,1,0)","v":0},null,null,null,null,null,null,{"$f":"SUM(E32,G32,I32)","v":0},0]
[{"$f":"Contemporary!A141","v":"DD-403"},{"$f":"Contemporary!U141","v":0},{"$f":"Contemporary!S141","v":0},{"$f":"IF((ContemporaryMR!$B33+ContemporaryMR!$C33)>0,1,0)","v":0},null,null,null,null,null,null,{"$f":"SUM(E33,G33,I33)","v":0},0]
[{"$f":"Contemporary!A142","v":"DD-404"},{"$f":"Contemporary!U142","v":0},{"$f":"Contemporary!S142","v":0},{"$f":"IF((ContemporaryMR!$B34+ContemporaryMR!$C34)>0,1,0)","v":0},null,null,null,null,null,null,{"$f":"SUM(E34,G34,I34)","v":0},0]
[{"$f":"Contemporary!A24","v":"E-401"},{"$f":"Contemporary!U24","v":12},{"$f":"Contemporary!S24","v":64},{"$f":"IF((ContemporaryMR!$B35+ContemporaryMR!$C35)>0,1,0)","v":1},null,null,null,null,null,null,{"$f":"SUM(E35,G35,I35)","v":0},0]
[{"$f":"Contemporary!A25","v":"E-402"},{"$f":"Contemporary!U25","v":0},{"$f":"Contemporary!S25","v":0},{"$f":"IF((ContemporaryMR!$B36+ContemporaryMR!$C36)>0,1,0)","v":0},null,null,null,null,null,null,{"$f":"SUM(E36,G36,I36)","v":0},0]
[{"$f":"Contemporary!A26","v":"E-403"},{"$f":"Contemporary!U26","v":0},{"$f":"Contemporary!S26","v":0},{"$f":"IF((ContemporaryMR!$B37+ContemporaryMR!$C37)>0,1,0)","v":0},null,null,null,null,null,null,{"$f":"SUM(E37,G37,I37)","v":0},0]
[{"$f":"Contemporary!A27","v":"E-404"},{"$f":"Contemporary!U27","v":0},{"$f":"Contemporary!S27","v":0},{"$f":"IF((ContemporaryMR!$B38+ContemporaryMR!$C38)>0,1,0)","v":0},null,null,null,null,null,null,{"$f":"SUM(E38,G38,I38)","v":0},0]
[{"$f":"Contemporary!A144","v":"EE-401"},{"$f":"Contemporary!U144","v":0},{"$f":"Contemporary!S144","v":0},{"$f":"IF((ContemporaryMR!$B39+ContemporaryMR!$C39)>0,1,0)","v":0},null,null,null,null,null,null,{"$f":"SUM(E39,G39,I39)","v":0},0]
[{"$f":"Contemporary!A145","v":"EE-402"},{"$f":"Contemporary!U145","v":0},{"$f":"Contemporary!S145","v":0},{"$f":"IF((ContemporaryMR!$B40+ContemporaryMR!$C40)>0,1,0)","v":0},null,null,null,null,null,null,{"$f":"SUM(E40,G40,I40)","v":0},0]
[{"$f":"Contemporary!A146","v":"EE-403"},{"$f":"Contemporary!U146","v":0},{"$f":"Contemporary!S146","v":0},{"$f":"IF((ContemporaryMR!$B41+ContemporaryMR!$C41)>0,1,0)","v":0},null,null,null,null,null,null,{"$f":"SUM(E41,G41,I41)","v":0},0]
[{"$f":"Contemporary!A147","v":"EE-404"},{"$f":"Contemporary!U147","v":0},{"$f":"Contemporary!S147","v":0},{"$f":"IF((ContemporaryMR!$B42+ContemporaryMR!$C42)>0,1,0)","v":0},null,null,null,null,null,null,{"$f":"SUM(E42,G42,I42)","v":0},0]
[{"$f":"Contemporary!A29","v":"F-401"},{"$f":"Contemporary!U29","v":3},{"$f":"Contemporary!S29","v":66},{"$f":"IF((ContemporaryMR!$B43+ContemporaryMR!$C43)>0,1,0)","v":1},1.0,25.0,2.0,25.0,2.0,25.0,{"$f":"SUM(E43,G43,I43)","v":5},75]
[{"$f":"Contemporary!A30","v":"F-402"},{"$f":"Contemporary!U30","v":4},{"$f":"Contemporary!S30","v":75},{"$f":"IF((ContemporaryMR!$B44+ContemporaryMR!$C44)>0,1,0)","v":1},6.0,23.0,4.0,25.0,5.0,25.0,{"$f":"SUM(E44,G44,I44)","v":15},73]
[{"$f":"Contemporary!A31","v":"F-403"},{"$f":"Contemporary!U31","v":8},{"$f":"Contemporary!S31","v":64},{"$f":"IF((ContemporaryMR!$B45+ContemporaryMR!$C45)>0,1,0)","v":1},null,null,null,null,null,null,{"$f":"SUM(E45,G45,I45)","v":0},0]
[{"$f":"Contemporary!A32","v":"F-404"},{"$f":"Contemporary!U32","v":0},{"$f":"Contemporary!S32","v":0},{"$f":"IF((ContemporaryMR!$B46+ContemporaryMR!$C46)>0,1,0)","v":0},null,null,null,null,null,null,{"$f":"SUM(E46,G46,I46)","v":0},0]
[{"$f":"Contemporary!A34","v":"G-401"},{"$f":"Contemporary!U34","v":0},{"$f":"Contemporary!S34","v":0},{"$f":"IF((ContemporaryMR!$B47+ContemporaryMR!$C47)>0,1,0)","v":0},null,null,null,null,null,null,{"$f":"SUM(E47,G47,I47)","v":0},0]
[{"$f":"Contemporary!A35","v":"G-402"},{"$f":"Contemporary!U35","v":0},{"$f":"Contemporary!S35","v":0},{"$f":"IF((ContemporaryMR!$B48+ContemporaryMR!$C48)>0,1,0)","v":0},null,null,null,null,null,null,{"$f":"SUM(E48,G48,I48)","v":0},0]
[{"$f":"Contemporary!A36","v":"G-403"},{"$f":"Contemporary!U36","v":0},{"$f":"Contemporary!S36","v":0},{"$f":"IF((ContemporaryMR!$B49+ContemporaryMR!$C49)>0,1,0)","v":0},null,null,null,null,null,null,{"$f":"SUM(E49,G49,I49)","v":0},0]
[{"$f":"Contemporary!A37","v":"G-404"},{"$f":"Contemporary!U37","v":0},{"$f":"Contemporary!S37","v":0},{"$f":"IF((ContemporaryMR!$B50+ContemporaryMR!$C50)>0,1,0)","v":0},null,null,null,null,null,null,{"$f":"SUM(E50,G50,I50)","v":0},0]
[{"$f":"Contemporary!A39","v":"H-401"},{"$f":"Contemporary!U39","v":7},{"$f":"Contemporary!S39","v":66},{"$f":"IF((ContemporaryMR!$B51+ContemporaryMR!$C51)>0,1,0)","v":1},null,null,null,null,null,null,{"$f":"SUM(E51,G51,I51)","v":0},0]
[{"$f":"Contemporary!A40","v":"H-402"},{"$f":"Contemporary!U40","v":7},{"$f":"Contemporary!S40","v":70},{"$f":"IF((ContemporaryMR!$B52+ContemporaryMR!$C52)>0,1,0)","v":1},null,null,null,null,null,null,{"$f":"SUM(E52,G52,I52)","v":0},0]
[{"$f":"Contemporary!A41","v":"H-403"},{"$f":"Contemporary!U41","v":7},{"$f":"Contemporary!S41","v":68},{"$f":"IF((ContemporaryMR!$B53+ContemporaryMR!$C53)>0,1,0)","v":1},null,null,null,null,null,null,{"$f":"SUM(E53,G53,I53)","v":0},0]
[{"$f":"Contemporary!A42","v":"H-404"},{"$f":"Contemporary!U42","v":0},{"$f":"Contemporary!S42","v":0},{"$f":"IF((ContemporaryMR!$B54+ContemporaryMR!$C54)>0,1,0)","v":0},null,null,null,null,null,null,{"$f":"SUM(E54,G54,I54)","v":0},0]
[{"$f":"Contemporary!A44","v":"J-401"},{"$f":"Contemporary!U44","v":5},{"$f":"Contemporary!S44","v":74},{"$f":"IF((ContemporaryMR!$B55+ContemporaryMR!$C55)>0,1,0)","v":1},5.0,24.0,6.0,25.0,4.0,25.0,{"$f":"SUM(E55,G55,I55)","v":15},74]
[{"$f":"Contemporary!A45","v":"J-402"},{"$f":"Contemporary!U45","v":11},{"$f":"Contemporary!S45","v":64},{"$f":"IF((ContemporaryMR!$B56+ContemporaryMR!$C56)>0,1,0)","v":1},null,null,null,null,null,null,{"$f":"SUM(E56,G56,I56)","v":0},0]
[{"$f":"Contemporary!A46","v":"J-403"},{"$f":"Contemporary!U46","v":0},{"$f":"Contemporary!S46","v":0},{"$f":"IF((ContemporaryMR!$B57+ContemporaryMR!$C57)>0,1,0)","v":0},null,null,null,null,null,null,{"$f":"SUM(E57,G57,I57)","v":0},0]
[{"$f":"Contemporary!A47","v":"J-404"},{"$f":"Contemporary!U47","v":0},{"$f":"Contemporary!S47","v":0},{"$f":"IF((ContemporaryMR!$B58+ContemporaryMR!$C58)>0,1,0)","v":0},null,null,null,null,null,null,{"$f":"SUM(E58,G58,I58)","v":0},0]
[{"$f":"Contemporary!A49","v":"K-401"},{"$f":"Contemporary!U49","v":10},{"$f":"Contemporary!S49","v":64},{"$f":"IF((ContemporaryMR!$B59+ContemporaryMR!$C59)>0,1,0)","v":1},null,null,null,null,null,null,{"$f":"SUM(E59,G59,I59)","v":0},0]
[{"$f":"Contemporary!A50","v":"K-402"},{"$f":"Contemporary!U50","v":8},{"$f":"Contemporary!S50","v":68},{"$f":"IF((ContemporaryMR!$B60+ContemporaryMR!$C60)>0,1,0)","v":1},null,null,null,null,null,null,{"$f":"SUM(E60,G60,I60)","v":0},0]
[{"$f":"Contemporary!A51","v":"K-403"},{"$f":"Contemporary!U51","v":6},{"$f":"Contemporary!S51","v":69},{"$f":"IF((ContemporaryMR!$B61+ContemporaryMR!$C61)>0,1,0)","v":1},null,null,null,null,null,null,{"$f":"SUM(E61,G61,I61)","v":0},0]
[{"$f":"Contemporary!A52","v":"K-404"},{"$f":"Contemporary!U52","v":0},{"$f":"Contemporary!S52","v":0},{"$f":"IF((ContemporaryMR!$B62+ContemporaryMR!$C62)>0,1,0)","v":0},null,null,null,null,null,null,{"$f":"SUM(E62,G62,I62)","v":0},0]
[{"$f":"Contemporary!A54","v":"L-401"},{"$f":"Contemporary!U54","v":9},{"$f":"Contemporary!S54","v":68},{"$f":"IF((ContemporaryMR!$B63+ContemporaryMR!$C63)>0,1,0)","v":1},null,null,null,null,null,null,{"$f":"SUM(E63,G63,I63)","v":0},0]
[{"$f":"Contemporary!A55","v":"L-402"},{"$f":"Contemporary!U55","v":10},{"$f":"Contemporary!S55","v":60},{"$f":"IF((ContemporaryMR!$B64+ContemporaryMR!$C64)>0,1,0)","v":1},null,null,null,null,null,null,{"$f":"SUM(E64,G64,I64)","v":0},0]
[{"$f":"Contemporary!A56","v":"L-403"},{"$f":"Contemporary!U56","v":11},{"$f":"Contemporary!S56","v":64},{"$f":"IF((ContemporaryMR!$B65+ContemporaryMR!$C65)>0,1,0)","v":1},null,null,null,null,null,null,{"$f":"SUM(E65,G65,I65)","v":0},0]
[{"$f":"Contemporary!A57","v":"L-404"},{"$f":"Contemporary!U57","v":7},{"$f":"Contemporary!S57","v":68},{"$f":"IF((ContemporaryMR!$B66+ContemporaryMR!$C66)>0,1,0)","v":1},null,null,null,null,null,null,{"$f":"SUM(E66,G66,I66)","v":0},0]
[{"$f":"Contemporary!A59","v":"M-401"},{"$f":"Contemporary!U59","v":0},{"$f":"Contemporary!S59","v":0},{"$f":"IF((ContemporaryMR!$B67+ContemporaryMR!$C67)>0,1,0)","v":0},null,null,null,null,null,null,{"$f":"SUM(E67,G67,I67)","v":0},0]
[{"$f":"Contemporary!A60","v":"M-402"},{"$f":"Contemporary!U60","v":0},{"$f":"Contemporary!S60","v":0},{"$f":"IF((ContemporaryMR!$B68+ContemporaryMR!$C68)>0,1,0)","v":0},null,null,null,null,null,null,{"$f":"SUM(E68,G68,I68)","v":0},0]
[{"$f":"Contemporary!A61","v":"M-403"},{"$f":"Contemporary!U61","v":0},{"$f":"Contemporary!S61","v":0},{"$f":"IF((ContemporaryMR!$B69+ContemporaryMR!$C69)>0,1,0)","v":0},null,null,null,null,null,null,{"$f":"SUM(E69,G69,I69)","v":0},0]
[{"$f":"Contemporary!A62","v":"M-404"},{"$f":"Contemporary!U62","v":0},{"$f":"Contemporary!S62","v":0},{"$f":"IF((ContemporaryMR!$B70+ContemporaryMR!$C70)>0,1,0)","v":0},null,null,null,null,null,null,{"$f":"SUM(E70,G70,I70)","v":0},0]
[{"$f":"Contemporary!A64","v":"N-401"},{"$f":"Contemporary!U64","v":11},{"$f":"Contemporary!S64","v":68},{"$f":"IF((ContemporaryMR!$B71+ContemporaryMR!$C71)>0,1,0)","v":1},null,null,null,null,null,null,{"$f":"SUM(E71,G71,I71)","v":0},0]
[{"$f":"Contemporary!A65","v":"N-402"},{"$f":"Contemporary!U65","v":0},{"$f":"Contemporary!S65","v":0},{"$f":"IF((ContemporaryMR!$B72+ContemporaryMR!$C72)>0,1,0)","v":0},null,null,null,null,null,null,{"$f":"SUM(E72,G72,I72)","v":0},0]
[{"$f":"Contemporary!A66","v":"N-403"},{"$f":"Contemporary!U66","v":9},{"$f":"Contemporary!S66","v":62},{"$f":"IF((ContemporaryMR!$B73+ContemporaryMR!$C73)>0,1,0)","v":1},null,null,null,null,null,null,{"$f":"SUM(E73,G73,I73)","v":0},0]
[{"$f":"Contemporary!A67","v":"N-404"},{"$f":"Contemporary!U67","v":0},{"$f":"Contemporary!S67","v":0},{"$f":"IF((ContemporaryMR!$B74+ContemporaryMR!$C74)>0,1,0)","v":0},null,null,null,null,null,null,{"$f":"SUM(E74,G74,I74)","v":0},0]
[{"$f":"Contemporary!A69","v":"P-401"},{"$f":"Contemporary!U69","v":4},{"$f":"Contemporary!S69","v":73},{"$f":"IF((ContemporaryMR!$B75+ContemporaryMR!$C75)>0,1,0)","v":1},6.0,22.0,5.0,25.0,6.0,24.0,{"$f":"SUM(E75,G75,I75)","v":17},71]
[{"$f":"Contemporary!A70","v":"P-402"},{"$f":"Contemporary!U70","v":7},{"$f":"Contemporary!S70","v":74},{"$f":"IF((ContemporaryMR!$B76+ContemporaryMR!$C76)>0,1,0)","v":1},null,null,null,null,null,null,{"$f":"SUM(E76,G76,I76)","v":0},0]
[{"$f":"Contemporary!A71","v":"P-403"},{"$f":"Contemporary!U71","v":8},{"$f":"Contemporary!S71","v":60},{"$f":"IF((ContemporaryMR!$B77+ContemporaryMR!$C77)>0,1,0)","v":1},null,null,null,null,null,null,{"$f":"SUM(E77,G77,I77)","v":0},0]
[{"$f":"Contemporary!A72","v":"P-404"},{"$f":"Contemporary!U72","v":11},{"$f":"Contemporary!S72","v":66},{"$f":"IF((ContemporaryMR!$B78+ContemporaryMR!$C78)>0,1,0)","v":1},null,null,null,null,null,null,{"$f":"SUM(E78,G78,I78)","v":0},0]
[{"$f":"Contemporary!A74","v":"Q-401"},{"$f":"Contemporary!U74","v":0},{"$f":"Contemporary!S74","v":0},{"$f":"IF((ContemporaryMR!$B79+ContemporaryMR!$C79)>0,1,0)","v":0},null,null,null,null,null,null,{"$f":"SUM(E79,G79,I79)","v":0},0]
[{"$f":"Contemporary!A75","v":"Q-402"},{"$f":"Contemporary!U75","v":0},{"$f":"Contemporary!S75","v":0},{"$f":"IF((ContemporaryMR!$B80+ContemporaryMR!$C80)>0,1,0)","v":0},null,null,null,null,null,null,{"$f":"SUM(E80,G80,I80)","v":0},0]
[{"$f":"Contemporary!A76","v":"Q-403"},{"$f":"Contemporary!U76","v":0},{"$f":"Contemporary!S76","v":0},{"$f":"IF((ContemporaryMR!$B81+ContemporaryMR!$C81)>0,1,0)","v":0},null,null,null,null,null,null,{"$f":"SUM(E81,G81,I81)","v":0},0]
[{"$f":"Contemporary!A77","v":"Q-404"},{"$f":"Contemporary!U77","v":0},{"$f":"Contemporary!S77","v":0},{"$f":"IF((ContemporaryMR!$B82+ContemporaryMR!$C82)>0,1,0)","v":0},null,null,null,null,null,null,{"$f":"SUM(E82,G82,I82)","v":0},0]
[{"$f":"Contemporary!A79","v":"R-401"},{"$f":"Contemporary!U79","v":11},{"$f":"Contemporary!S79","v":62},{"$f":"IF((ContemporaryMR!$B83+ContemporaryMR!$C83)>0,1,0)","v":1},null,null,null,null,null,null,{"$f":"SUM(E83,G83,I83)","v":0},0]
[{"$f":"Contemporary!A80","v":"R-402"},{"$f":"Contemporary!U80","v":7},{"$f":"Contemporary!S80","v":56},{"$f":"IF((ContemporaryMR!$B84+ContemporaryMR!$C84)>0,1,0)","v":1},null,null,null,null,null,null,{"$f":"SUM(E84,G84,I84)","v":0},0]
[{"$f":"Contemporary!A81","v":"R-403"},{"$f":"Contemporary!U81","v":10},{"$f":"Contemporary!S81","v":66},{"$f":"IF((ContemporaryMR!$B85+ContemporaryMR!$C85)>0,1,0)","v":1},null,null,null,null,null,null,{"$f":"SUM(E85,G85,I85)","v":0},0]
[{"$f":"Contemporary!A82","v":"R-404"},{"$f":"Contemporary!U82","v":0},{"$f":"Contemporary!S82","v":0},{"$f":"IF((ContemporaryMR!$B86+ContemporaryMR!$C86)>0,1,0)","v":0},null,null,null,null,null,null,{"$f":"SUM(E86,G86,I86)","v":0},0]
[{"$f":"Contemporary!A84","v":"S-401"},{"$f":"Contemporary!U84","v":11},{"$f":"Contemporary!S84","v":65},{"$f":"IF((ContemporaryMR!$B87+ContemporaryMR!$C87)>0,1,0)","v":1},null,null,null,null,null,null,{"$f":"SUM(E87,G87,I87)","v":0},0]
[{"$f":"Contemporary!A85","v":"S-402"},{"$f":"Contemporary!U85","v":9},{"$f":"Contemporary!S85","v":69},{"$f":"IF((ContemporaryMR!$B88+ContemporaryMR!$C88)>0,1,0)","v":1},null,null,null,null,null,null,{"$f":"SUM(E88,G88,I88)","v":0},0]
[{"$f":"Contemporary!A86","v":"S-403"},{"$f":"Contemporary!U86","v":0},{"$f":"Contemporary!S86","v":0},{"$f":"IF((ContemporaryMR!$B89+ContemporaryMR!$C89)>0,1,0)","v":0},null,null,null,null,null,null,{"$f":"SUM(E89,G89,I89)","v":0},0]
[{"$f":"Contemporary!A87","v":"S-404"},{"$f":"Contemporary!U87","v":0},{"$f":"Contemporary!S87","v":0},{"$f":"IF((ContemporaryMR!$B90+ContemporaryMR!$C90)>0,1,0)","v":0},null,null,null,null,null,null,{"$f":"SUM(E90,G90,I90)","v":0},0]
[{"$f":"Contemporary!A89","v":"T-401"},{"$f":"Contemporary!U89","v":0},{"$f":"Contemporary!S89","v":0},{"$f":"IF((ContemporaryMR!$B91+ContemporaryMR!$C91)>0,1,0)","v":0},null,null,null,null,null,null,{"$f":"SUM(E91,G91,I91)","v":0},0]
[{"$f":"Contemporary!A90","v":"T-402"},{"$f":"Contemporary!U90","v":0},{"$f":"Contemporary!S90","v":0},{"$f":"IF((ContemporaryMR!$B92+ContemporaryMR!$C92)>0,1,0)","v":0},null,null,null,null,null,null,{"$f":"SUM(E92,G92,I92)","v":0},0]
[{"$f":"Contemporary!A91","v":"T-403"},{"$f":"Contemporary!U91","v":0},{"$f":"Contemporary!S91","v":0},{"$f":"IF((ContemporaryMR!$B93+ContemporaryMR!$C93)>0,1,0)","v":0},null,null,null,null,null,null,{"$f":"SUM(E93,G93,I93)","v":0},0]
[{"$f":"Contemporary!A92","v":"T-404"},{"$f":"Contemporary!U92","v":0},{"$f":"Contemporary!S92","v":0},{"$f":"IF((ContemporaryMR!$B94+ContemporaryMR!$C94)>0,1,0)","v":0},null,null,null,null,null,null,{"$f":"SUM(E94,G94,I94)","v":0},0]
[{"$f":"Contemporary!A94","v":"U-401"},{"$f":"Contemporary!U94","v":0},{"$f":"Contemporary!S94","v":0},{"$f":"IF((ContemporaryMR!$B95+ContemporaryMR!$C95)>0,1,0)","v":0},null,null,null,null,null,null,{"$f":"SUM(E95,G95,I95)","v":0},0]
[{"$f":"Contemporary!A95","v":"U-402"},{"$f":"Contemporary!U95","v":0},{"$f":"Contemporary!S95","v":0},{"$f":"IF((ContemporaryMR!$B96+ContemporaryMR!$C96)>0,1,0)","v":0},null,null,null,null,null,null,{"$f":"SUM(E96,G96,I96)","v":0},0]
[{"$f":"Contemporary!A96","v":"U-403"},{"$f":"Contemporary!U96","v":0},{"$f":"Contemporary!S96","v":0},{"$f":"IF((ContemporaryMR!$B97+ContemporaryMR!$C97)>0,1,0)","v":0},null,null,null,null,null,null,{"$f":"SUM(E97,G97,I97)","v":0},0]
[{"$f":"Contemporary!A97","v":"U-404"},{"$f":"Contemporary!U97","v":0},{"$f":"Contemporary!S97","v":0},{"$f":"IF((ContemporaryMR!$B98+ContemporaryMR!$C98)>0,1,0)","v":0},null,null,null,null,null,null,{"$f":"SUM(E98,G98,I98)","v":0},0]
[{"$f":"Contemporary!A99","v":"V-401"},{"$f":"Contemporary!U99","v":0},{"$f":"Contemporary!S99","v":0},{"$f":"IF((ContemporaryMR!$B99+ContemporaryMR!$C99)>0,1,0)","v":0},null,null,null,null,null,null,{"$f":"SUM(E99,G99,I99)","v":0},0]
[{"$f":"Contemporary!A100","v":"V-402"},{"$f":"Contemporary!U100","v":0},{"$f":"Contemporary!S100","v":0},{"$f":"IF((ContemporaryMR!$B100+ContemporaryMR!$C100)>0,1,0)","v":0},null,null,null,null,null,null,{"$f":"SUM(E100,G100,I100)","v":0},0]
[{"$f":"Contemporary!A101","v":"V-403"},{"$f":"Contemporary!U101","v":0},{"$f":"Contemporary!S101","v":0},{"$f":"IF((ContemporaryMR!$B101+ContemporaryMR!$C101)>0,1,0)","v":0},null,null,null,null,null,null,{"$f":"SUM(E101,G101,I101)","v":0},0]
[{"$f":"Contemporary!A102","v":"V-404"},{"$f":"Contemporary!U102","v":0},{"$f":"Contemporary!S102","v":0},{"$f":"IF((ContemporaryMR!$B102+ContemporaryMR!$C102)>0,1,0)","v":0},null,null,null,null,null,null,{"$f":"SUM(E102,G102,I102)","v":0},0]
[{"$f":"Contemporary!A104","v":"W-401"},{"$f":"Contemporary!U104","v":0},{"$f":"Contemporary!S104","v":0},{"$f":"IF((ContemporaryMR!$B103+ContemporaryMR!$C103)>0,1,0)","v":0},null,null,null,null,null,null,{"$f":"SUM(E103,G103,I103)","v":0},0]
[{"$f":"Contemporary!A105","v":"W-402"},{"$f":"Contemporary!U105","v":0},{"$f":"Contemporary!S105","v":0},{"$f":"IF((ContemporaryMR!$B104+ContemporaryMR!$C104)>0,1,0)","v":0},null,null,null,null,null,null,{"$f":"SUM(E104,G104,I104)","v":0},0]
[{"$f":"Contemporary!A106","v":"W-403"},{"$f":"Contemporary!U106","v":0},{"$f":"Contemporary!S106","v":0},{"$f":"IF((ContemporaryMR!$B105+ContemporaryMR!$C105)>0,1,0)","v":0},null,null,null,null,null,null,{"$f":"SUM(E105,G105,I105)","v":0},0]
[{"$f":"Contemporary!A107","v":"W-404"},{"$f":"Contemporary!U107","v":0},{"$f":"Contemporary!S107","v":0},{"$f":"IF((ContemporaryMR!$B106+ContemporaryMR!$C106)>0,1,0)","v":0},null,null,null,null,null,null,{"$f":"SUM(E106,G106,I106)","v":0},0]
[{"$f":"Contemporary!A109","v":"X-401"},{"$f":"Contemporary!U109","v":0},{"$f":"Contemporary!S109","v":0},{"$f":"IF((ContemporaryMR!$B107+ContemporaryMR!$C107)>0,1,0)","v":0},null,null,null,null,null,null,{"$f":"SUM(E107,G107,I107)","v":0},0]
[{"$f":"Contemporary!A110","v":"X-402"},{"$f":"Contemporary!U110","v":0},{"$f":"Contemporary!S110","v":0},{"$f":"IF((ContemporaryMR!$B108+ContemporaryMR!$C108)>0,1,0)","v":0},null,null,null,null,null,null,{"$f":"SUM(E108,G108,I108)","v":0},0]
[{"$f":"Contemporary!A111","v":"X-403"},{"$f":"Contemporary!U111","v":0},{"$f":"Contemporary!S111","v":0},{"$f":"IF((ContemporaryMR!$B109+ContemporaryMR!$C109)>0,1,0)","v":0},null,null,null,null,null,null,{"$f":"SUM(E109,G109,I109)","v":0},0]
[{"$f":"Contemporary!A112","v":"X-404"},{"$f":"Contemporary!U112","v":0},{"$f":"Contemporary!S112","v":0},{"$f":"IF((ContemporaryMR!$B110+ContemporaryMR!$C110)>0,1,0)","v":0},null,null,null,null,null,null,{"$f":"SUM(E110,G110,I110)","v":0},0]
[{"$f":"Contemporary!A114","v":"Y-401"},{"$f":"Contemporary!U114","v":0},{"$f":"Contemporary!S114","v":0},{"$f":"IF((ContemporaryMR!$B111+ContemporaryMR!$C111)>0,1,0)","v":0},null,null,null,null,null,null,{"$f":"SUM(E111,G111,I111)","v":0},0]
[{"$f":"Contemporary!A115","v":"Y-402"},{"$f":"Contemporary!U115","v":0},{"$f":"Contemporary!S115","v":0},{"$f":"IF((ContemporaryMR!$B112+ContemporaryMR!$C112)>0,1,0)","v":0},null,null,null,null,null,null,{"$f":"SUM(E112,G112,I112)","v":0},0]
[{"$f":"Contemporary!A116","v":"Y-403"},{"$f":"Contemporary!U116","v":0},{"$f":"Contemporary!S116","v":0},{"$f":"IF((ContemporaryMR!$B113+ContemporaryMR!$C113)>0,1,0)","v":0},null,null,null,null,null,null,{"$f":"SUM(E113,G113,I113)","v":0},0]
[{"$f":"Contemporary!A117","v":"Y-404"},{"$f":"Contemporary!U117","v":0},{"$f":"Contemporary!S117","v":0},{"$f":"IF((ContemporaryMR!$B114+ContemporaryMR!$C114)>0,1,0)","v":0},null,null,null,null,null,null,{"$f":"SUM(E114,G114,I114)","v":0},0]
[{"$f":"Contemporary!A119","v":"Z-401"},{"$f":"Contemporary!U119","v":0},{"$f":"Contemporary!S119","v":0},{"$f":"IF((ContemporaryMR!$B115+ContemporaryMR!$C115)>0,1,0)","v":0},null,null,null,null,null,null,{"$f":"SUM(E115,G115,I115)","v":0},0]
[{"$f":"Contemporary!A120","v":"Z-402"},{"$f":"Contemporary!U120","v":0},{"$f":"Contemporary!S120","v":0},{"$f":"IF((ContemporaryMR!$B116+ContemporaryMR!$C116)>0,1,0)","v":0},null,null,null,null,null,null,{"$f":"SUM(E116,G116,I116)","v":0},0]
[{"$f":"Contemporary!A121","v":"Z-403"},{"$f":"Contemporary!U121","v":0},{"$f":"Contemporary!S121","v":0},{"$f":"IF((ContemporaryMR!$B117+ContemporaryMR!$C117)>0,1,0)","v":0},null,null,null,null,null,null,{"$f":"SUM(E117,G117,I117)","v":0},0]
[{"$f":"Contemporary!A122","v":"Z-404"},{"$f":"Contemporary!U122","v":0},{"$f":"Contemporary!S122","v":0},{"$f":"IF((ContemporaryMR!$B118+ContemporaryMR!$C118)>0,1,0)","v":0},null,null,null,null,null,null,{"$f":"SUM(E118,G118,I118)","v":0},0]
[{"$f":"Contemporary!A149","v":"FF-401"},{"$f":"Contemporary!U149","v":0},{"$f":"Contemporary!S149","v":0},{"$f":"IF((ContemporaryMR!$B119+ContemporaryMR!$C119)>0,1,0)","v":0},null,null,null,null,null,null,{"$f":"SUM(E119,G119,I119)","v":0},0]
[{"$f":"Contemporary!A150","v":"FF-402"},{"$f":"Contemporary!U150","v":0},{"$f":"Contemporary!S150","v":0},{"$f":"IF((ContemporaryMR!$B120+ContemporaryMR!$C120)>0,1,0)","v":0},null,null,null,null,null,null,{"$f":"SUM(E120,G120,I120)","v":0},0]
[{"$f":"Contemporary!A151","v":"FF-403"},{"$f":"Contemporary!U151","v":0},{"$f":"Contemporary!S151","v":0},{"$f":"IF((ContemporaryMR!$B121+ContemporaryMR!$C121)>0,1,0)","v":0},null,null,null,null,null,null,{"$f":"SUM(E121,G121,I121)","v":0},0]
[{"$f":"Contemporary!A152","v":"FF-404"},{"$f":"Contemporary!U152","v":0},{"$f":"Contemporary!S152","v":0},{"$f":"IF((ContemporaryMR!$B122+ContemporaryMR!$C122)>0,1,0)","v":0},null,null,null,null,null,null,{"$f":"SUM(E122,G122,I122)","v":0},0]

{"sheet":"Pantomime","index":9,"n_rows":152,"n_cols":31,"rows_kept":152,"cut":false,"hidden":false,"merged":[]}
["Pantomimes",null,null,null,null,null,null,null,null,null,"Rank 1-4",null,null,null,null,null,null,null,null,null,null,null,null,"S","E","G","F",null,"1violation","2violations","3violations"]
[null,null,null,null,null,null,null,null,null,null,"Round 1:",null,"Round 2:",null,"Round 3:",null,"-2 for each",null,null,null,null,null,null,null,null,null,null,"Drops lowest from column q"]
[null,null,null,null,null,"Student Name",null,"Student Name",null,"Title of Piece","R1 rank","R1 score","R2 rank","R2 score","R3 rank","R3 score","Time Violations",null,"TOTAL SCORE",null,"TOTAL RANK",null,null,"TOTAL SCHOOL SWEEPS POINTS",null,null,null,"Drop Lowest"]
["A-501",null,null,null,null,null,"Adamson",null,"Everitt","Cinderella's Revenge",3.0,25.0,1.0,25.0,1.0,24.0,null,{"$f":"IF(Q4=\"1violation\",-7*1,IF(Q4=\"2violations\",-7*2,IF(Q4=\"3violations\",-7*3,IF(Q4=\"\",\"\"))))","v":""},{"$f":"SUM(L4,N4,P4,R4)","v":74},null,{"$f":"SUM(K4,M4,O4)","v":5},null,null,null,{"$f":"SUM(S4,S6,S5,S7,-AB4)","v":222},null,null,{"$f":"MIN(S4:S7)","v":72}]
["A-502",null,null,null,null,null,"Dettinger",null,"Everitt","Real vs Dream ",1.0,25.0,1.0,24.0,1.0,24.0,null,"",73,null,3]
["A-503",null,null,null,null,null,"Egg",null,"Hansen","Elevator Birth",2.0,24.0,4.0,23.0,1.0,25.0,null,"",72,null,7]
["A-504",null,null,null,null,null,"Olsen",null,"Steinfeldt","Nazi and the Jew",1.0,25.0,2.0,25.0,1.0,25.0,null,"",75,null,4]
[]
["B-501",null,null,null,null,null,null,null,null,null,null,null,null,null,null,null,null,{"$f":"IF(Q9=\"1violation\",-7*1,IF(Q9=\"2violations\",-7*2,IF(Q9=\"3violations\",-7*3,IF(Q9=\"\",\"\"))))","v":""},{"$f":"SUM(L9,N9,P9,R9)","v":0},null,{"$f":"SUM(K9,M9,O9)","v":0},null,null,null,{"$f":"SUM(S9,S11,S10,S12,-AB9)","v":0},null,null,{"$f":"MIN(S9:S12)","v":0}]
["B-502",null,null,null,null,null,null,null,null,null,null,null,null,null,null,null,null,"",0,null,0]
["B-503",null,null,null,null,null,null,null,null,null,null,null,null,null,null,null,null,"",0,null,0]
["B-504",null,null,null,null,null,null,null,null,null,null,null,null,null,null,null,null,"",0,null,0]
[]
["C-501",null,null,null,null,null,"Mieure",null,"Rasmussen","Home not alone",2.0,22.0,4.0,21.0,3.0,22.0,null,{"$f":"IF(Q14=\"1violation\",-7*1,IF(Q14=\"2violations\",-7*2,IF(Q14=\"3violations\",-7*3,IF(Q14=\"\",\"\"))))","v":""},{"$f":"SUM(L14,N14,P14,R14)","v":65},null,{"$f":"SUM(K14,M14,O14)","v":9},null,null,null,{"$f":"SUM(S14,S16,S15,S17,-AB14)","v":219},null,null,{"$f":"MIN(S14:S17)","v":65}]
["C-502",null,null,null,null,null,"Womack",null,"Schmitt","Portal Jumpers",2.0,23.0,1.0,25.0,1.0,24.0,null,"",72,null,4]
["C-503",null,null,null,null,null,"Hawkins",null,"Hawkins","A second Chance",1.0,24.0,1.0,25.0,3.0,24.0,null,"",73,null,5]
["C-504",null,null,null,null,null,"Matthews",null,"Tomlinson","Curse you Red Baron",1.0,25.0,1.0,25.0,3.0,24.0,null,"",74,null,5]
[]
["D-501",null,null,null,null,null,null,null,null,null,null,null,null,null,null,null,null,{"$f":"IF(Q19=\"1violation\",-7*1,IF(Q19=\"2violations\",-7*2,IF(Q19=\"3violations\",-7*3,IF(Q19=\"\",\"\"))))","v":""},{"$f":"SUM(L19,N19,P19,R19)","v":0},null,{"$f":"SUM(K19,M19,O19)","v":0},null,null,null,{"$f":"SUM(S19,S21,S20,S22,-AB19)","v":0},null,null,{"$f":"MIN(S19:S22)","v":0}]
["D-502",null,null,null,null,null,null,null,null,null,null,null,null,null,null,null,null,"",0,null,0]
["D-503",null,null,null,null,null,null,null,null,null,null,null,null,null,null,null,null,"",0,null,0]
["D-504",null,null,null,null,null,null,null,null,null,null,null,null,null,null,null,null,"",0,null,0]
[]
["E-501",null,null,null,null,null,"Fryer",null,"Shidel","Bimbos at the beach",3.0,20.0,3.0,21.0,2.0,24.0,null,{"$f":"IF(Q24=\"1violation\",-7*1,IF(Q24=\"2violations\",-7*2,IF(Q24=\"3violations\",-7*3,IF(Q24=\"\",\"\"))))","v":""},{"$f":"SUM(L24,N24,P24,R24)","v":65},null,{"$f":"SUM(K24,M24,O24)","v":8},null,null,null,{"$f":"SUM(S24,S26,S25,S27,-AB24)","v":200},null,null,{"$f":"MIN(S24:S27)","v":54}]
["E-502",null,null,null,null,null,"Ferez",null,"Lester","Fishing Bros",4.0,22.0,4.0,22.0,3.0,22.0,null,"",66,null,11]
["E-503",null,null,null,null,null,"Leary",null,"Sheeran","Jump rope",4.0,24.0,4.0,16.0,4.0,14.0,null,"",54,null,12]
["E-504",null,null,null,null,null,"Monzalvo",null,"Lester","Prank Gone Wrong",2.0,25.0,3.0,22.0,4.0,22.0,null,"",69,null,9]
[]
["F-501",null,null,null,null,"Katelyn","Murray",null,null,"Painted Circus",1.0,23.0,2.0,20.0,1.0,25.0,null,{"$f":"IF(Q29=\"1violation\",-7*1,IF(Q29=\"2violations\",-7*2,IF(Q29=\"3violations\",-7*3,IF(Q29=\"\",\"\"))))","v":""},{"$f":"SUM(L29,N29,P29,R29)","v":68},null,{"$f":"SUM(K29,M29,O29)","v":4},null,null,null,{"$f":"SUM(S29,S31,S30,S32,-AB29)","v":197},null,null,{"$f":"MIN(S29:S32)","v":59}]
["F-502",null,null,null,null,null,"Carter",null,"Murphy","Petals",1.0,23.0,4.0,22.0,4.0,21.0,null,"",66,null,9]
["F-503",null,null,null,null,null,"Coombs",null,"VanHorn","Reflection Defection",4.0,17.0,3.0,24.0,3.0,18.0,null,"",59,null,10]
["F-504",null,null,null,null,null,"VanHorn",null,"Zufelt","Drum vs Guitar ",4.0,22.0,4.0,20.0,4.0,21.0,null,"",63,null,12]
[]
["G-501",null,null,null,null,null,null,null,null,null,null,null,null,null,null,null,null,{"$f":"IF(Q34=\"1violation\",-7*1,IF(Q34=\"2violations\",-7*2,IF(Q34=\"3violations\",-7*3,IF(Q34=\"\",\"\"))))","v":""},{"$f":"SUM(L34,N34,P34,R34)","v":0},null,{"$f":"SUM(K34,M34,O34)","v":0},null,null,null,{"$f":"SUM(S34,S36,S35,S37,-AB34)","v":0},null,null,{"$f":"MIN(S34:S37)","v":0}]
["G-502",null,null,null,null,null,null,null,null,null,null,null,null,null,null,null,null,"",0,null,0]
["G-503",null,null,null,null,null,null,null,null,null,null,null,null,null,null,null,null,"",0,null,0]
["G-504",null,null,null,null,null,null,null,null,null,null,null,null,null,null,null,null,"",0,null,0]
[]
["H-501",null,null,null,null,null,"Grimshaw",null,"Haley","Bank Robbery",4.0,24.0,3.0,23.0,2.0,24.0,null,{"$f":"IF(Q39=\"1violation\",-7*1,IF(Q39=\"2violations\",-7*2,IF(Q39=\"3violations\",-7*3,IF(Q39=\"\",\"\"))))","v":""},{"$f":"SUM(L39,N39,P39,R39)","v":71},null,{"$f":"SUM(K39,M39,O39)","v":9},null,null,null,{"$f":"SUM(S39,S41,S40,S42,-AB39)","v":203},null,null,{"$f":"MIN(S39:S42)","v":0}]
["H-502",null,null,null,null,null,"Cooper",null,"Hollis","Dangerous Luggage",4.0,25.0,3.0,18.0,2.0,24.0,null,"",67,null,9]
["H-503",null,null,null,null,null,"Porter",null,"Whittaker","Sneacking to Christmas",3.0,22.0,3.0,21.0,4.0,22.0,null,"",65,null,10]
["H-504",null,null,null,null,null,null,null,null,null,null,null,null,null,null,null,null,"",0,null,0]
[]
["J-501",null,null,null,null,null,null,null,null,null,null,null,null,null,null,null,null,{"$f":"IF(Q44=\"1violation\",-7*1,IF(Q44=\"2violations\",-7*2,IF(Q44=\"3violations\",-7*3,IF(Q44=\"\",\"\"))))","v":""},{"$f":"SUM(L44,N44,P44,R44)","v":0},null,{"$f":"SUM(K44,M44,O44)","v":0},null,null,null,{"$f":"SUM(S44,S46,S45,S47,-AB44)","v":0},null,null,{"$f":"MIN(S44:S47)","v":0}]
["J-502",null,null,null,null,null,null,null,null,null,null,null,null,null,null,null,null,"",0,null,0]
["J-503",null,null,null,null,null,null,null,null,null,null,null,null,null,null,null,null,"",0,null,0]
["J-504",null,null,null,null,null,null,null,null,null,null,null,null,null,null,null,null,"",0,null,0]
[]
["K-501",null,null,null,null,"Wu","Xuanyu",null,null,"The Rose",4.0,24.0,4.0,20.0,4.0,21.0,null,{"$f":"IF(Q49=\"1violation\",-7*1,IF(Q49=\"2violations\",-7*2,IF(Q49=\"3violations\",-7*3,IF(Q49=\"\",\"\"))))","v":""},{"$f":"SUM(L49,N49,P49,R49)","v":65},null,{"$f":"SUM(K49,M49,O49)","v":12},null,null,null,{"$f":"SUM(S49,S51,S50,S52,-AB49)","v":65},null,null,{"$f":"MIN(S49:S52)","v":0}]
["K-502",null,null,null,null,null,null,null,null,null,null,null,null,null,null,null,null,"",0,null,0]
["K-503",null,null,null,null,null,null,null,null,null,null,null,null,null,null,null,null,"",0,null,0]
["K-504",null,null,null,null,null,null,null,null,null,null,null,null,null,null,null,null,"",0,null,0]
[]
["L-501",null,null,null,null,null,"Alvarado",null,"Twedell","Dancing Trough Garden",4.0,23.0,4.0,17.0,4.0,24.0,null,{"$f":"IF(Q54=\"1violation\",-7*1,IF(Q54=\"2violations\",-7*2,IF(Q54=\"3violations\",-7*3,IF(Q54=\"\",\"\"))))","v":""},{"$f":"SUM(L54,N54,P54,R54)","v":64},null,{"$f":"SUM(K54,M54,O54)","v":12},null,null,null,{"$f":"SUM(S54,S56,S55,S57,-AB54)","v":130},null,null,{"$f":"MIN(S54:S57)","v":0}]
["L-502",null,null,null,null,null,"Criddle",null,"Criddle","Haunted",null,null,null,null,null,null,null,"",0,null,0]
["L-503",null,null,null,null,"Taylorann","Dalpiaz",null,null,"Moments in Time",2.0,21.0,1.0,25.0,4.0,20.0,null,"",66,null,7]
["L-504",null,null,null,null,null,null,null,null,null,null,null,null,null,null,null,null,"",0,null,0]
[]
["M-501",null,null,null,null,"Elizabeth","Carroll",null,null,"Flatline",3.0,20.0,2.0,25.0,2.0,24.0,null,{"$f":"IF(Q59=\"1violation\",-7*1,IF(Q59=\"2violations\",-7*2,IF(Q59=\"3violations\",-7*3,IF(Q59=\"\",\"\"))))","v":""},{"$f":"SUM(L59,N59,P59,R59)","v":69},null,{"$f":"SUM(K59,M59,O59)","v":7},null,null,null,{"$f":"SUM(S59,S61,S60,S62,-AB59)","v":138},null,null,{"$f":"MIN(S59:S62)","v":0}]
["M-502",null,null,null,null,null,"Simmons",null,"West","Car crash",2.0,25.0,2.0,22.0,3.0,22.0,null,"",69,null,7]
["M-503",null,null,null,null,null,null,null,null,null,null,null,null,null,null,null,null,"",0,null,0]
["M-504",null,null,null,null,null,null,null,null,null,null,null,null,null,null,null,null,"",0,null,0]
[]
["N-501",null,null,null,null,"Sam","McRenoylds",null,null,"LUmberjack vs Bird",3.0,24.0,4.0,18.0,4.0,19.0,null,{"$f":"IF(Q64=\"1violation\",-7*1,IF(Q64=\"2violations\",-7*2,IF(Q64=\"3violations\",-7*3,IF(Q64=\"\",\"\"))))","v":""},{"$f":"SUM(L64,N64,P64,R64)","v":61},null,{"$f":"SUM(K64,M64,O64)","v":11},null,null,null,{"$f":"SUM(S64,S66,S65,S67,-AB64)","v":61},null,null,{"$f":"MIN(S64:S67)","v":0}]
["N-502",null,null,null,null,null,null,null,null,null,null,null,null,null,null,null,null,"",0,null,0]
["N-503",null,null,null,null,null,null,null,null,null,null,null,null,null,null,null,null,"",0,null,0]
["N-504",null,null,null,null,null,null,null,null,null,null,null,null,null,null,null,null,"",0,null,0]
[]
["P-501",null,null,null,null,"Janessa","Dyches",null,null,"Dear Mother",3.0,25.0,2.0,25.0,2.0,25.0,null,{"$f":"IF(Q69=\"1violation\",-7*1,IF(Q69=\"2violations\",-7*2,IF(Q69=\"3violations\",-7*3,IF(Q69=\"\",\"\"))))","v":""},{"$f":"SUM(L69,N69,P69,R69)","v":75},null,{"$f":"SUM(K69,M69,O69)","v":7},null,null,null,{"$f":"SUM(S69,S71,S70,S72,-AB69)","v":222},null,null,{"$f":"MIN(S69:S72)","v":0}]
["P-502",null,null,null,null,"Caylee","Nesbit",null,null,"Shaken",1.0,25.0,2.0,24.0,1.0,25.0,null,"",74,null,4]
["P-503",null,null,null,null,null,"Anderson",null,"Hathaway","Going up",3.0,25.0,1.0,25.0,2.0,23.0,null,"",73,null,6]
["P-504",null,null,null,null,null,null,null,null,null,null,null,null,null,null,null,null,"",0,null,0]
[]
["Q-501",null,null,null,null,null,null,null,null,null,null,null,null,null,null,null,null,{"$f":"IF(Q74=\"1violation\",-7*1,IF(Q74=\"2violations\",-7*2,IF(Q74=\"3violations\",-7*3,IF(Q74=\"\",\"\"))))","v":""},{"$f":"SUM(L74,N74,P74,R74)","v":0},null,{"$f":"SUM(K74,M74,O74)","v":0},null,null,null,{"$f":"SUM(S74,S76,S75,S77,-AB74)","v":0},null,null,{"$f":"MIN(S74:S77)","v":0}]
["Q-502",null,null,null,null,null,null,null,null,null,null,null,null,null,null,null,null,"",0,null,0]
["Q-502",null,null,null,null,null,null,null,null,null,null,null,null,null,null,null,null,"",0,null,0]
["Q-504",null,null,null,null,null,null,null,null,null,null,null,null,null,null,null,null,"",0,null,0]
[]
["R-501",null,null,null,null,null,null,null,null,null,null,null,null,null,null,null,null,{"$f":"IF(Q79=\"1violation\",-7*1,IF(Q79=\"2violations\",-7*2,IF(Q79=\"3violations\",-7*3,IF(Q79=\"\",\"\"))))","v":""},{"$f":"SUM(L79,N79,P79,R79)","v":0},null,{"$f":"SUM(K79,M79,O79)","v":0},null,null,null,{"$f":"SUM(S79,S81,S80,S82,-AB79)","v":0},null,null,{"$f":"MIN(S79:S82)","v":0}]
["R-502",null,null,null,null,null,null,null,null,null,null,null,null,null,null,null,null,"",0,null,0]
["R-503",null,null,null,null,null,null,null,null,null,null,null,null,null,null,null,null,"",0,null,0]
["R-504",null,null,null,null,null,null,null,null,null,null,null,null,null,null,null,null,"",0,null,0]
[]
["S-501",null,null,null,null,"Kaelyn","Howell",null,null,"The Haunting",4.0,22.0,4.0,22.0,3.0,23.0,null,{"$f":"IF(Q84=\"1violation\",-7*1,IF(Q84=\"2violations\",-7*2,IF(Q84=\"3violations\",-7*3,IF(Q84=\"\",\"\"))))","v":""},{"$f":"SUM(L84,N84,P84,R84)","v":67},null,{"$f":"SUM(K84,M84,O84)","v":11},null,null,null,{"$f":"SUM(S84,S86,S85,S87,-AB84)","v":197},null,null,{"$f":"MIN(S84:S87)","v":0}]
["S-502",null,null,null,null,"Tanner","Perkins",null,null,"Golf Gone Wrong",4.0,18.0,2.0,23.0,4.0,18.0,null,"",59,null,10]
["S-503",null,null,null,null,"Sabrina","Schoenfeld",null,null,"First Day at Gym",2.0,25.0,3.0,24.0,2.0,22.0,null,"",71,null,7]
["S-504",null,null,null,null,null,null,null,null,null,null,null,null,null,null,null,null,"",0,null,0]
[]
["T-501",null,null,null,null,null,null,null,null,null,null,null,null,null,null,null,null,{"$f":"IF(Q89=\"1violation\",-7*1,IF(Q89=\"2violations\",-7*2,IF(Q89=\"3violations\",-7*3,IF(Q89=\"\",\"\"))))","v":""},{"$f":"SUM(L89,N89,P89,R89)","v":0},null,{"$f":"SUM(K89,M89,O89)","v":0},null,null,null,{"$f":"SUM(S89,S91,S90,S92,-AB89)","v":0},null,null,{"$f":"MIN(S89:S92)","v":0}]
["T-502",null,null,null,null,null,null,null,null,null,null,null,null,null,null,null,null,"",0,null,0]
["T-503",null,null,null,null,null,null,null,null,null,null,null,null,null,null,null,null,"",0,null,0]
["T-504",null,null,null,null,null,null,null,null,null,null,null,null,null,null,null,null,"",0,null,0]
[]
["U-501",null,null,null,null,null,null,null,null,null,null,null,null,null,null,null,null,{"$f":"IF(Q94=\"1violation\",-7*1,IF(Q94=\"2violations\",-7*2,IF(Q94=\"3violations\",-7*3,IF(Q94=\"\",\"\"))))","v":""},{"$f":"SUM(L94,N94,P94,R94)","v":0},null,{"$f":"SUM(K94,M94,O94)","v":0},null,null,null,{"$f":"SUM(S94,S96,S95,S97,-AB94)","v":0},null,null,{"$f":"MIN(S94:S97)","v":0}]
["U-502",null,null,null,null,null,null,null,null,null,null,null,null,null,null,null,null,"",0,null,0]
["U-503",null,null,null,null,null,null,null,null,null,null,null,null,null,null,null,null,"",0,null,0]
["U-504",null,null,null,null,null,null,null,null,null,null,null,null,null,null,null,null,"",0,null,0]
[]
["V-501",null,null,null,null,null,null,null,null,null,null,null,null,null,null,null,null,{"$f":"IF(Q99=\"1violation\",-7*1,IF(Q99=\"2violations\",-7*2,IF(Q99=\"3violations\",-7*3,IF(Q99=\"\",\"\"))))","v":""},{"$f":"SUM(L99,N99,P99,R99)","v":0},null,{"$f":"SUM(K99,M99,O99)","v":0},null,null,null,{"$f":"SUM(S99,S101,S100,S102,-AB99)","v":0},null,null,{"$f":"MIN(S99:S102)","v":0}]
["V-502",null,null,null,null,null,null,null,null,null,null,null,null,null,null,null,null,"",0,null,0]
["V-503",null,null,null,null,null,null,null,null,null,null,null,null,null,null,null,null,"",0,null,0]
["V-504",null,null,null,null,null,null,null,null,null,null,null,null,null,null,null,null,"",0,null,0]
[]
["W-501",null,null,null,null,null,null,null,null,null,null,null,null,null,null,null,null,{"$f":"IF(Q104=\"1violation\",-7*1,IF(Q104=\"2violations\",-7*2,IF(Q104=\"3violations\",-7*3,IF(Q104=\"\",\"\"))))","v":""},{"$f":"SUM(L104,N104,P104,R104)","v":0},null,{"$f":"SUM(K104,M104,O104)","v":0},null,null,null,{"$f":"SUM(S104,S106,S105,S107,-AB104)","v":0},null,null,{"$f":"MIN(S104:S107)","v":0}]
["W-502",null,null,null,null,null,null,null,null,null,null,null,null,null,null,null,null,"",0,null,0]
["W-503",null,null,null,null,null,null,null,null,null,null,null,null,null,null,null,null,"",0,null,0]
["W-504",null,null,null,null,null,null,null,null,null,null,null,null,null,null,null,null,"",0,null,0]
[]
["X-501",null,null,null,null,null,null,null,null,null,null,null,null,null,null,null,null,{"$f":"IF(Q109=\"1violation\",-7*1,IF(Q109=\"2violations\",-7*2,IF(Q109=\"3violations\",-7*3,IF(Q109=\"\",\"\"))))","v":""},{"$f":"SUM(L109,N109,P109,R109)","v":0},null,{"$f":"SUM(K109,M109,O109)","v":0},null,null,null,{"$f":"SUM(S109,S111,S110,S112,-AB109)","v":0},null,null,{"$f":"MIN(S109:S112)","v":0}]
["X-502",null,null,null,null,null,null,null,null,null,null,null,null,null,null,null,null,"",0,null,0]
["X-503",null,null,null,null,null,null,null,null,null,null,null,null,null,null,null,null,"",0,null,0]
["X-504",null,null,null,null,null,null,null,null,null,null,null,null,null,null,null,null,"",0,null,0]
[]
["Y-501",null,null,null,null,null,null,null,null,null,null,null,null,null,null,null,null,{"$f":"IF(Q114=\"1violation\",-7*1,IF(Q114=\"2violations\",-7*2,IF(Q114=\"3violations\",-7*3,IF(Q114=\"\",\"\"))))","v":""},{"$f":"SUM(L114,N114,P114,R114)","v":0},null,{"$f":"SUM(K114,M114,O114)","v":0},null,null,null,{"$f":"SUM(S114,S116,S115,S117,-AB114)","v":0},null,null,{"$f":"MIN(S114:S117)","v":0}]
["Y-502",null,null,null,null,null,null,null,null,null,null,null,null,null,null,null,null,"",0,null,0]
["Y-503",null,null,null,null,null,null,null,null,null,null,null,null,null,null,null,null,"",0,null,0]
["Y-504",null,null,null,null,null,null,null,null,null,null,null,null,null,null,null,null,"",0,null,0]
[]
["Z-501",null,null,null,null,null,null,null,null,null,null,null,null,null,null,null,null,{"$f":"IF(Q119=\"1violation\",-7*1,IF(Q119=\"2violations\",-7*2,IF(Q119=\"3violations\",-7*3,IF(Q119=\"\",\"\"))))","v":""},{"$f":"SUM(L119,N119,P119,R119)","v":0},null,{"$f":"SUM(K119,M119,O119)","v":0},null,null,null,{"$f":"SUM(S119,S121,S120,S122,-AB119)","v":0},null,null,{"$f":"MIN(S119:S122)","v":0}]
["Z-502",null,null,null,null,null,null,null,null,null,null,null,null,null,null,null,null,"",0,null,0]
["Z-503",null,null,null,null,null,null,null,null,null,null,null,null,null,null,null,null,"",0,null,0]
["Z-504",null,null,null,null,null,null,null,null,null,null,null,null,null,null,null,null,"",0,null,0]
[]
["AA-501",null,null,null,null,null,null,null,null,null,null,null,null,null,null,null,null,{"$f":"IF(Q124=\"1violation\",-7*1,IF(Q124=\"2violations\",-7*2,IF(Q124=\"3violations\",-7*3,IF(Q124=\"\",\"\"))))","v":""},{"$f":"SUM(L124,N124,P124,R124)","v":0},null,{"$f":"SUM(K124,M124,O124)","v":0},null,null,null,{"$f":"SUM(S124,S126,S125,S127,-AB124)","v":0},null,null,{"$f":"MIN(S124:S127)","v":0}]
["AA-502",null,null,null,null,null,null,null,null,null,null,null,null,null,null,null,null,"",0,null,0]
["AA-503",null,null,null,null,null,null,null,null,null,null,null,null,null,null,null,null,"",0,null,0]
["AA-504",null,null,null,null,null,null,null,null,null,null,null,null,null,null,null,null,"",0,null,0]
[]
["BB-501",null,null,null,null,null,null,null,null,null,null,null,null,null,null,null,null,{"$f":"IF(Q129=\"1violation\",-7*1,IF(Q129=\"2violations\",-7*2,IF(Q129=\"3violations\",-7*3,IF(Q129=\"\",\"\"))))","v":""},{"$f":"SUM(L129,N129,P129,R129)","v":0},null,{"$f":"SUM(K129,M129,O129)","v":0},null,null,null,{"$f":"SUM(S129,S131,S130,S132,-AB129)","v":0},null,null,{"$f":"MIN(S129:S132)","v":0}]
["BB-502",null,null,null,null,null,null,null,null,null,null,null,null,null,null,null,null,"",0,null,0]
["BB-503",null,null,null,null,null,null,null,null,null,null,null,null,null,null,null,null,"",0,null,0]
["BB-504",null,null,null,null,null,null,null,null,null,null,null,null,null,null,null,null,"",0,null,0]
[]
["CC-501",null,null,null,null,null,null,null,null,null,null,null,null,null,null,null,null,{"$f":"IF(Q134=\"1violation\",-7*1,IF(Q134=\"2violations\",-7*2,IF(Q134=\"3violations\",-7*3,IF(Q134=\"\",\"\"))))","v":""},{"$f":"SUM(L134,N134,P134,R134)","v":0},null,{"$f":"SUM(K134,M134,O134)","v":0},null,null,null,{"$f":"SUM(S134,S136,S135,S137,-AB134)","v":0},null,null,{"$f":"MIN(S134:S137)","v":0}]
["CC-502",null,null,null,null,null,null,null,null,null,null,null,null,null,null,null,null,"",0,null,0]
["CC-503",null,null,null,null,null,null,null,null,null,null,null,null,null,null,null,null,"",0,null,0]
["CC-504",null,null,null,null,null,null,null,null,null,null,null,null,null,null,null,null,"",0,null,0]
[]
["DD-501",null,null,null,null,null,null,null,null,null,null,null,null,null,null,null,null,{"$f":"IF(Q139=\"1violation\",-7*1,IF(Q139=\"2violations\",-7*2,IF(Q139=\"3violations\",-7*3,IF(Q139=\"\",\"\"))))","v":""},{"$f":"SUM(L139,N139,P139,R139)","v":0},null,{"$f":"SUM(K139,M139,O139)","v":0},null,null,null,{"$f":"SUM(S139,S141,S140,S142,-AB139)","v":0},null,null,{"$f":"MIN(S139:S142)","v":0}]
["DD-502",null,null,null,null,null,null,null,null,null,null,null,null,null,null,null,null,"",0,null,0]
["DD-503",null,null,null,null,null,null,null,null,null,null,null,null,null,null,null,null,"",0,null,0]
["DD-504",null,null,null,null,null,null,null,null,null,null,null,null,null,null,null,null,"",0,null,0]
[]
["EE-501",null,null,null,null,null,null,null,null,null,null,null,null,null,null,null,null,{"$f":"IF(Q144=\"1violation\",-7*1,IF(Q144=\"2violations\",-7*2,IF(Q144=\"3violations\",-7*3,IF(Q144=\"\",\"\"))))","v":""},{"$f":"SUM(L144,N144,P144,R144)","v":0},null,{"$f":"SUM(K144,M144,O144)","v":0},null,null,null,{"$f":"SUM(S144,S146,S145,S147,-AB144)","v":0},null,null,{"$f":"MIN(S144:S147)","v":0}]
["EE-502",null,null,null,null,null,null,null,null,null,null,null,null,null,null,null,null,"",0,null,0]
["EE-503",null,null,null,null,null,null,null,null,null,null,null,null,null,null,null,null,"",0,null,0]
["EE-504",null,null,null,null,null,null,null,null,null,null,null,null,null,null,null,null,"",0,null,0]
[]
["FF-501",null,null,null,null,null,null,null,null,null,null,null,null,null,null,null,null,{"$f":"IF(Q149=\"1violation\",-7*1,IF(Q149=\"2violations\",-7*2,IF(Q149=\"3violations\",-7*3,IF(Q149=\"\",\"\"))))","v":""},{"$f":"SUM(L149,N149,P149,R149)","v":0},null,{"$f":"SUM(K149,M149,O149)","v":0},null,null,null,{"$f":"SUM(S149,S151,S150,S152,-AB149)","v":0},null,null,{"$f":"MIN(S149:S152)","v":0}]
["FF-502",null,null,null,null,null,null,null,null,null,null,null,null,null,null,null,null,"",0,null,0]
["FF-503",null,null,null,null,null,null,null,null,null,null,null,null,null,null,null,null,"",0,null,0]
["FF-504",null,null,null,null,null,null,null,null,null,null,null,null,null,null,null,null,"",0,null,0]

{"sheet":"PantomimeMR","index":10,"n_rows":122,"n_cols":12,"rows_kept":122,"cut":false,"hidden":false,"merged":[]}
["Pantomime",null,null,null,"Finals Medals Round Scores"]
["ID","Rank","Score","LeaveBlank","MR 1 Rank","MR 1 Score","MR2 Rank","MR 2 Score","MR3 Rank","MR 3 Score","Total MR Rank","Total MR Score"]
[{"$f":"Pantomime!A4","v":"A-501"},{"$f":"Pantomime!U4","v":5},{"$f":"Pantomime!S4","v":74},{"$f":"IF((PantomimeMR!$B3+PantomimeMR!$C3)>0,1,0)","v":1},2.0,25.0,6.0,23.0,6.0,24.0,{"$f":"SUM(E3,G3,I3)","v":14},72]
[{"$f":"Pantomime!A5","v":"A-502"},{"$f":"Pantomime!U5","v":3},{"$f":"Pantomime!S5","v":73},{"$f":"IF((PantomimeMR!$B4+PantomimeMR!$C4)>0,1,0)","v":1},6.0,24.0,5.0,25.0,6.0,22.0,{"$f":"SUM(E4,G4,I4)","v":17},71]
[{"$f":"Pantomime!A6","v":"A-503"},{"$f":"Pantomime!U6","v":7},{"$f":"Pantomime!S6","v":72},{"$f":"IF((PantomimeMR!$B5+PantomimeMR!$C5)>0,1,0)","v":1},null,null,null,null,null,null,{"$f":"SUM(E5,G5,I5)","v":0},0]
[{"$f":"Pantomime!A7","v":"A-504"},{"$f":"Pantomime!U7","v":4},{"$f":"Pantomime!S7","v":75},{"$f":"IF((PantomimeMR!$B6+PantomimeMR!$C6)>0,1,0)","v":1},4.0,24.0,6.0,25.0,3.0,25.0,{"$f":"SUM(E6,G6,I6)","v":13},74]
[{"$f":"Pantomime!A124","v":"AA-501"},{"$f":"Pantomime!U124","v":0},{"$f":"Pantomime!S124","v":0},{"$f":"IF((PantomimeMR!$B7+PantomimeMR!$C7)>0,1,0)","v":0},null,null,null,null,null,null,{"$f":"SUM(E7,G7,I7)","v":0},0]
[{"$f":"Pantomime!A125","v":"AA-502"},{"$f":"Pantomime!U125","v":0},{"$f":"Pantomime!S125","v":0},{"$f":"IF((PantomimeMR!$B8+PantomimeMR!$C8)>0,1,0)","v":0},null,null,null,null,null,null,{"$f":"SUM(E8,G8,I8)","v":0},0]
[{"$f":"Pantomime!A126","v":"AA-503"},{"$f":"Pantomime!U126","v":0},{"$f":"Pantomime!S126","v":0},{"$f":"IF((PantomimeMR!$B9+PantomimeMR!$C9)>0,1,0)","v":0},null,null,null,null,null,null,{"$f":"SUM(E9,G9,I9)","v":0},0]
[{"$f":"Pantomime!A127","v":"AA-504"},{"$f":"Pantomime!U127","v":0},{"$f":"Pantomime!S127","v":0},{"$f":"IF((PantomimeMR!$B10+PantomimeMR!$C10)>0,1,0)","v":0},null,null,null,null,null,null,{"$f":"SUM(E10,G10,I10)","v":0},0]
[{"$f":"Pantomime!A9","v":"B-501"},{"$f":"Pantomime!U9","v":0},{"$f":"Pantomime!S9","v":0},{"$f":"IF((PantomimeMR!$B11+PantomimeMR!$C11)>0,1,0)","v":0},null,null,null,null,null,null,{"$f":"SUM(E11,G11,I11)","v":0},0]
[{"$f":"Pantomime!A10","v":"B-502"},{"$f":"Pantomime!U10","v":0},{"$f":"Pantomime!S10","v":0},{"$f":"IF((PantomimeMR!$B12+PantomimeMR!$C12)>0,1,0)","v":0},null,null,null,null,null,null,{"$f":"SUM(E12,G12,I12)","v":0},0]
[{"$f":"Pantomime!A11","v":"B-503"},{"$f":"Pantomime!U11","v":0},{"$f":"Pantomime!S11","v":0},{"$f":"IF((PantomimeMR!$B13+PantomimeMR!$C13)>0,1,0)","v":0},null,null,null,null,null,null,{"$f":"SUM(E13,G13,I13)","v":0},0]
[{"$f":"Pantomime!A12","v":"B-504"},{"$f":"Pantomime!U12","v":0},{"$f":"Pantomime!S12","v":0},{"$f":"IF((PantomimeMR!$B14+PantomimeMR!$C14)>0,1,0)","v":0},null,null,null,null,null,null,{"$f":"SUM(E14,G14,I14)","v":0},0]
[{"$f":"Pantomime!A129","v":"BB-501"},{"$f":"Pantomime!U129","v":0},{"$f":"Pantomime!S129","v":0},{"$f":"IF((PantomimeMR!$B15+PantomimeMR!$C15)>0,1,0)","v":0},null,null,null,null,null,null,{"$f":"SUM(E15,G15,I15)","v":0},0]
[{"$f":"Pantomime!A130","v":"BB-502"},{"$f":"Pantomime!U130","v":0},{"$f":"Pantomime!S130","v":0},{"$f":"IF((PantomimeMR!$B16+PantomimeMR!$C16)>0,1,0)","v":0},null,null,null,null,null,null,{"$f":"SUM(E16,G16,I16)","v":0},0]
[{"$f":"Pantomime!A131","v":"BB-503"},{"$f":"Pantomime!U131","v":0},{"$f":"Pantomime!S131","v":0},{"$f":"IF((PantomimeMR!$B17+PantomimeMR!$C17)>0,1,0)","v":0},null,null,null,null,null,null,{"$f":"SUM(E17,G17,I17)","v":0},0]
[{"$f":"Pantomime!A132","v":"BB-504"},{"$f":"Pantomime!U132","v":0},{"$f":"Pantomime!S132","v":0},{"$f":"IF((PantomimeMR!$B18+PantomimeMR!$C18)>0,1,0)","v":0},null,null,null,null,null,null,{"$f":"SUM(E18,G18,I18)","v":0},0]
[{"$f":"Pantomime!A14","v":"C-501"},{"$f":"Pantomime!U14","v":9},{"$f":"Pantomime!S14","v":65},{"$f":"IF((PantomimeMR!$B19+PantomimeMR!$C19)>0,1,0)","v":1},null,null,null,null,null,null,{"$f":"SUM(E19,G19,I19)","v":0},0]
[{"$f":"Pantomime!A15","v":"C-502"},{"$f":"Pantomime!U15","v":4},{"$f":"Pantomime!S15","v":72},{"$f":"IF((PantomimeMR!$B20+PantomimeMR!$C20)>0,1,0)","v":1},6.0,23.0,3.0,25.0,5.0,24.0,{"$f":"SUM(E20,G20,I20)","v":14},72]
[{"$f":"Pantomime!A16","v":"C-503"},{"$f":"Pantomime!U16","v":5},{"$f":"Pantomime!S16","v":73},{"$f":"IF((PantomimeMR!$B21+PantomimeMR!$C21)>0,1,0)","v":1},5.0,24.0,4.0,25.0,2.0,25.0,{"$f":"SUM(E21,G21,I21)","v":11},74]
[{"$f":"Pantomime!A17","v":"C-504"},{"$f":"Pantomime!U17","v":5},{"$f":"Pantomime!S17","v":74},{"$f":"IF((PantomimeMR!$B22+PantomimeMR!$C22)>0,1,0)","v":1},1.0,25.0,1.0,25.0,1.0,25.0,{"$f":"SUM(E22,G22,I22)","v":3},75]
[{"$f":"Pantomime!A134","v":"CC-501"},{"$f":"Pantomime!U134","v":0},{"$f":"Pantomime!S134","v":0},{"$f":"IF((PantomimeMR!$B23+PantomimeMR!$C23)>0,1,0)","v":0},null,null,null,null,null,null,{"$f":"SUM(E23,G23,I23)","v":0},0]
[{"$f":"Pantomime!A135","v":"CC-502"},{"$f":"Pantomime!U135","v":0},{"$f":"Pantomime!S135","v":0},{"$f":"IF((PantomimeMR!$B24+PantomimeMR!$C24)>0,1,0)","v":0},null,null,null,null,null,null,{"$f":"SUM(E24,G24,I24)","v":0},0]
[{"$f":"Pantomime!A136","v":"CC-503"},{"$f":"Pantomime!U136","v":0},{"$f":"Pantomime!S136","v":0},{"$f":"IF((PantomimeMR!$B25+PantomimeMR!$C25)>0,1,0)","v":0},null,null,null,null,null,null,{"$f":"SUM(E25,G25,I25)","v":0},0]
[{"$f":"Pantomime!A137","v":"CC-504"},{"$f":"Pantomime!U137","v":0},{"$f":"Pantomime!S137","v":0},{"$f":"IF((PantomimeMR!$B26+PantomimeMR!$C26)>0,1,0)","v":0},null,null,null,null,null,null,{"$f":"SUM(E26,G26,I26)","v":0},0]
[{"$f":"Pantomime!A19","v":"D-501"},{"$f":"Pantomime!U19","v":0},{"$f":"Pantomime!S19","v":0},{"$f":"IF((PantomimeMR!$B27+PantomimeMR!$C27)>0,1,0)","v":0},null,null,null,null,null,null,{"$f":"SUM(E27,G27,I27)","v":0},0]
[{"$f":"Pantomime!A20","v":"D-502"},{"$f":"Pantomime!U20","v":0},{"$f":"Pantomime!S20","v":0},{"$f":"IF((PantomimeMR!$B28+PantomimeMR!$C28)>0,1,0)","v":0},null,null,null,null,null,null,{"$f":"SUM(E28,G28,I28)","v":0},0]
[{"$f":"Pantomime!A21","v":"D-503"},{"$f":"Pantomime!U21","v":0},{"$f":"Pantomime!S21","v":0},{"$f":"IF((PantomimeMR!$B29+PantomimeMR!$C29)>0,1,0)","v":0},null,null,null,null,null,null,{"$f":"SUM(E29,G29,I29)","v":0},0]
[{"$f":"Pantomime!A22","v":"D-504"},{"$f":"Pantomime!U22","v":0},{"$f":"Pantomime!S22","v":0},{"$f":"IF((PantomimeMR!$B30+PantomimeMR!$C30)>0,1,0)","v":0},null,null,null,null,null,null,{"$f":"SUM(E30,G30,I30)","v":0},0]
[{"$f":"Pantomime!A139","v":"DD-501"},{"$f":"Pantomime!U139","v":0},{"$f":"Pantomime!S139","v":0},{"$f":"IF((PantomimeMR!$B31+PantomimeMR!$C31)>0,1,0)","v":0},null,null,null,null,null,null,{"$f":"SUM(E31,G31,I31)","v":0},0]
[{"$f":"Pantomime!A140","v":"DD-502"},{"$f":"Pantomime!U140","v":0},{"$f":"Pantomime!S140","v":0},{"$f":"IF((PantomimeMR!$B32+PantomimeMR!$C32)>0,1,0)","v":0},null,null,null,null,null,null,{"$f":"SUM(E32,G32,I32)","v":0},0]
[{"$f":"Pantomime!A141","v":"DD-503"},{"$f":"Pantomime!U141","v":0},{"$f":"Pantomime!S141","v":0},{"$f":"IF((PantomimeMR!$B33+PantomimeMR!$C33)>0,1,0)","v":0},null,null,null,null,null,null,{"$f":"SUM(E33,G33,I33)","v":0},0]
[{"$f":"Pantomime!A142","v":"DD-504"},{"$f":"Pantomime!U142","v":0},{"$f":"Pantomime!S142","v":0},{"$f":"IF((PantomimeMR!$B34+PantomimeMR!$C34)>0,1,0)","v":0},null,null,null,null,null,null,{"$f":"SUM(E34,G34,I34)","v":0},0]
[{"$f":"Pantomime!A24","v":"E-501"},{"$f":"Pantomime!U24","v":8},{"$f":"Pantomime!S24","v":65},{"$f":"IF((PantomimeMR!$B35+PantomimeMR!$C35)>0,1,0)","v":1},null,null,null,null,null,null,{"$f":"SUM(E35,G35,I35)","v":0},0]
[{"$f":"Pantomime!A25","v":"E-502"},{"$f":"Pantomime!U25","v":11},{"$f":"Pantomime!S25","v":66},{"$f":"IF((PantomimeMR!$B36+PantomimeMR!$C36)>0,1,0)","v":1},null,null,null,null,null,null,{"$f":"SUM(E36,G36,I36)","v":0},0]
[{"$f":"Pantomime!A26","v":"E-503"},{"$f":"Pantomime!U26","v":12},{"$f":"Pantomime!S26","v":54},{"$f":"IF((PantomimeMR!$B37+PantomimeMR!$C37)>0,1,0)","v":1},null,null,null,null,null,null,{"$f":"SUM(E37,G37,I37)","v":0},0]
[{"$f":"Pantomime!A27","v":"E-504"},{"$f":"Pantomime!U27","v":9},{"$f":"Pantomime!S27","v":69},{"$f":"IF((PantomimeMR!$B38+PantomimeMR!$C38)>0,1,0)","v":1},null,null,null,null,null,null,{"$f":"SUM(E38,G38,I38)","v":0},0]
[{"$f":"Pantomime!A144","v":"EE-501"},{"$f":"Pantomime!U144","v":0},{"$f":"Pantomime!S144","v":0},{"$f":"IF((PantomimeMR!$B39+PantomimeMR!$C39)>0,1,0)","v":0},null,null,null,null,null,null,{"$f":"SUM(E39,G39,I39)","v":0},0]
[{"$f":"Pantomime!A145","v":"EE-502"},{"$f":"Pantomime!U145","v":0},{"$f":"Pantomime!S145","v":0},{"$f":"IF((PantomimeMR!$B40+PantomimeMR!$C40)>0,1,0)","v":0},null,null,null,null,null,null,{"$f":"SUM(E40,G40,I40)","v":0},0]
[{"$f":"Pantomime!A146","v":"EE-503"},{"$f":"Pantomime!U146","v":0},{"$f":"Pantomime!S146","v":0},{"$f":"IF((PantomimeMR!$B41+PantomimeMR!$C41)>0,1,0)","v":0},null,null,null,null,null,null,{"$f":"SUM(E41,G41,I41)","v":0},0]
[{"$f":"Pantomime!A147","v":"EE-504"},{"$f":"Pantomime!U147","v":0},{"$f":"Pantomime!S147","v":0},{"$f":"IF((PantomimeMR!$B42+PantomimeMR!$C42)>0,1,0)","v":0},null,null,null,null,null,null,{"$f":"SUM(E42,G42,I42)","v":0},0]
[{"$f":"Pantomime!A29","v":"F-501"},{"$f":"Pantomime!U29","v":4},{"$f":"Pantomime!S29","v":68},{"$f":"IF((PantomimeMR!$B43+PantomimeMR!$C43)>0,1,0)","v":1},6.0,23.0,2.0,25.0,4.0,25.0,{"$f":"SUM(E43,G43,I43)","v":12},73]
[{"$f":"Pantomime!A30","v":"F-502"},{"$f":"Pantomime!U30","v":9},{"$f":"Pantomime!S30","v":66},{"$f":"IF((PantomimeMR!$B44+PantomimeMR!$C44)>0,1,0)","v":1},null,null,null,null,null,null,{"$f":"SUM(E44,G44,I44)","v":0},0]
[{"$f":"Pantomime!A31","v":"F-503"},{"$f":"Pantomime!U31","v":10},{"$f":"Pantomime!S31","v":59},{"$f":"IF((PantomimeMR!$B45+PantomimeMR!$C45)>0,1,0)","v":1},null,null,null,null,null,null,{"$f":"SUM(E45,G45,I45)","v":0},0]
[{"$f":"Pantomime!A32","v":"F-504"},{"$f":"Pantomime!U32","v":12},{"$f":"Pantomime!S32","v":63},{"$f":"IF((PantomimeMR!$B46+PantomimeMR!$C46)>0,1,0)","v":1},null,null,null,null,null,null,{"$f":"SUM(E46,G46,I46)","v":0},0]
[{"$f":"Pantomime!A149","v":"FF-501"},{"$f":"Pantomime!U149","v":0},{"$f":"Pantomime!S149","v":0},{"$f":"IF((PantomimeMR!$B47+PantomimeMR!$C47)>0,1,0)","v":0},null,null,null,null,null,null,{"$f":"SUM(E47,G47,I47)","v":0},0]
[{"$f":"Pantomime!A150","v":"FF-502"},{"$f":"Pantomime!U150","v":0},{"$f":"Pantomime!S150","v":0},{"$f":"IF((PantomimeMR!$B48+PantomimeMR!$C48)>0,1,0)","v":0},null,null,null,null,null,null,{"$f":"SUM(E48,G48,I48)","v":0},0]
[{"$f":"Pantomime!A151","v":"FF-503"},{"$f":"Pantomime!U151","v":0},{"$f":"Pantomime!S151","v":0},{"$f":"IF((PantomimeMR!$B49+PantomimeMR!$C49)>0,1,0)","v":0},null,null,null,null,null,null,{"$f":"SUM(E49,G49,I49)","v":0},0]
[{"$f":"Pantomime!A152","v":"FF-504"},{"$f":"Pantomime!U152","v":0},{"$f":"Pantomime!S152","v":0},{"$f":"IF((PantomimeMR!$B50+PantomimeMR!$C50)>0,1,0)","v":0},null,null,null,null,null,null,{"$f":"SUM(E50,G50,I50)","v":0},0]
[{"$f":"Pantomime!A34","v":"G-501"},{"$f":"Pantomime!U34","v":0},{"$f":"Pantomime!S34","v":0},{"$f":"IF((PantomimeMR!$B51+PantomimeMR!$C51)>0,1,0)","v":0},null,null,null,null,null,null,{"$f":"SUM(E51,G51,I51)","v":0},0]
[{"$f":"Pantomime!A35","v":"G-502"},{"$f":"Pantomime!U35","v":0},{"$f":"Pantomime!S35","v":0},{"$f":"IF((PantomimeMR!$B52+PantomimeMR!$C52)>0,1,0)","v":0},null,null,null,null,null,null,{"$f":"SUM(E52,G52,I52)","v":0},0]
[{"$f":"Pantomime!A36","v":"G-503"},{"$f":"Pantomime!U36","v":0},{"$f":"Pantomime!S36","v":0},{"$f":"IF((PantomimeMR!$B53+PantomimeMR!$C53)>0,1,0)","v":0},null,null,null,null,null,null,{"$f":"SUM(E53,G53,I53)","v":0},0]
[{"$f":"Pantomime!A37","v":"G-504"},{"$f":"Pantomime!U37","v":0},{"$f":"Pantomime!S37","v":0},{"$f":"IF((PantomimeMR!$B54+PantomimeMR!$C54)>0,1,0)","v":0},null,null,null,null,null,null,{"$f":"SUM(E54,G54,I54)","v":0},0]
[{"$f":"Pantomime!A39","v":"H-501"},{"$f":"Pantomime!U39","v":9},{"$f":"Pantomime!S39","v":71},{"$f":"IF((PantomimeMR!$B55+PantomimeMR!$C55)>0,1,0)","v":1},null,null,null,null,null,null,{"$f":"SUM(E55,G55,I55)","v":0},0]
[{"$f":"Pantomime!A40","v":"H-502"},{"$f":"Pantomime!U40","v":9},{"$f":"Pantomime!S40","v":67},{"$f":"IF((PantomimeMR!$B56+PantomimeMR!$C56)>0,1,0)","v":1},null,null,null,null,null,null,{"$f":"SUM(E56,G56,I56)","v":0},0]
[{"$f":"Pantomime!A41","v":"H-503"},{"$f":"Pantomime!U41","v":10},{"$f":"Pantomime!S41","v":65},{"$f":"IF((PantomimeMR!$B57+PantomimeMR!$C57)>0,1,0)","v":1},null,null,null,null,null,null,{"$f":"SUM(E57,G57,I57)","v":0},0]
[{"$f":"Pantomime!A42","v":"H-504"},{"$f":"Pantomime!U42","v":0},{"$f":"Pantomime!S42","v":0},{"$f":"IF((PantomimeMR!$B58+PantomimeMR!$C58)>0,1,0)","v":0},null,null,null,null,null,null,{"$f":"SUM(E58,G58,I58)","v":0},0]
[{"$f":"Pantomime!A44","v":"J-501"},{"$f":"Pantomime!U44","v":0},{"$f":"Pantomime!S44","v":0},{"$f":"IF((PantomimeMR!$B59+PantomimeMR!$C59)>0,1,0)","v":0},null,null,null,null,null,null,{"$f":"SUM(E59,G59,I59)","v":0},0]
[{"$f":"Pantomime!A45","v":"J-502"},{"$f":"Pantomime!U45","v":0},{"$f":"Pantomime!S45","v":0},{"$f":"IF((PantomimeMR!$B60+PantomimeMR!$C60)>0,1,0)","v":0},null,null,null,null,null,null,{"$f":"SUM(E60,G60,I60)","v":0},0]
[{"$f":"Pantomime!A46","v":"J-503"},{"$f":"Pantomime!U46","v":0},{"$f":"Pantomime!S46","v":0},{"$f":"IF((PantomimeMR!$B61+PantomimeMR!$C61)>0,1,0)","v":0},null,null,null,null,null,null,{"$f":"SUM(E61,G61,I61)","v":0},0]
[{"$f":"Pantomime!A47","v":"J-504"},{"$f":"Pantomime!U47","v":0},{"$f":"Pantomime!S47","v":0},{"$f":"IF((PantomimeMR!$B62+PantomimeMR!$C62)>0,1,0)","v":0},null,null,null,null,null,null,{"$f":"SUM(E62,G62,I62)","v":0},0]
[{"$f":"Pantomime!A49","v":"K-501"},{"$f":"Pantomime!U49","v":12},{"$f":"Pantomime!S49","v":65},{"$f":"IF((PantomimeMR!$B63+PantomimeMR!$C63)>0,1,0)","v":1},null,null,null,null,null,null,{"$f":"SUM(E63,G63,I63)","v":0},0]
[{"$f":"Pantomime!A50","v":"K-502"},{"$f":"Pantomime!U50","v":0},{"$f":"Pantomime!S50","v":0},{"$f":"IF((PantomimeMR!$B64+PantomimeMR!$C64)>0,1,0)","v":0},null,null,null,null,null,null,{"$f":"SUM(E64,G64,I64)","v":0},0]
[{"$f":"Pantomime!A51","v":"K-503"},{"$f":"Pantomime!U51","v":0},{"$f":"Pantomime!S51","v":0},{"$f":"IF((PantomimeMR!$B65+PantomimeMR!$C65)>0,1,0)","v":0},null,null,null,null,null,null,{"$f":"SUM(E65,G65,I65)","v":0},0]
[{"$f":"Pantomime!A52","v":"K-504"},{"$f":"Pantomime!U52","v":0},{"$f":"Pantomime!S52","v":0},{"$f":"IF((PantomimeMR!$B66+PantomimeMR!$C66)>0,1,0)","v":0},null,null,null,null,null,null,{"$f":"SUM(E66,G66,I66)","v":0},0]
[{"$f":"Pantomime!A54","v":"L-501"},{"$f":"Pantomime!U54","v":12},{"$f":"Pantomime!S54","v":64},{"$f":"IF((PantomimeMR!$B67+PantomimeMR!$C67)>0,1,0)","v":1},null,null,null,null,null,null,{"$f":"SUM(E67,G67,I67)","v":0},0]
[{"$f":"Pantomime!A55","v":"L-502"},{"$f":"Pantomime!U55","v":0},{"$f":"Pantomime!S55","v":0},{"$f":"IF((PantomimeMR!$B68+PantomimeMR!$C68)>0,1,0)","v":0},null,null,null,null,null,null,{"$f":"SUM(E68,G68,I68)","v":0},0]
[{"$f":"Pantomime!A56","v":"L-503"},{"$f":"Pantomime!U56","v":7},{"$f":"Pantomime!S56","v":66},{"$f":"IF((PantomimeMR!$B69+PantomimeMR!$C69)>0,1,0)","v":1},null,null,null,null,null,null,{"$f":"SUM(E69,G69,I69)","v":0},0]
[{"$f":"Pantomime!A57","v":"L-504"},{"$f":"Pantomime!U57","v":0},{"$f":"Pantomime!S57","v":0},{"$f":"IF((PantomimeMR!$B70+PantomimeMR!$C70)>0,1,0)","v":0},null,null,null,null,null,null,{"$f":"SUM(E70,G70,I70)","v":0},0]
[{"$f":"Pantomime!A59","v":"M-501"},{"$f":"Pantomime!U59","v":7},{"$f":"Pantomime!S59","v":69},{"$f":"IF((PantomimeMR!$B71+PantomimeMR!$C71)>0,1,0)","v":1},null,null,null,null,null,null,{"$f":"SUM(E71,G71,I71)","v":0},0]
[{"$f":"Pantomime!A60","v":"M-502"},{"$f":"Pantomime!U60","v":7},{"$f":"Pantomime!S60","v":69},{"$f":"IF((PantomimeMR!$B72+PantomimeMR!$C72)>0,1,0)","v":1},null,null,null,null,null,null,{"$f":"SUM(E72,G72,I72)","v":0},0]
[{"$f":"Pantomime!A61","v":"M-503"},{"$f":"Pantomime!U61","v":0},{"$f":"Pantomime!S61","v":0},{"$f":"IF((PantomimeMR!$B73+PantomimeMR!$C73)>0,1,0)","v":0},null,null,null,null,null,null,{"$f":"SUM(E73,G73,I73)","v":0},0]
[{"$f":"Pantomime!A62","v":"M-504"},{"$f":"Pantomime!U62","v":0},{"$f":"Pantomime!S62","v":0},{"$f":"IF((PantomimeMR!$B74+PantomimeMR!$C74)>0,1,0)","v":0},null,null,null,null,null,null,{"$f":"SUM(E74,G74,I74)","v":0},0]
[{"$f":"Pantomime!A64","v":"N-501"},{"$f":"Pantomime!U64","v":11},{"$f":"Pantomime!S64","v":61},{"$f":"IF((PantomimeMR!$B75+PantomimeMR!$C75)>0,1,0)","v":1},null,null,null,null,null,null,{"$f":"SUM(E75,G75,I75)","v":0},0]
[{"$f":"Pantomime!A65","v":"N-502"},{"$f":"Pantomime!U65","v":0},{"$f":"Pantomime!S65","v":0},{"$f":"IF((PantomimeMR!$B76+PantomimeMR!$C76)>0,1,0)","v":0},null,null,null,null,null,null,{"$f":"SUM(E76,G76,I76)","v":0},0]
[{"$f":"Pantomime!A66","v":"N-503"},{"$f":"Pantomime!U66","v":0},{"$f":"Pantomime!S66","v":0},{"$f":"IF((PantomimeMR!$B77+PantomimeMR!$C77)>0,1,0)","v":0},null,null,null,null,null,null,{"$f":"SUM(E77,G77,I77)","v":0},0]
[{"$f":"Pantomime!A67","v":"N-504"},{"$f":"Pantomime!U67","v":0},{"$f":"Pantomime!S67","v":0},{"$f":"IF((PantomimeMR!$B78+PantomimeMR!$C78)>0,1,0)","v":0},null,null,null,null,null,null,{"$f":"SUM(E78,G78,I78)","v":0},0]
[{"$f":"Pantomime!A69","v":"P-501"},{"$f":"Pantomime!U69","v":7},{"$f":"Pantomime!S69","v":75},{"$f":"IF((PantomimeMR!$B79+PantomimeMR!$C79)>0,1,0)","v":1},null,null,null,null,null,null,{"$f":"SUM(E79,G79,I79)","v":0},0]
[{"$f":"Pantomime!A70","v":"P-502"},{"$f":"Pantomime!U70","v":4},{"$f":"Pantomime!S70","v":74},{"$f":"IF((PantomimeMR!$B80+PantomimeMR!$C80)>0,1,0)","v":1},3.0,24.0,6.0,25.0,6.0,21.0,{"$f":"SUM(E80,G80,I80)","v":15},70]
[{"$f":"Pantomime!A71","v":"P-503"},{"$f":"Pantomime!U71","v":6},{"$f":"Pantomime!S71","v":73},{"$f":"IF((PantomimeMR!$B81+PantomimeMR!$C81)>0,1,0)","v":1},null,null,null,null,null,null,{"$f":"SUM(E81,G81,I81)","v":0},0]
[{"$f":"Pantomime!A72","v":"P-504"},{"$f":"Pantomime!U72","v":0},{"$f":"Pantomime!S72","v":0},{"$f":"IF((PantomimeMR!$B82+PantomimeMR!$C82)>0,1,0)","v":0},null,null,null,null,null,null,{"$f":"SUM(E82,G82,I82)","v":0},0]
[{"$f":"Pantomime!A74","v":"Q-501"},{"$f":"Pantomime!U74","v":0},{"$f":"Pantomime!S74","v":0},{"$f":"IF((PantomimeMR!$B83+PantomimeMR!$C83)>0,1,0)","v":0},null,null,null,null,null,null,{"$f":"SUM(E83,G83,I83)","v":0},0]
[{"$f":"Pantomime!A75","v":"Q-502"},{"$f":"Pantomime!U75","v":0},{"$f":"Pantomime!S75","v":0},{"$f":"IF((PantomimeMR!$B84+PantomimeMR!$C84)>0,1,0)","v":0},null,null,null,null,null,null,{"$f":"SUM(E84,G84,I84)","v":0},0]
[{"$f":"Pantomime!A76","v":"Q-502"},{"$f":"Pantomime!U76","v":0},{"$f":"Pantomime!S76","v":0},{"$f":"IF((PantomimeMR!$B85+PantomimeMR!$C85)>0,1,0)","v":0},null,null,null,null,null,null,{"$f":"SUM(E85,G85,I85)","v":0},0]
[{"$f":"Pantomime!A77","v":"Q-504"},{"$f":"Pantomime!U77","v":0},{"$f":"Pantomime!S77","v":0},{"$f":"IF((PantomimeMR!$B86+PantomimeMR!$C86)>0,1,0)","v":0},null,null,null,null,null,null,{"$f":"SUM(E86,G86,I86)","v":0},0]
[{"$f":"Pantomime!A79","v":"R-501"},{"$f":"Pantomime!U79","v":0},{"$f":"Pantomime!S79","v":0},{"$f":"IF((PantomimeMR!$B87+PantomimeMR!$C87)>0,1,0)","v":0},null,null,null,null,null,null,{"$f":"SUM(E87,G87,I87)","v":0},0]
[{"$f":"Pantomime!A80","v":"R-502"},{"$f":"Pantomime!U80","v":0},{"$f":"Pantomime!S80","v":0},{"$f":"IF((PantomimeMR!$B88+PantomimeMR!$C88)>0,1,0)","v":0},null,null,null,null,null,null,{"$f":"SUM(E88,G88,I88)","v":0},0]
[{"$f":"Pantomime!A81","v":"R-503"},{"$f":"Pantomime!U81","v":0},{"$f":"Pantomime!S81","v":0},{"$f":"IF((PantomimeMR!$B89+PantomimeMR!$C89)>0,1,0)","v":0},null,null,null,null,null,null,{"$f":"SUM(E89,G89,I89)","v":0},0]
[{"$f":"Pantomime!A82","v":"R-504"},{"$f":"Pantomime!U82","v":0},{"$f":"Pantomime!S82","v":0},{"$f":"IF((PantomimeMR!$B90+PantomimeMR!$C90)>0,1,0)","v":0},null,null,null,null,null,null,{"$f":"SUM(E90,G90,I90)","v":0},0]
[{"$f":"Pantomime!A84","v":"S-501"},{"$f":"Pantomime!U84","v":11},{"$f":"Pantomime!S84","v":67},{"$f":"IF((PantomimeMR!$B91+PantomimeMR!$C91)>0,1,0)","v":1},null,null,null,null,null,null,{"$f":"SUM(E91,G91,I91)","v":0},0]
[{"$f":"Pantomime!A85","v":"S-502"},{"$f":"Pantomime!U85","v":10},{"$f":"Pantomime!S85","v":59},{"$f":"IF((PantomimeMR!$B92+PantomimeMR!$C92)>0,1,0)","v":1},null,null,null,null,null,null,{"$f":"SUM(E92,G92,I92)","v":0},0]
[{"$f":"Pantomime!A86","v":"S-503"},{"$f":"Pantomime!U86","v":7},{"$f":"Pantomime!S86","v":71},{"$f":"IF((PantomimeMR!$B93+PantomimeMR!$C93)>0,1,0)","v":1},null,null,null,null,null,null,{"$f":"SUM(E93,G93,I93)","v":0},0]
[{"$f":"Pantomime!A87","v":"S-504"},{"$f":"Pantomime!U87","v":0},{"$f":"Pantomime!S87","v":0},{"$f":"IF((PantomimeMR!$B94+PantomimeMR!$C94)>0,1,0)","v":0},null,null,null,null,null,null,{"$f":"SUM(E94,G94,I94)","v":0},0]
[{"$f":"Pantomime!A89","v":"T-501"},{"$f":"Pantomime!U89","v":0},{"$f":"Pantomime!S89","v":0},{"$f":"IF((PantomimeMR!$B95+PantomimeMR!$C95)>0,1,0)","v":0},null,null,null,null,null,null,{"$f":"SUM(E95,G95,I95)","v":0},0]
[{"$f":"Pantomime!A90","v":"T-502"},{"$f":"Pantomime!U90","v":0},{"$f":"Pantomime!S90","v":0},{"$f":"IF((PantomimeMR!$B96+PantomimeMR!$C96)>0,1,0)","v":0},null,null,null,null,null,null,{"$f":"SUM(E96,G96,I96)","v":0},0]
[{"$f":"Pantomime!A91","v":"T-503"},{"$f":"Pantomime!U91","v":0},{"$f":"Pantomime!S91","v":0},{"$f":"IF((PantomimeMR!$B97+PantomimeMR!$C97)>0,1,0)","v":0},null,null,null,null,null,null,{"$f":"SUM(E97,G97,I97)","v":0},0]
[{"$f":"Pantomime!A92","v":"T-504"},{"$f":"Pantomime!U92","v":0},{"$f":"Pantomime!S92","v":0},{"$f":"IF((PantomimeMR!$B98+PantomimeMR!$C98)>0,1,0)","v":0},null,null,null,null,null,null,{"$f":"SUM(E98,G98,I98)","v":0},0]
[{"$f":"Pantomime!A94","v":"U-501"},{"$f":"Pantomime!U94","v":0},{"$f":"Pantomime!S94","v":0},{"$f":"IF((PantomimeMR!$B99+PantomimeMR!$C99)>0,1,0)","v":0},null,null,null,null,null,null,{"$f":"SUM(E99,G99,I99)","v":0},0]
[{"$f":"Pantomime!A95","v":"U-502"},{"$f":"Pantomime!U95","v":0},{"$f":"Pantomime!S95","v":0},{"$f":"IF((PantomimeMR!$B100+PantomimeMR!$C100)>0,1,0)","v":0},null,null,null,null,null,null,{"$f":"SUM(E100,G100,I100)","v":0},0]
[{"$f":"Pantomime!A96","v":"U-503"},{"$f":"Pantomime!U96","v":0},{"$f":"Pantomime!S96","v":0},{"$f":"IF((PantomimeMR!$B101+PantomimeMR!$C101)>0,1,0)","v":0},null,null,null,null,null,null,{"$f":"SUM(E101,G101,I101)","v":0},0]
[{"$f":"Pantomime!A97","v":"U-504"},{"$f":"Pantomime!U97","v":0},{"$f":"Pantomime!S97","v":0},{"$f":"IF((PantomimeMR!$B102+PantomimeMR!$C102)>0,1,0)","v":0},null,null,null,null,null,null,{"$f":"SUM(E102,G102,I102)","v":0},0]
[{"$f":"Pantomime!A99","v":"V-501"},{"$f":"Pantomime!U99","v":0},{"$f":"Pantomime!S99","v":0},{"$f":"IF((PantomimeMR!$B103+PantomimeMR!$C103)>0,1,0)","v":0},null,null,null,null,null,null,{"$f":"SUM(E103,G103,I103)","v":0},0]
[{"$f":"Pantomime!A100","v":"V-502"},{"$f":"Pantomime!U100","v":0},{"$f":"Pantomime!S100","v":0},{"$f":"IF((PantomimeMR!$B104+PantomimeMR!$C104)>0,1,0)","v":0},null,null,null,null,null,null,{"$f":"SUM(E104,G104,I104)","v":0},0]
[{"$f":"Pantomime!A101","v":"V-503"},{"$f":"Pantomime!U101","v":0},{"$f":"Pantomime!S101","v":0},{"$f":"IF((PantomimeMR!$B105+PantomimeMR!$C105)>0,1,0)","v":0},null,null,null,null,null,null,{"$f":"SUM(E105,G105,I105)","v":0},0]
[{"$f":"Pantomime!A102","v":"V-504"},{"$f":"Pantomime!U102","v":0},{"$f":"Pantomime!S102","v":0},{"$f":"IF((PantomimeMR!$B106+PantomimeMR!$C106)>0,1,0)","v":0},null,null,null,null,null,null,{"$f":"SUM(E106,G106,I106)","v":0},0]
[{"$f":"Pantomime!A104","v":"W-501"},{"$f":"Pantomime!U104","v":0},{"$f":"Pantomime!S104","v":0},{"$f":"IF((PantomimeMR!$B107+PantomimeMR!$C107)>0,1,0)","v":0},null,null,null,null,null,null,{"$f":"SUM(E107,G107,I107)","v":0},0]
[{"$f":"Pantomime!A105","v":"W-502"},{"$f":"Pantomime!U105","v":0},{"$f":"Pantomime!S105","v":0},{"$f":"IF((PantomimeMR!$B108+PantomimeMR!$C108)>0,1,0)","v":0},null,null,null,null,null,null,{"$f":"SUM(E108,G108,I108)","v":0},0]
[{"$f":"Pantomime!A106","v":"W-503"},{"$f":"Pantomime!U106","v":0},{"$f":"Pantomime!S106","v":0},{"$f":"IF((PantomimeMR!$B109+PantomimeMR!$C109)>0,1,0)","v":0},null,null,null,null,null,null,{"$f":"SUM(E109,G109,I109)","v":0},0]
[{"$f":"Pantomime!A107","v":"W-504"},{"$f":"Pantomime!U107","v":0},{"$f":"Pantomime!S107","v":0},{"$f":"IF((PantomimeMR!$B110+PantomimeMR!$C110)>0,1,0)","v":0},null,null,null,null,null,null,{"$f":"SUM(E110,G110,I110)","v":0},0]
[{"$f":"Pantomime!A109","v":"X-501"},{"$f":"Pantomime!U109","v":0},{"$f":"Pantomime!S109","v":0},{"$f":"IF((PantomimeMR!$B111+PantomimeMR!$C111)>0,1,0)","v":0},null,null,null,null,null,null,{"$f":"SUM(E111,G111,I111)","v":0},0]
[{"$f":"Pantomime!A110","v":"X-502"},{"$f":"Pantomime!U110","v":0},{"$f":"Pantomime!S110","v":0},{"$f":"IF((PantomimeMR!$B112+PantomimeMR!$C112)>0,1,0)","v":0},null,null,null,null,null,null,{"$f":"SUM(E112,G112,I112)","v":0},0]
[{"$f":"Pantomime!A111","v":"X-503"},{"$f":"Pantomime!U111","v":0},{"$f":"Pantomime!S111","v":0},{"$f":"IF((PantomimeMR!$B113+PantomimeMR!$C113)>0,1,0)","v":0},null,null,null,null,null,null,{"$f":"SUM(E113,G113,I113)","v":0},0]
[{"$f":"Pantomime!A112","v":"X-504"},{"$f":"Pantomime!U112","v":0},{"$f":"Pantomime!S112","v":0},{"$f":"IF((PantomimeMR!$B114+PantomimeMR!$C114)>0,1,0)","v":0},null,null,null,null,null,null,{"$f":"SUM(E114,G114,I114)","v":0},0]
[{"$f":"Pantomime!A114","v":"Y-501"},{"$f":"Pantomime!U114","v":0},{"$f":"Pantomime!S114","v":0},{"$f":"IF((PantomimeMR!$B115+PantomimeMR!$C115)>0,1,0)","v":0},null,null,null,null,null,null,{"$f":"SUM(E115,G115,I115)","v":0},0]
[{"$f":"Pantomime!A115","v":"Y-502"},{"$f":"Pantomime!U115","v":0},{"$f":"Pantomime!S115","v":0},{"$f":"IF((PantomimeMR!$B116+PantomimeMR!$C116)>0,1,0)","v":0},null,null,null,null,null,null,{"$f":"SUM(E116,G116,I116)","v":0},0]
[{"$f":"Pantomime!A116","v":"Y-503"},{"$f":"Pantomime!U116","v":0},{"$f":"Pantomime!S116","v":0},{"$f":"IF((PantomimeMR!$B117+PantomimeMR!$C117)>0,1,0)","v":0},null,null,null,null,null,null,{"$f":"SUM(E117,G117,I117)","v":0},0]
[{"$f":"Pantomime!A117","v":"Y-504"},{"$f":"Pantomime!U117","v":0},{"$f":"Pantomime!S117","v":0},{"$f":"IF((PantomimeMR!$B118+PantomimeMR!$C118)>0,1,0)","v":0},null,null,null,null,null,null,{"$f":"SUM(E118,G118,I118)","v":0},0]
[{"$f":"Pantomime!A119","v":"Z-501"},{"$f":"Pantomime!U119","v":0},{"$f":"Pantomime!S119","v":0},{"$f":"IF((PantomimeMR!$B119+PantomimeMR!$C119)>0,1,0)","v":0},null,null,null,null,null,null,{"$f":"SUM(E119,G119,I119)","v":0},0]
[{"$f":"Pantomime!A120","v":"Z-502"},{"$f":"Pantomime!U120","v":0},{"$f":"Pantomime!S120","v":0},{"$f":"IF((PantomimeMR!$B120+PantomimeMR!$C120)>0,1,0)","v":0},null,null,null,null,null,null,{"$f":"SUM(E120,G120,I120)","v":0},0]
[{"$f":"Pantomime!A121","v":"Z-503"},{"$f":"Pantomime!U121","v":0},{"$f":"Pantomime!S121","v":0},{"$f":"IF((PantomimeMR!$B121+PantomimeMR!$C121)>0,1,0)","v":0},null,null,null,null,null,null,{"$f":"SUM(E121,G121,I121)","v":0},0]
[{"$f":"Pantomime!A122","v":"Z-504"},{"$f":"Pantomime!U122","v":0},{"$f":"Pantomime!S122","v":0},{"$f":"IF((PantomimeMR!$B122+PantomimeMR!$C122)>0,1,0)","v":0},null,null,null,null,null,null,{"$f":"SUM(E122,G122,I122)","v":0},0]

{"sheet":"MusicalTheatre","index":11,"n_rows":152,"n_cols":32,"rows_kept":152,"cut":false,"hidden":false,"merged":[[1,9,1,10]]}
["Musical Theatre",null,null,null,null,null,null,null,null,null,null,"Rank 1-4",null,null,null,null,null,null,null,null,null,null,null,null,"S","E","G","F",null,"1violation","2violations","3violations"]
[null,null,null,null,null,null,null,null,null,"*only need one of these",null,"Round 1:",null,"Round 2:",null,"Round 3:",null,"-2 for each",null,null,null,null,null,null,null,null,null,null,"Drops lowest from column q"]
[null,"Student Name",null,"Student Name",null,"Student Name",null,"Student Name",null,"Title of Piece","Title of Musical","R1 rank","R1 score","R2 rank","R2 score","R3 rank","R3 score","Time Violations",null,"TOTAL SCORE",null,"TOTAL RANK",null,null,"TOTAL SCHOOL SWEEPS POINTS",null,null,null,"Drop Lowest"]
["A-601","Kate","Stevens",null,null,null,null,null,null,"Fancy Meeting","Lucky Stiff",1.0,25.0,1.0,25.0,1.0,25.0,null,{"$f":"IF(R4=\"1violation\",-7*1,IF(R4=\"2violations\",-7*2,IF(R4=\"3violations\",-7*3,IF(R4=\"\",\"\"))))","v":""},{"$f":"SUM(M4,O4,Q4,S4)","v":75},null,{"$f":"SUM(L4,N4,P4)","v":3},null,null,null,{"$f":"SUM(T4,T6,T5,T7,-AC4)","v":219},null,null,{"$f":"MIN(T4:T7)","v":62}]
["A-602",null,"Lundeberg",null,"Schiffman",null,null,null,null,"Crazier than you","Addams Family",2.0,25.0,4.0,24.0,1.0,25.0,null,"",74,null,7]
["A-603",null,"Nordfelt",null,"Nipko",null,null,null,null,"Agony","Into the Woods",3.0,22.0,4.0,16.0,2.0,24.0,null,"",62,null,9]
["A-604",null,"Adams",null,"Worthington",null,"Mitsvotai",null,"Andreason","Beethoven Day","Charlie Brown",2.0,22.0,2.0,25.0,4.0,23.0,null,"",70,null,8]
[]
["B-601","Kennedy","Christensen",null,null,null,null,null,null,"Don't Rain",null,4.0,20.0,1.0,24.0,4.0,24.0,null,{"$f":"IF(R9=\"1violation\",-7*1,IF(R9=\"2violations\",-7*2,IF(R9=\"3violations\",-7*3,IF(R9=\"\",\"\"))))","v":""},{"$f":"SUM(M9,O9,Q9,S9)","v":68},null,{"$f":"SUM(L9,N9,P9)","v":9},null,null,null,{"$f":"SUM(T9,T11,T10,T12,-AC9)","v":141},null,null,{"$f":"MIN(T9:T12)","v":0}]
["B-602","Brynnleigh","Goodwin",null,null,null,null,null,null,"Dyin ait so bad",null,1.0,24.0,2.0,24.0,2.0,25.0,null,"",73,null,5]
["B-603",null,null,null,null,null,null,null,null,null,null,null,null,null,null,null,null,null,"",0,null,0]
["B-604",null,null,null,null,null,null,null,null,null,null,null,null,null,null,null,null,null,"",0,null,0]
[]
["C-601",null,"Rasmussen",null,"Hadlock",null,"Bess",null,"Frint","Gone, Gone","Tootsie",1.0,23.0,1.0,24.0,1.0,25.0,null,{"$f":"IF(R14=\"1violation\",-7*1,IF(R14=\"2violations\",-7*2,IF(R14=\"3violations\",-7*3,IF(R14=\"\",\"\"))))","v":""},{"$f":"SUM(M14,O14,Q14,S14)","v":72},null,{"$f":"SUM(L14,N14,P14)","v":3},null,null,null,{"$f":"SUM(T14,T16,T15,T17,-AC14)","v":219},null,null,{"$f":"MIN(T14:T17)","v":69}]
["C-602",null,"Sorenson",null,"Costello",null,"Woodland",null,"Quick","Welcome to Ren","Something Rotten",3.0,22.0,1.0,24.0,4.0,23.0,null,"",69,null,8]
["C-603",null,"Sims",null,"Jorgensen",null,"Frint",null,null,"High Adventure","Alladin",1.0,25.0,2.0,25.0,2.0,25.0,null,"",75,null,5]
["C-604",null,"Wells",null,"Hawley",null,null,null,null,"One Look at you","Band Geeks",2.0,24.0,2.0,25.0,3.0,23.0,null,"",72,null,7]
[]
["D-601",null,null,null,null,null,null,null,null,null,null,null,null,null,null,null,null,null,{"$f":"IF(R19=\"1violation\",-7*1,IF(R19=\"2violations\",-7*2,IF(R19=\"3violations\",-7*3,IF(R19=\"\",\"\"))))","v":""},{"$f":"SUM(M19,O19,Q19,S19)","v":0},null,{"$f":"SUM(L19,N19,P19)","v":0},null,null,null,{"$f":"SUM(T19,T21,T20,T22,-AC19)","v":0},null,null,{"$f":"MIN(T19:T22)","v":0}]
["D-602",null,null,null,null,null,null,null,null,null,null,null,null,null,null,null,null,null,"",0,null,0]
["D-603",null,null,null,null,null,null,null,null,null,null,null,null,null,null,null,null,null,"",0,null,0]
["D-604",null,null,null,null,null,null,null,null,null,null,null,null,null,null,null,null,null,"",0,null,0]
[]
["E-601","Jayden","Leithead",null,null,null,null,null,null,"Proud of your Boy","Alladin",null,null,null,null,null,null,null,{"$f":"IF(R24=\"1violation\",-7*1,IF(R24=\"2violations\",-7*2,IF(R24=\"3violations\",-7*3,IF(R24=\"\",\"\"))))","v":""},{"$f":"SUM(M24,O24,Q24,S24)","v":0},null,{"$f":"SUM(L24,N24,P24)","v":0},null,null,null,{"$f":"SUM(T24,T26,T25,T27,-AC24)","v":131},null,null,{"$f":"MIN(T24:T27)","v":0}]
["E-602","Charly","Petersen",null,null,null,null,null,null,"I'd Rather be Me","Mean Girls",3.0,21.0,3.0,25.0,1.0,24.0,null,"",70,null,7]
["E-603","Taylor","Leavitt",null,null,null,null,null,null,"Just the Man","Epic",3.0,22.0,3.0,20.0,4.0,19.0,null,"",61,null,10]
["E-604",null,null,null,null,null,null,null,null,null,null,null,null,null,null,null,null,null,"",0,null,0]
[]
["F-601","Sarah"," Bennett",null,null,null,null,null,null,"Lost in Brass","Band Geeks",1.0,25.0,1.0,25.0,1.0,25.0,null,{"$f":"IF(R29=\"1violation\",-7*1,IF(R29=\"2violations\",-7*2,IF(R29=\"3violations\",-7*3,IF(R29=\"\",\"\"))))","v":""},{"$f":"SUM(M29,O29,Q29,S29)","v":75},null,{"$f":"SUM(L29,N29,P29)","v":3},null,null,null,{"$f":"SUM(T29,T31,T30,T32,-AC29)","v":212},null,null,{"$f":"MIN(T29:T32)","v":67}]
["F-602",null,"Back",null,"Ellis",null,"Murphy",null,null,"Heart full of Love","Les Mis",1.0,23.0,4.0,22.0,2.0,24.0,null,"",69,null,7]
["F-603","Evan","Ellis",null,null,null,null,null,null,"Being Alive","Company",1.0,25.0,1.0,24.0,4.0,19.0,null,"",68,null,6]
["F-604",null,"Fuentes",null,"Pollock",null,null,null,null,"Ready Set","Beetlejuice",4.0,21.0,2.0,22.0,3.0,24.0,null,"",67,null,9]
[]
["G-601","Aislyn","Whitney",null,null,null,null,null,null,"Out Tonight","Rent",4.0,18.0,4.0,22.0,4.0,19.0,null,{"$f":"IF(R34=\"1violation\",-7*1,IF(R34=\"2violations\",-7*2,IF(R34=\"3violations\",-7*3,IF(R34=\"\",\"\"))))","v":""},{"$f":"SUM(M34,O34,Q34,S34)","v":59},null,{"$f":"SUM(L34,N34,P34)","v":12},null,null,null,{"$f":"SUM(T34,T36,T35,T37,-AC34)","v":127},null,null,{"$f":"MIN(T34:T37)","v":0}]
["G-602","Katie","Wakefield",null,null,null,null,null,null,"Shy","Once Mattress",2.0,23.0,4.0,23.0,4.0,22.0,null,"",68,null,10]
["G-603",null,null,null,null,null,null,null,null,null,null,null,null,null,null,null,null,null,"",0,null,0]
["G-604",null,null,null,null,null,null,null,null,null,null,null,null,null,null,null,null,null,"",0,null,0]
[]
["H-601","Ivy","Colbert",null,null,null,null,null,null,"Astonishing","Little Women",1.0,25.0,1.0,25.0,1.0,25.0,null,{"$f":"IF(R39=\"1violation\",-7*1,IF(R39=\"2violations\",-7*2,IF(R39=\"3violations\",-7*3,IF(R39=\"\",\"\"))))","v":""},{"$f":"SUM(M39,O39,Q39,S39)","v":75},null,{"$f":"SUM(L39,N39,P39)","v":3},null,null,null,{"$f":"SUM(T39,T41,T40,T42,-AC39)","v":219},null,null,{"$f":"MIN(T39:T42)","v":71}]
["H-602",null,"Pangan",null,"Thatcher",null,"Paul",null,null,"I've Decided to Marry","Gentleman's Guide",2.0,22.0,2.0,24.0,3.0,25.0,null,"",71,null,7]
["H-603",null,"Barrick",null,"Fawson",null,"Rushton",null,"Sowards","Suddenly Seymore","Little Shop",2.0,24.0,4.0,24.0,1.0,25.0,null,"",73,null,7]
["H-604",null,"Sowards",null,"Rowley",null,"Dunn",null,"Haley","Snuff that Girl","Urinetown",3.0,21.0,1.0,25.0,3.0,25.0,null,"",71,null,7]
[]
["J-601","Rebekah","Thorn",null,null,null,null,null,null,"Spark","Children of Eden",2.0,23.0,1.0,25.0,2.0,25.0,null,{"$f":"IF(R44=\"1violation\",-7*1,IF(R44=\"2violations\",-7*2,IF(R44=\"3violations\",-7*3,IF(R44=\"\",\"\"))))","v":""},{"$f":"SUM(M44,O44,Q44,S44)","v":73},null,{"$f":"SUM(L44,N44,P44)","v":5},null,null,null,{"$f":"SUM(T44,T46,T45,T47,-AC44)","v":142},null,null,{"$f":"MIN(T44:T47)","v":0}]
["J-602","Madison","Carle",null,null,null,null,null,null,"Gotta Get out",null,3.0,23.0,4.0,23.0,3.0,23.0,null,"",69,null,10]
["J-603","Vashti","Coray",null,null,null,null,null,null,"Beauty is",null,null,null,null,null,null,null,null,"",0,null,0]
["J-604",null,null,null,null,null,null,null,null,null,null,null,null,null,null,null,null,null,"",0,null,0]
[]
["K-601","Cheryll","Cordell",null,null,null,null,null,null,"Could I leave you",null,4.0,20.0,4.0,20.0,4.0,22.0,null,{"$f":"IF(R49=\"1violation\",-7*1,IF(R49=\"2violations\",-7*2,IF(R49=\"3violations\",-7*3,IF(R49=\"\",\"\"))))","v":""},{"$f":"SUM(M49,O49,Q49,S49)","v":62},null,{"$f":"SUM(L49,N49,P49)","v":12},null,null,null,{"$f":"SUM(T49,T51,T50,T52,-AC49)","v":132},null,null,{"$f":"MIN(T49:T52)","v":0}]
["K-602",null,"Shemwell",null,"Baker",null,"Johnston",null,"Swick","Smell of Rebellion",null,3.0,23.0,3.0,24.0,2.0,23.0,null,"",70,null,8]
["K-603",null,null,null,null,null,null,null,null,null,null,null,null,null,null,null,null,null,"",0,null,0]
["K-604",null,null,null,null,null,null,null,null,null,null,null,null,null,null,null,null,null,"",0,null,0]
[]
["L-601",null,"Dart",null,"Holm",null,null,null,null,"And Eve Was weak","Carrie",4.0,20.0,3.0,22.0,4.0,25.0,null,{"$f":"IF(R54=\"1violation\",-7*1,IF(R54=\"2violations\",-7*2,IF(R54=\"3violations\",-7*3,IF(R54=\"\",\"\"))))","v":""},{"$f":"SUM(M54,O54,Q54,S54)","v":67},null,{"$f":"SUM(L54,N54,P54)","v":11},null,null,null,{"$f":"SUM(T54,T56,T55,T57,-AC54)","v":206},null,null,{"$f":"MIN(T54:T57)","v":66}]
["L-602","Andrus","Daniel",null,null,null,null,null,null,"Gotta Die","Falsettos",3.0,21.0,2.0,24.0,2.0,25.0,null,"",70,null,7]
["L-603","TKiah","McArthur",null,null,null,null,null,null,"Perfect Relationship",null,2.0,23.0,4.0,20.0,4.0,23.0,null,"",66,null,10]
["L-604","Alexzaia","Arno",null,null,null,null,null,null,"Diva's Lament","Spamalot",2.0,24.0,4.0,23.0,3.0,22.0,null,"",69,null,9]
[]
["M-601","Danika","Farley",null,null,null,null,null,null,"He was my Boyfriend","Mel Brooks",3.0,23.0,2.0,25.0,1.0,24.0,null,{"$f":"IF(R59=\"1violation\",-7*1,IF(R59=\"2violations\",-7*2,IF(R59=\"3violations\",-7*3,IF(R59=\"\",\"\"))))","v":""},{"$f":"SUM(M59,O59,Q59,S59)","v":72},null,{"$f":"SUM(L59,N59,P59)","v":6},null,null,null,{"$f":"SUM(T59,T61,T60,T62,-AC59)","v":208},null,null,{"$f":"MIN(T59:T62)","v":0}]
["M-602",null,"Sorensen",null,"Laws",null,null,null,null,"A little Fall","Les mis",4.0,21.0,4.0,24.0,4.0,24.0,null,"",69,null,12]
["M-603","Charity","Jewkes",null,null,null,null,null,null,"Don't Rain","Funny Girl",4.0,21.0,4.0,22.0,1.0,24.0,null,"",67,null,9]
["M-604",null,null,null,null,null,null,null,null,null,null,null,null,null,null,null,null,null,"",0,null,0]
[]
["N-601",null,"Jones",null,"Porras",null,"Adams",null,"Livingston","Say My Name","Beetlejuice",1.0,24.0,4.0,22.0,4.0,19.0,null,{"$f":"IF(R64=\"1violation\",-7*1,IF(R64=\"2violations\",-7*2,IF(R64=\"3violations\",-7*3,IF(R64=\"\",\"\"))))","v":""},{"$f":"SUM(M64,O64,Q64,S64)","v":65},null,{"$f":"SUM(L64,N64,P64)","v":9},null,null,null,{"$f":"SUM(T64,T66,T65,T67,-AC64)","v":193},null,null,{"$f":"MIN(T64:T67)","v":0}]
["N-602","Brooklyn","Stubbs",null,null,null,null,null,null,"I could've Danced","My Fair Lady",4.0,20.0,4.0,19.0,3.0,24.0,null,"",63,null,11]
["N-603","Madalyn","Stott",null,null,null,null,null,null,"Stupid with Love","Mean Girls",4.0,22.0,3.0,24.0,4.0,19.0,null,"",65,null,11]
["N-604",null,null,null,null,null,null,null,null,null,null,null,null,null,null,null,null,null,"",0,null,0]
[]
["P-601","Kenna","Cook",null,null,null,null,null,null,"With You",null,4.0,18.0,3.0,24.0,2.0,22.0,null,{"$f":"IF(R69=\"1violation\",-7*1,IF(R69=\"2violations\",-7*2,IF(R69=\"3violations\",-7*3,IF(R69=\"\",\"\"))))","v":""},{"$f":"SUM(M69,O69,Q69,S69)","v":64},null,{"$f":"SUM(L69,N69,P69)","v":9},null,null,null,{"$f":"SUM(T69,T71,T70,T72,-AC69)","v":218},null,null,{"$f":"MIN(T69:T72)","v":64}]
["P-602",null,"Stavros",null,"Smith",null,null,null,null,"Babbling Brooke",null,4.0,23.0,3.0,25.0,3.0,24.0,null,"",72,null,10]
["P-603","Haven ","Caldwell",null,null,null,null,null,null,"Adelaides Lament","Guys and Dolls",2.0,25.0,3.0,25.0,2.0,25.0,null,"",75,null,7]
["P-604","Michael","Larsen",null,null,null,null,null,null,"Don't Let Me go","Shrek",4.0,22.0,4.0,24.0,2.0,25.0,null,"",71,null,10]
[]
["Q-601",null,null,null,null,null,null,null,null,null,null,null,null,null,null,null,null,null,{"$f":"IF(R74=\"1violation\",-7*1,IF(R74=\"2violations\",-7*2,IF(R74=\"3violations\",-7*3,IF(R74=\"\",\"\"))))","v":""},{"$f":"SUM(M74,O74,Q74,S74)","v":0},null,{"$f":"SUM(L74,N74,P74)","v":0},null,null,null,{"$f":"SUM(T74,T76,T75,T77,-AC74)","v":0},null,null,{"$f":"MIN(T74:T77)","v":0}]
["Q-602",null,null,null,null,null,null,null,null,null,null,null,null,null,null,null,null,null,"",0,null,0]
["Q-603",null,null,null,null,null,null,null,null,null,null,null,null,null,null,null,null,null,"",0,null,0]
["Q-604",null,null,null,null,null,null,null,null,null,null,null,null,null,null,null,null,null,"",0,null,0]
[]
["R-601",null,"Bedingfield",null,"Weis",null,null,null,null,"Sunday in Park","Sondheim",4.0,23.0,2.0,25.0,1.0,25.0,null,{"$f":"IF(R79=\"1violation\",-7*1,IF(R79=\"2violations\",-7*2,IF(R79=\"3violations\",-7*3,IF(R79=\"\",\"\"))))","v":""},{"$f":"SUM(M79,O79,Q79,S79)","v":73},null,{"$f":"SUM(L79,N79,P79)","v":7},null,null,null,{"$f":"SUM(T79,T81,T80,T82,-AC79)","v":192},null,null,{"$f":"MIN(T79:T82)","v":0}]
["R-602",null,"Keddington",null,"Thornell",null,null,null,null,"All I ask","Phantom",4.0,15.0,1.0,21.0,4.0,22.0,null,"",58,null,9]
["R-603","Gabriel","Whitmer",null,null,null,null,null,null,"How it ends","Big Fish",4.0,18.0,4.0,23.0,3.0,20.0,null,"",61,null,11]
["R-604",null,null,null,null,null,null,null,null,null,null,null,null,null,null,null,null,null,"",0,null,0]
[]
["S-601",null,"Burton",null,"Dalton",null,"Thomsen",null,null,"I've Decided to Marry you",null,1.0,25.0,2.0,23.0,4.0,22.0,null,{"$f":"IF(R84=\"1violation\",-7*1,IF(R84=\"2violations\",-7*2,IF(R84=\"3violations\",-7*3,IF(R84=\"\",\"\"))))","v":""},{"$f":"SUM(M84,O84,Q84,S84)","v":70},null,{"$f":"SUM(L84,N84,P84)","v":7},null,null,null,{"$f":"SUM(T84,T86,T85,T87,-AC84)","v":203},null,null,{"$f":"MIN(T84:T87)","v":0}]
["S-602","Courtney","Chambers",null,null,null,null,null,null,"One Perfect moment",null,3.0,24.0,2.0,20.0,4.0,24.0,null,"",68,null,9]
["S-603","Aubrey","Ewer",null,null,null,null,null,null,"Shopping Around",null,4.0,22.0,3.0,21.0,3.0,22.0,null,"",65,null,10]
["S-604",null,null,null,null,null,null,null,null,null,null,null,null,null,null,null,null,null,"",0,null,0]
[]
["T-601",null,null,null,null,null,null,null,null,null,null,null,null,null,null,null,null,null,{"$f":"IF(R89=\"1violation\",-7*1,IF(R89=\"2violations\",-7*2,IF(R89=\"3violations\",-7*3,IF(R89=\"\",\"\"))))","v":""},{"$f":"SUM(M89,O89,Q89,S89)","v":0},null,{"$f":"SUM(L89,N89,P89)","v":0},null,null,null,{"$f":"SUM(T89,T91,T90,T92,-AC89)","v":0},null,null,{"$f":"MIN(T89:T92)","v":0}]
["T-602",null,null,null,null,null,null,null,null,null,null,null,null,null,null,null,null,null,"",0,null,0]
["T-603",null,null,null,null,null,null,null,null,null,null,null,null,null,null,null,null,null,"",0,null,0]
["T-604",null,null,null,null,null,null,null,null,null,null,null,null,null,null,null,null,null,"",0,null,0]
[]
["U-601",null,null,null,null,null,null,null,null,null,null,null,null,null,null,null,null,null,{"$f":"IF(R94=\"1violation\",-7*1,IF(R94=\"2violations\",-7*2,IF(R94=\"3violations\",-7*3,IF(R94=\"\",\"\"))))","v":""},{"$f":"SUM(M94,O94,Q94,S94)","v":0},null,{"$f":"SUM(L94,N94,P94)","v":0},null,null,null,{"$f":"SUM(T94,T96,T95,T97,-AC94)","v":0},null,null,{"$f":"MIN(T94:T97)","v":0}]
["U-602",null,null,null,null,null,null,null,null,null,null,null,null,null,null,null,null,null,"",0,null,0]
["U-603",null,null,null,null,null,null,null,null,null,null,null,null,null,null,null,null,null,"",0,null,0]
["U-604",null,null,null,null,null,null,null,null,null,null,null,null,null,null,null,null,null,"",0,null,0]
[]
["V-601",null,null,null,null,null,null,null,null,null,null,null,null,null,null,null,null,null,{"$f":"IF(R99=\"1violation\",-7*1,IF(R99=\"2violations\",-7*2,IF(R99=\"3violations\",-7*3,IF(R99=\"\",\"\"))))","v":""},{"$f":"SUM(M99,O99,Q99,S99)","v":0},null,{"$f":"SUM(L99,N99,P99)","v":0},null,null,null,{"$f":"SUM(T99,T101,T100,T102,-AC99)","v":0},null,null,{"$f":"MIN(T99:T102)","v":0}]
["V-602",null,null,null,null,null,null,null,null,null,null,null,null,null,null,null,null,null,"",0,null,0]
["V-603",null,null,null,null,null,null,null,null,null,null,null,null,null,null,null,null,null,"",0,null,0]
["V-604",null,null,null,null,null,null,null,null,null,null,null,null,null,null,null,null,null,"",0,null,0]
[]
["W-601",null,null,null,null,null,null,null,null,null,null,null,null,null,null,null,null,null,{"$f":"IF(R104=\"1violation\",-7*1,IF(R104=\"2violations\",-7*2,IF(R104=\"3violations\",-7*3,IF(R104=\"\",\"\"))))","v":""},{"$f":"SUM(M104,O104,Q104,S104)","v":0},null,{"$f":"SUM(L104,N104,P104)","v":0},null,null,null,{"$f":"SUM(T104,T106,T105,T107,-AC104)","v":0},null,null,{"$f":"MIN(T104:T107)","v":0}]
["W-602",null,null,null,null,null,null,null,null,null,null,null,null,null,null,null,null,null,"",0,null,0]
["W-603",null,null,null,null,null,null,null,null,null,null,null,null,null,null,null,null,null,"",0,null,0]
["W-604",null,null,null,null,null,null,null,null,null,null,null,null,null,null,null,null,null,"",0,null,0]
[]
["X-601",null,null,null,null,null,null,null,null,null,null,null,null,null,null,null,null,null,{"$f":"IF(R109=\"1violation\",-7*1,IF(R109=\"2violations\",-7*2,IF(R109=\"3violations\",-7*3,IF(R109=\"\",\"\"))))","v":""},{"$f":"SUM(M109,O109,Q109,S109)","v":0},null,{"$f":"SUM(L109,N109,P109)","v":0},null,null,null,{"$f":"SUM(T109,T111,T110,T112,-AC109)","v":0},null,null,{"$f":"MIN(T109:T112)","v":0}]
["X-602",null,null,null,null,null,null,null,null,null,null,null,null,null,null,null,null,null,"",0,null,0]
["X-603",null,null,null,null,null,null,null,null,null,null,null,null,null,null,null,null,null,"",0,null,0]
["X-604",null,null,null,null,null,null,null,null,null,null,null,null,null,null,null,null,null,"",0,null,0]
[]
["Y-601",null,null,null,null,null,null,null,null,null,null,null,null,null,null,null,null,null,{"$f":"IF(R114=\"1violation\",-7*1,IF(R114=\"2violations\",-7*2,IF(R114=\"3violations\",-7*3,IF(R114=\"\",\"\"))))","v":""},{"$f":"SUM(M114,O114,Q114,S114)","v":0},null,{"$f":"SUM(L114,N114,P114)","v":0},null,null,null,{"$f":"SUM(T114,T116,T115,T117,-AC114)","v":0},null,null,{"$f":"MIN(T114:T117)","v":0}]
["Y-602",null,null,null,null,null,null,null,null,null,null,null,null,null,null,null,null,null,"",0,null,0]
["Y-603",null,null,null,null,null,null,null,null,null,null,null,null,null,null,null,null,null,"",0,null,0]
["Y-604",null,null,null,null,null,null,null,null,null,null,null,null,null,null,null,null,null,"",0,null,0]
[]
["Z-601",null,null,null,null,null,null,null,null,null,null,null,null,null,null,null,null,null,{"$f":"IF(R119=\"1violation\",-7*1,IF(R119=\"2violations\",-7*2,IF(R119=\"3violations\",-7*3,IF(R119=\"\",\"\"))))","v":""},{"$f":"SUM(M119,O119,Q119,S119)","v":0},null,{"$f":"SUM(L119,N119,P119)","v":0},null,null,null,{"$f":"SUM(T119,T121,T120,T122,-AC119)","v":0},null,null,{"$f":"MIN(T119:T122)","v":0}]
["Z-602",null,null,null,null,null,null,null,null,null,null,null,null,null,null,null,null,null,"",0,null,0]
["Z-603",null,null,null,null,null,null,null,null,null,null,null,null,null,null,null,null,null,"",0,null,0]
["Z-604",null,null,null,null,null,null,null,null,null,null,null,null,null,null,null,null,null,"",0,null,0]
[]
["AA-601",null,null,null,null,null,null,null,null,null,null,null,null,null,null,null,null,null,{"$f":"IF(R124=\"1violation\",-7*1,IF(R124=\"2violations\",-7*2,IF(R124=\"3violations\",-7*3,IF(R124=\"\",\"\"))))","v":""},{"$f":"SUM(M124,O124,Q124,S124)","v":0},null,{"$f":"SUM(L124,N124,P124)","v":0},null,null,null,{"$f":"SUM(T124,T126,T125,T127,-AC124)","v":0},null,null,{"$f":"MIN(T124:T127)","v":0}]
["AA-602",null,null,null,null,null,null,null,null,null,null,null,null,null,null,null,null,null,"",0,null,0]
["AA-603",null,null,null,null,null,null,null,null,null,null,null,null,null,null,null,null,null,"",0,null,0]
["AA-604",null,null,null,null,null,null,null,null,null,null,null,null,null,null,null,null,null,"",0,null,0]
[]
["BB-601",null,null,null,null,null,null,null,null,null,null,null,null,null,null,null,null,null,{"$f":"IF(R129=\"1violation\",-7*1,IF(R129=\"2violations\",-7*2,IF(R129=\"3violations\",-7*3,IF(R129=\"\",\"\"))))","v":""},{"$f":"SUM(M129,O129,Q129,S129)","v":0},null,{"$f":"SUM(L129,N129,P129)","v":0},null,null,null,{"$f":"SUM(T129,T131,T130,T132,-AC129)","v":0},null,null,{"$f":"MIN(T129:T132)","v":0}]
["BB-602",null,null,null,null,null,null,null,null,null,null,null,null,null,null,null,null,null,"",0,null,0]
["BB-603",null,null,null,null,null,null,null,null,null,null,null,null,null,null,null,null,null,"",0,null,0]
["BB-604",null,null,null,null,null,null,null,null,null,null,null,null,null,null,null,null,null,"",0,null,0]
[]
["CC-601",null,null,null,null,null,null,null,null,null,null,null,null,null,null,null,null,null,{"$f":"IF(R134=\"1violation\",-7*1,IF(R134=\"2violations\",-7*2,IF(R134=\"3violations\",-7*3,IF(R134=\"\",\"\"))))","v":""},{"$f":"SUM(M134,O134,Q134,S134)","v":0},null,{"$f":"SUM(L134,N134,P134)","v":0},null,null,null,{"$f":"SUM(T134,T136,T135,T137,-AC134)","v":0},null,null,{"$f":"MIN(T134:T137)","v":0}]
["CC-602",null,null,null,null,null,null,null,null,null,null,null,null,null,null,null,null,null,"",0,null,0]
["CC-603",null,null,null,null,null,null,null,null,null,null,null,null,null,null,null,null,null,"",0,null,0]
["CC-604",null,null,null,null,null,null,null,null,null,null,null,null,null,null,null,null,null,"",0,null,0]
[]
["DD-601",null,null,null,null,null,null,null,null,null,null,null,null,null,null,null,null,null,{"$f":"IF(R139=\"1violation\",-7*1,IF(R139=\"2violations\",-7*2,IF(R139=\"3violations\",-7*3,IF(R139=\"\",\"\"))))","v":""},{"$f":"SUM(M139,O139,Q139,S139)","v":0},null,{"$f":"SUM(L139,N139,P139)","v":0},null,null,null,{"$f":"SUM(T139,T141,T140,T142,-AC139)","v":0},null,null,{"$f":"MIN(T139:T142)","v":0}]
["DD-602",null,null,null,null,null,null,null,null,null,null,null,null,null,null,null,null,null,"",0,null,0]
["DD-603",null,null,null,null,null,null,null,null,null,null,null,null,null,null,null,null,null,"",0,null,0]
["DD-604",null,null,null,null,null,null,null,null,null,null,null,null,null,null,null,null,null,"",0,null,0]
[]
["EE-601",null,null,null,null,null,null,null,null,null,null,null,null,null,null,null,null,null,{"$f":"IF(R144=\"1violation\",-7*1,IF(R144=\"2violations\",-7*2,IF(R144=\"3violations\",-7*3,IF(R144=\"\",\"\"))))","v":""},{"$f":"SUM(M144,O144,Q144,S144)","v":0},null,{"$f":"SUM(L144,N144,P144)","v":0},null,null,null,{"$f":"SUM(T144,T146,T145,T147,-AC144)","v":0},null,null,{"$f":"MIN(T144:T147)","v":0}]
["EE-602",null,null,null,null,null,null,null,null,null,null,null,null,null,null,null,null,null,"",0,null,0]
["EE-603",null,null,null,null,null,null,null,null,null,null,null,null,null,null,null,null,null,"",0,null,0]
["EE-604",null,null,null,null,null,null,null,null,null,null,null,null,null,null,null,null,null,"",0,null,0]
[]
["FF-601",null,null,null,null,null,null,null,null,null,null,null,null,null,null,null,null,null,{"$f":"IF(R149=\"1violation\",-7*1,IF(R149=\"2violations\",-7*2,IF(R149=\"3violations\",-7*3,IF(R149=\"\",\"\"))))","v":""},{"$f":"SUM(M149,O149,Q149,S149)","v":0},null,{"$f":"SUM(L149,N149,P149)","v":0},null,null,null,{"$f":"SUM(T149,T151,T150,T152,-AC149)","v":0},null,null,{"$f":"MIN(T149:T152)","v":0}]
["FF-602",null,null,null,null,null,null,null,null,null,null,null,null,null,null,null,null,null,"",0,null,0]
["FF-603",null,null,null,null,null,null,null,null,null,null,null,null,null,null,null,null,null,"",0,null,0]
["FF-604",null,null,null,null,null,null,null,null,null,null,null,null,null,null,null,null,null,"",0,null,0]

{"sheet":"MusicalTheatreMR","index":12,"n_rows":122,"n_cols":12,"rows_kept":122,"cut":false,"hidden":false,"merged":[]}
["Musical Theatre",null,null,null,"Finals Medals Round Scores"]
["ID","Rank","Score","LeaveBlank","MR 1 Rank","MR 1 Score","MR2 Rank","MR 2 Score","MR3 Rank","MR 3 Score","Total MR Rank","Total MR Score"]
[{"$f":"MusicalTheatre!A4","v":"A-601"},{"$f":"MusicalTheatre!V4","v":3},{"$f":"MusicalTheatre!T4","v":75},{"$f":"IF((MusicalTheatreMR!$B3+MusicalTheatreMR!$C3)>0,1,0)","v":1},1.0,25.0,1.0,25.0,3.0,25.0,{"$f":"SUM(E3,G3,I3)","v":5},75]
[{"$f":"MusicalTheatre!A5","v":"A-602"},{"$f":"MusicalTheatre!V5","v":7},{"$f":"MusicalTheatre!T5","v":74},{"$f":"IF((MusicalTheatreMR!$B4+MusicalTheatreMR!$C4)>0,1,0)","v":1},null,null,null,null,null,null,{"$f":"SUM(E4,G4,I4)","v":0},0]
[{"$f":"MusicalTheatre!A6","v":"A-603"},{"$f":"MusicalTheatre!V6","v":9},{"$f":"MusicalTheatre!T6","v":62},{"$f":"IF((MusicalTheatreMR!$B5+MusicalTheatreMR!$C5)>0,1,0)","v":1},null,null,null,null,null,null,{"$f":"SUM(E5,G5,I5)","v":0},0]
[{"$f":"MusicalTheatre!A7","v":"A-604"},{"$f":"MusicalTheatre!V7","v":8},{"$f":"MusicalTheatre!T7","v":70},{"$f":"IF((MusicalTheatreMR!$B6+MusicalTheatreMR!$C6)>0,1,0)","v":1},null,null,null,null,null,null,{"$f":"SUM(E6,G6,I6)","v":0},0]
[{"$f":"MusicalTheatre!A124","v":"AA-601"},{"$f":"MusicalTheatre!V124","v":0},{"$f":"MusicalTheatre!T124","v":0},{"$f":"IF((MusicalTheatreMR!$B7+MusicalTheatreMR!$C7)>0,1,0)","v":0},null,null,null,null,null,null,{"$f":"SUM(E7,G7,I7)","v":0},0]
[{"$f":"MusicalTheatre!A125","v":"AA-602"},{"$f":"MusicalTheatre!V125","v":0},{"$f":"MusicalTheatre!T125","v":0},{"$f":"IF((MusicalTheatreMR!$B8+MusicalTheatreMR!$C8)>0,1,0)","v":0},null,null,null,null,null,null,{"$f":"SUM(E8,G8,I8)","v":0},0]
[{"$f":"MusicalTheatre!A126","v":"AA-603"},{"$f":"MusicalTheatre!V126","v":0},{"$f":"MusicalTheatre!T126","v":0},{"$f":"IF((MusicalTheatreMR!$B9+MusicalTheatreMR!$C9)>0,1,0)","v":0},null,null,null,null,null,null,{"$f":"SUM(E9,G9,I9)","v":0},0]
[{"$f":"MusicalTheatre!A127","v":"AA-604"},{"$f":"MusicalTheatre!V127","v":0},{"$f":"MusicalTheatre!T127","v":0},{"$f":"IF((MusicalTheatreMR!$B10+MusicalTheatreMR!$C10)>0,1,0)","v":0},null,null,null,null,null,null,{"$f":"SUM(E10,G10,I10)","v":0},0]
[{"$f":"MusicalTheatre!A9","v":"B-601"},{"$f":"MusicalTheatre!V9","v":9},{"$f":"MusicalTheatre!T9","v":68},{"$f":"IF((MusicalTheatreMR!$B11+MusicalTheatreMR!$C11)>0,1,0)","v":1},null,null,null,null,null,null,{"$f":"SUM(E11,G11,I11)","v":0},0]
[{"$f":"MusicalTheatre!A10","v":"B-602"},{"$f":"MusicalTheatre!V10","v":5},{"$f":"MusicalTheatre!T10","v":73},{"$f":"IF((MusicalTheatreMR!$B12+MusicalTheatreMR!$C12)>0,1,0)","v":1},null,null,null,null,null,null,{"$f":"SUM(E12,G12,I12)","v":0},0]
[{"$f":"MusicalTheatre!A11","v":"B-603"},{"$f":"MusicalTheatre!V11","v":0},{"$f":"MusicalTheatre!T11","v":0},{"$f":"IF((MusicalTheatreMR!$B13+MusicalTheatreMR!$C13)>0,1,0)","v":0},null,null,null,null,null,null,{"$f":"SUM(E13,G13,I13)","v":0},0]
[{"$f":"MusicalTheatre!A12","v":"B-604"},{"$f":"MusicalTheatre!V12","v":0},{"$f":"MusicalTheatre!T12","v":0},{"$f":"IF((MusicalTheatreMR!$B14+MusicalTheatreMR!$C14)>0,1,0)","v":0},null,null,null,null,null,null,{"$f":"SUM(E14,G14,I14)","v":0},0]
[{"$f":"MusicalTheatre!A129","v":"BB-601"},{"$f":"MusicalTheatre!V129","v":0},{"$f":"MusicalTheatre!T129","v":0},{"$f":"IF((MusicalTheatreMR!$B15+MusicalTheatreMR!$C15)>0,1,0)","v":0},null,null,null,null,null,null,{"$f":"SUM(E15,G15,I15)","v":0},0]
[{"$f":"MusicalTheatre!A130","v":"BB-602"},{"$f":"MusicalTheatre!V130","v":0},{"$f":"MusicalTheatre!T130","v":0},{"$f":"IF((MusicalTheatreMR!$B16+MusicalTheatreMR!$C16)>0,1,0)","v":0},null,null,null,null,null,null,{"$f":"SUM(E16,G16,I16)","v":0},0]
[{"$f":"MusicalTheatre!A131","v":"BB-603"},{"$f":"MusicalTheatre!V131","v":0},{"$f":"MusicalTheatre!T131","v":0},{"$f":"IF((MusicalTheatreMR!$B17+MusicalTheatreMR!$C17)>0,1,0)","v":0},null,null,null,null,null,null,{"$f":"SUM(E17,G17,I17)","v":0},0]
[{"$f":"MusicalTheatre!A132","v":"BB-604"},{"$f":"MusicalTheatre!V132","v":0},{"$f":"MusicalTheatre!T132","v":0},{"$f":"IF((MusicalTheatreMR!$B18+MusicalTheatreMR!$C18)>0,1,0)","v":0},null,null,null,null,null,null,{"$f":"SUM(E18,G18,I18)","v":0},0]
[{"$f":"MusicalTheatre!A14","v":"C-601"},{"$f":"MusicalTheatre!V14","v":3},{"$f":"MusicalTheatre!T14","v":72},{"$f":"IF((MusicalTheatreMR!$B19+MusicalTheatreMR!$C19)>0,1,0)","v":1},2.0,25.0,6.0,21.0,4.0,25.0,{"$f":"SUM(E19,G19,I19)","v":12},71]
[{"$f":"MusicalTheatre!A15","v":"C-602"},{"$f":"MusicalTheatre!V15","v":8},{"$f":"MusicalTheatre!T15","v":69},{"$f":"IF((MusicalTheatreMR!$B20+MusicalTheatreMR!$C20)>0,1,0)","v":1},null,null,null,null,null,null,{"$f":"SUM(E20,G20,I20)","v":0},0]
[{"$f":"MusicalTheatre!A16","v":"C-603"},{"$f":"MusicalTheatre!V16","v":5},{"$f":"MusicalTheatre!T16","v":75},{"$f":"IF((MusicalTheatreMR!$B21+MusicalTheatreMR!$C21)>0,1,0)","v":1},6.0,24.0,4.0,24.0,6.0,24.0,{"$f":"SUM(E21,G21,I21)","v":16},72]
[{"$f":"MusicalTheatre!A17","v":"C-604"},{"$f":"MusicalTheatre!V17","v":7},{"$f":"MusicalTheatre!T17","v":72},{"$f":"IF((MusicalTheatreMR!$B22+MusicalTheatreMR!$C22)>0,1,0)","v":1},null,null,null,null,null,null,{"$f":"SUM(E22,G22,I22)","v":0},0]
[{"$f":"MusicalTheatre!A134","v":"CC-601"},{"$f":"MusicalTheatre!V134","v":0},{"$f":"MusicalTheatre!T134","v":0},{"$f":"IF((MusicalTheatreMR!$B23+MusicalTheatreMR!$C23)>0,1,0)","v":0},null,null,null,null,null,null,{"$f":"SUM(E23,G23,I23)","v":0},0]
[{"$f":"MusicalTheatre!A135","v":"CC-602"},{"$f":"MusicalTheatre!V135","v":0},{"$f":"MusicalTheatre!T135","v":0},{"$f":"IF((MusicalTheatreMR!$B24+MusicalTheatreMR!$C24)>0,1,0)","v":0},null,null,null,null,null,null,{"$f":"SUM(E24,G24,I24)","v":0},0]
[{"$f":"MusicalTheatre!A136","v":"CC-603"},{"$f":"MusicalTheatre!V136","v":0},{"$f":"MusicalTheatre!T136","v":0},{"$f":"IF((MusicalTheatreMR!$B25+MusicalTheatreMR!$C25)>0,1,0)","v":0},null,null,null,null,null,null,{"$f":"SUM(E25,G25,I25)","v":0},0]
[{"$f":"MusicalTheatre!A137","v":"CC-604"},{"$f":"MusicalTheatre!V137","v":0},{"$f":"MusicalTheatre!T137","v":0},{"$f":"IF((MusicalTheatreMR!$B26+MusicalTheatreMR!$C26)>0,1,0)","v":0},null,null,null,null,null,null,{"$f":"SUM(E26,G26,I26)","v":0},0]
[{"$f":"MusicalTheatre!A19","v":"D-601"},{"$f":"MusicalTheatre!V19","v":0},{"$f":"MusicalTheatre!T19","v":0},{"$f":"IF((MusicalTheatreMR!$B27+MusicalTheatreMR!$C27)>0,1,0)","v":0},null,null,null,null,null,null,{"$f":"SUM(E27,G27,I27)","v":0},0]
[{"$f":"MusicalTheatre!A20","v":"D-602"},{"$f":"MusicalTheatre!V20","v":0},{"$f":"MusicalTheatre!T20","v":0},{"$f":"IF((MusicalTheatreMR!$B28+MusicalTheatreMR!$C28)>0,1,0)","v":0},null,null,null,null,null,null,{"$f":"SUM(E28,G28,I28)","v":0},0]
[{"$f":"MusicalTheatre!A21","v":"D-603"},{"$f":"MusicalTheatre!V21","v":0},{"$f":"MusicalTheatre!T21","v":0},{"$f":"IF((MusicalTheatreMR!$B29+MusicalTheatreMR!$C29)>0,1,0)","v":0},null,null,null,null,null,null,{"$f":"SUM(E29,G29,I29)","v":0},0]
[{"$f":"MusicalTheatre!A22","v":"D-604"},{"$f":"MusicalTheatre!V22","v":0},{"$f":"MusicalTheatre!T22","v":0},{"$f":"IF((MusicalTheatreMR!$B30+MusicalTheatreMR!$C30)>0,1,0)","v":0},null,null,null,null,null,null,{"$f":"SUM(E30,G30,I30)","v":0},0]
[{"$f":"MusicalTheatre!A139","v":"DD-601"},{"$f":"MusicalTheatre!V139","v":0},{"$f":"MusicalTheatre!T139","v":0},{"$f":"IF((MusicalTheatreMR!$B31+MusicalTheatreMR!$C31)>0,1,0)","v":0},null,null,null,null,null,null,{"$f":"SUM(E31,G31,I31)","v":0},0]
[{"$f":"MusicalTheatre!A140","v":"DD-602"},{"$f":"MusicalTheatre!V140","v":0},{"$f":"MusicalTheatre!T140","v":0},{"$f":"IF((MusicalTheatreMR!$B32+MusicalTheatreMR!$C32)>0,1,0)","v":0},null,null,null,null,null,null,{"$f":"SUM(E32,G32,I32)","v":0},0]
[{"$f":"MusicalTheatre!A141","v":"DD-603"},{"$f":"MusicalTheatre!V141","v":0},{"$f":"MusicalTheatre!T141","v":0},{"$f":"IF((MusicalTheatreMR!$B33+MusicalTheatreMR!$C33)>0,1,0)","v":0},null,null,null,null,null,null,{"$f":"SUM(E33,G33,I33)","v":0},0]
[{"$f":"MusicalTheatre!A142","v":"DD-604"},{"$f":"MusicalTheatre!V142","v":0},{"$f":"MusicalTheatre!T142","v":0},{"$f":"IF((MusicalTheatreMR!$B34+MusicalTheatreMR!$C34)>0,1,0)","v":0},null,null,null,null,null,null,{"$f":"SUM(E34,G34,I34)","v":0},0]
[{"$f":"MusicalTheatre!A24","v":"E-601"},{"$f":"MusicalTheatre!V24","v":0},{"$f":"MusicalTheatre!T24","v":0},{"$f":"IF((MusicalTheatreMR!$B35+MusicalTheatreMR!$C35)>0,1,0)","v":0},null,null,null,null,null,null,{"$f":"SUM(E35,G35,I35)","v":0},0]
[{"$f":"MusicalTheatre!A25","v":"E-602"},{"$f":"MusicalTheatre!V25","v":7},{"$f":"MusicalTheatre!T25","v":70},{"$f":"IF((MusicalTheatreMR!$B36+MusicalTheatreMR!$C36)>0,1,0)","v":1},null,null,null,null,null,null,{"$f":"SUM(E36,G36,I36)","v":0},0]
[{"$f":"MusicalTheatre!A26","v":"E-603"},{"$f":"MusicalTheatre!V26","v":10},{"$f":"MusicalTheatre!T26","v":61},{"$f":"IF((MusicalTheatreMR!$B37+MusicalTheatreMR!$C37)>0,1,0)","v":1},null,null,null,null,null,null,{"$f":"SUM(E37,G37,I37)","v":0},0]
[{"$f":"MusicalTheatre!A27","v":"E-604"},{"$f":"MusicalTheatre!V27","v":0},{"$f":"MusicalTheatre!T27","v":0},{"$f":"IF((MusicalTheatreMR!$B38+MusicalTheatreMR!$C38)>0,1,0)","v":0},null,null,null,null,null,null,{"$f":"SUM(E38,G38,I38)","v":0},0]
[{"$f":"MusicalTheatre!A144","v":"EE-601"},{"$f":"MusicalTheatre!V144","v":0},{"$f":"MusicalTheatre!T144","v":0},{"$f":"IF((MusicalTheatreMR!$B39+MusicalTheatreMR!$C39)>0,1,0)","v":0},null,null,null,null,null,null,{"$f":"SUM(E39,G39,I39)","v":0},0]
[{"$f":"MusicalTheatre!A145","v":"EE-602"},{"$f":"MusicalTheatre!V145","v":0},{"$f":"MusicalTheatre!T145","v":0},{"$f":"IF((MusicalTheatreMR!$B40+MusicalTheatreMR!$C40)>0,1,0)","v":0},null,null,null,null,null,null,{"$f":"SUM(E40,G40,I40)","v":0},0]
[{"$f":"MusicalTheatre!A146","v":"EE-603"},{"$f":"MusicalTheatre!V146","v":0},{"$f":"MusicalTheatre!T146","v":0},{"$f":"IF((MusicalTheatreMR!$B41+MusicalTheatreMR!$C41)>0,1,0)","v":0},null,null,null,null,null,null,{"$f":"SUM(E41,G41,I41)","v":0},0]
[{"$f":"MusicalTheatre!A147","v":"EE-604"},{"$f":"MusicalTheatre!V147","v":0},{"$f":"MusicalTheatre!T147","v":0},{"$f":"IF((MusicalTheatreMR!$B42+MusicalTheatreMR!$C42)>0,1,0)","v":0},null,null,null,null,null,null,{"$f":"SUM(E42,G42,I42)","v":0},0]
[{"$f":"MusicalTheatre!A29","v":"F-601"},{"$f":"MusicalTheatre!V29","v":3},{"$f":"MusicalTheatre!T29","v":75},{"$f":"IF((MusicalTheatreMR!$B43+MusicalTheatreMR!$C43)>0,1,0)","v":1},3.0,25.0,2.0,25.0,2.0,25.0,{"$f":"SUM(E43,G43,I43)","v":7},75]
[{"$f":"MusicalTheatre!A30","v":"F-602"},{"$f":"MusicalTheatre!V30","v":7},{"$f":"MusicalTheatre!T30","v":69},{"$f":"IF((MusicalTheatreMR!$B44+MusicalTheatreMR!$C44)>0,1,0)","v":1},null,null,null,null,null,null,{"$f":"SUM(E44,G44,I44)","v":0},0]
[{"$f":"MusicalTheatre!A31","v":"F-603"},{"$f":"MusicalTheatre!V31","v":6},{"$f":"MusicalTheatre!T31","v":68},{"$f":"IF((MusicalTheatreMR!$B45+MusicalTheatreMR!$C45)>0,1,0)","v":1},null,null,null,null,null,null,{"$f":"SUM(E45,G45,I45)","v":0},0]
[{"$f":"MusicalTheatre!A32","v":"F-604"},{"$f":"MusicalTheatre!V32","v":9},{"$f":"MusicalTheatre!T32","v":67},{"$f":"IF((MusicalTheatreMR!$B46+MusicalTheatreMR!$C46)>0,1,0)","v":1},null,null,null,null,null,null,{"$f":"SUM(E46,G46,I46)","v":0},0]
[{"$f":"MusicalTheatre!A149","v":"FF-601"},{"$f":"MusicalTheatre!V149","v":0},{"$f":"MusicalTheatre!T149","v":0},{"$f":"IF((MusicalTheatreMR!$B47+MusicalTheatreMR!$C47)>0,1,0)","v":0},null,null,null,null,null,null,{"$f":"SUM(E47,G47,I47)","v":0},0]
[{"$f":"MusicalTheatre!A150","v":"FF-602"},{"$f":"MusicalTheatre!V150","v":0},{"$f":"MusicalTheatre!T150","v":0},{"$f":"IF((MusicalTheatreMR!$B48+MusicalTheatreMR!$C48)>0,1,0)","v":0},null,null,null,null,null,null,{"$f":"SUM(E48,G48,I48)","v":0},0]
[{"$f":"MusicalTheatre!A151","v":"FF-603"},{"$f":"MusicalTheatre!V151","v":0},{"$f":"MusicalTheatre!T151","v":0},{"$f":"IF((MusicalTheatreMR!$B49+MusicalTheatreMR!$C49)>0,1,0)","v":0},null,null,null,null,null,null,{"$f":"SUM(E49,G49,I49)","v":0},0]
[{"$f":"MusicalTheatre!A152","v":"FF-604"},{"$f":"MusicalTheatre!V152","v":0},{"$f":"MusicalTheatre!T152","v":0},{"$f":"IF((MusicalTheatreMR!$B50+MusicalTheatreMR!$C50)>0,1,0)","v":0},null,null,null,null,null,null,{"$f":"SUM(E50,G50,I50)","v":0},0]
[{"$f":"MusicalTheatre!A34","v":"G-601"},{"$f":"MusicalTheatre!V34","v":12},{"$f":"MusicalTheatre!T34","v":59},{"$f":"IF((MusicalTheatreMR!$B51+MusicalTheatreMR!$C51)>0,1,0)","v":1},null,null,null,null,null,null,{"$f":"SUM(E51,G51,I51)","v":0},0]
[{"$f":"MusicalTheatre!A35","v":"G-602"},{"$f":"MusicalTheatre!V35","v":10},{"$f":"MusicalTheatre!T35","v":68},{"$f":"IF((MusicalTheatreMR!$B52+MusicalTheatreMR!$C52)>0,1,0)","v":1},null,null,null,null,null,null,{"$f":"SUM(E52,G52,I52)","v":0},0]
[{"$f":"MusicalTheatre!A36","v":"G-603"},{"$f":"MusicalTheatre!V36","v":0},{"$f":"MusicalTheatre!T36","v":0},{"$f":"IF((MusicalTheatreMR!$B53+MusicalTheatreMR!$C53)>0,1,0)","v":0},null,null,null,null,null,null,{"$f":"SUM(E53,G53,I53)","v":0},0]
[{"$f":"MusicalTheatre!A37","v":"G-604"},{"$f":"MusicalTheatre!V37","v":0},{"$f":"MusicalTheatre!T37","v":0},{"$f":"IF((MusicalTheatreMR!$B54+MusicalTheatreMR!$C54)>0,1,0)","v":0},null,null,null,null,null,null,{"$f":"SUM(E54,G54,I54)","v":0},0]
[{"$f":"MusicalTheatre!A39","v":"H-601"},{"$f":"MusicalTheatre!V39","v":3},{"$f":"MusicalTheatre!T39","v":75},{"$f":"IF((MusicalTheatreMR!$B55+MusicalTheatreMR!$C55)>0,1,0)","v":1},4.0,25.0,5.0,23.0,1.0,25.0,{"$f":"SUM(E55,G55,I55)","v":10},73]
[{"$f":"MusicalTheatre!A40","v":"H-602"},{"$f":"MusicalTheatre!V40","v":7},{"$f":"MusicalTheatre!T40","v":71},{"$f":"IF((MusicalTheatreMR!$B56+MusicalTheatreMR!$C56)>0,1,0)","v":1},null,null,null,null,null,null,{"$f":"SUM(E56,G56,I56)","v":0},0]
[{"$f":"MusicalTheatre!A41","v":"H-603"},{"$f":"MusicalTheatre!V41","v":7},{"$f":"MusicalTheatre!T41","v":73},{"$f":"IF((MusicalTheatreMR!$B57+MusicalTheatreMR!$C57)>0,1,0)","v":1},null,null,null,null,null,null,{"$f":"SUM(E57,G57,I57)","v":0},0]
[{"$f":"MusicalTheatre!A42","v":"H-604"},{"$f":"MusicalTheatre!V42","v":7},{"$f":"MusicalTheatre!T42","v":71},{"$f":"IF((MusicalTheatreMR!$B58+MusicalTheatreMR!$C58)>0,1,0)","v":1},null,null,null,null,null,null,{"$f":"SUM(E58,G58,I58)","v":0},0]
[{"$f":"MusicalTheatre!A44","v":"J-601"},{"$f":"MusicalTheatre!V44","v":5},{"$f":"MusicalTheatre!T44","v":73},{"$f":"IF((MusicalTheatreMR!$B59+MusicalTheatreMR!$C59)>0,1,0)","v":1},5.0,24.0,3.0,25.0,5.0,25.0,{"$f":"SUM(E59,G59,I59)","v":13},74]
[{"$f":"MusicalTheatre!A45","v":"J-602"},{"$f":"MusicalTheatre!V45","v":10},{"$f":"MusicalTheatre!T45","v":69},{"$f":"IF((MusicalTheatreMR!$B60+MusicalTheatreMR!$C60)>0,1,0)","v":1},null,null,null,null,null,null,{"$f":"SUM(E60,G60,I60)","v":0},0]
[{"$f":"MusicalTheatre!A46","v":"J-603"},{"$f":"MusicalTheatre!V46","v":0},{"$f":"MusicalTheatre!T46","v":0},{"$f":"IF((MusicalTheatreMR!$B61+MusicalTheatreMR!$C61)>0,1,0)","v":0},null,null,null,null,null,null,{"$f":"SUM(E61,G61,I61)","v":0},0]
[{"$f":"MusicalTheatre!A47","v":"J-604"},{"$f":"MusicalTheatre!V47","v":0},{"$f":"MusicalTheatre!T47","v":0},{"$f":"IF((MusicalTheatreMR!$B62+MusicalTheatreMR!$C62)>0,1,0)","v":0},null,null,null,null,null,null,{"$f":"SUM(E62,G62,I62)","v":0},0]
[{"$f":"MusicalTheatre!A49","v":"K-601"},{"$f":"MusicalTheatre!V49","v":12},{"$f":"MusicalTheatre!T49","v":62},{"$f":"IF((MusicalTheatreMR!$B63+MusicalTheatreMR!$C63)>0,1,0)","v":1},null,null,null,null,null,null,{"$f":"SUM(E63,G63,I63)","v":0},0]
[{"$f":"MusicalTheatre!A50","v":"K-602"},{"$f":"MusicalTheatre!V50","v":8},{"$f":"MusicalTheatre!T50","v":70},{"$f":"IF((MusicalTheatreMR!$B64+MusicalTheatreMR!$C64)>0,1,0)","v":1},null,null,null,null,null,null,{"$f":"SUM(E64,G64,I64)","v":0},0]
[{"$f":"MusicalTheatre!A51","v":"K-603"},{"$f":"MusicalTheatre!V51","v":0},{"$f":"MusicalTheatre!T51","v":0},{"$f":"IF((MusicalTheatreMR!$B65+MusicalTheatreMR!$C65)>0,1,0)","v":0},null,null,null,null,null,null,{"$f":"SUM(E65,G65,I65)","v":0},0]
[{"$f":"MusicalTheatre!A52","v":"K-604"},{"$f":"MusicalTheatre!V52","v":0},{"$f":"MusicalTheatre!T52","v":0},{"$f":"IF((MusicalTheatreMR!$B66+MusicalTheatreMR!$C66)>0,1,0)","v":0},null,null,null,null,null,null,{"$f":"SUM(E66,G66,I66)","v":0},0]
[{"$f":"MusicalTheatre!A54","v":"L-601"},{"$f":"MusicalTheatre!V54","v":11},{"$f":"MusicalTheatre!T54","v":67},{"$f":"IF((MusicalTheatreMR!$B67+MusicalTheatreMR!$C67)>0,1,0)","v":1},null,null,null,null,null,null,{"$f":"SUM(E67,G67,I67)","v":0},0]
[{"$f":"MusicalTheatre!A55","v":"L-602"},{"$f":"MusicalTheatre!V55","v":7},{"$f":"MusicalTheatre!T55","v":70},{"$f":"IF((MusicalTheatreMR!$B68+MusicalTheatreMR!$C68)>0,1,0)","v":1},null,null,null,null,null,null,{"$f":"SUM(E68,G68,I68)","v":0},0]
[{"$f":"MusicalTheatre!A56","v":"L-603"},{"$f":"MusicalTheatre!V56","v":10},{"$f":"MusicalTheatre!T56","v":66},{"$f":"IF((MusicalTheatreMR!$B69+MusicalTheatreMR!$C69)>0,1,0)","v":1},null,null,null,null,null,null,{"$f":"SUM(E69,G69,I69)","v":0},0]
[{"$f":"MusicalTheatre!A57","v":"L-604"},{"$f":"MusicalTheatre!V57","v":9},{"$f":"MusicalTheatre!T57","v":69},{"$f":"IF((MusicalTheatreMR!$B70+MusicalTheatreMR!$C70)>0,1,0)","v":1},null,null,null,null,null,null,{"$f":"SUM(E70,G70,I70)","v":0},0]
[{"$f":"MusicalTheatre!A59","v":"M-601"},{"$f":"MusicalTheatre!V59","v":6},{"$f":"MusicalTheatre!T59","v":72},{"$f":"IF((MusicalTheatreMR!$B71+MusicalTheatreMR!$C71)>0,1,0)","v":1},null,null,null,null,null,null,{"$f":"SUM(E71,G71,I71)","v":0},0]
[{"$f":"MusicalTheatre!A60","v":"M-602"},{"$f":"MusicalTheatre!V60","v":12},{"$f":"MusicalTheatre!T60","v":69},{"$f":"IF((MusicalTheatreMR!$B72+MusicalTheatreMR!$C72)>0,1,0)","v":1},null,null,null,null,null,null,{"$f":"SUM(E72,G72,I72)","v":0},0]
[{"$f":"MusicalTheatre!A61","v":"M-603"},{"$f":"MusicalTheatre!V61","v":9},{"$f":"MusicalTheatre!T61","v":67},{"$f":"IF((MusicalTheatreMR!$B73+MusicalTheatreMR!$C73)>0,1,0)","v":1},null,null,null,null,null,null,{"$f":"SUM(E73,G73,I73)","v":0},0]
[{"$f":"MusicalTheatre!A62","v":"M-604"},{"$f":"MusicalTheatre!V62","v":0},{"$f":"MusicalTheatre!T62","v":0},{"$f":"IF((MusicalTheatreMR!$B74+MusicalTheatreMR!$C74)>0,1,0)","v":0},null,null,null,null,null,null,{"$f":"SUM(E74,G74,I74)","v":0},0]
[{"$f":"MusicalTheatre!A64","v":"N-601"},{"$f":"MusicalTheatre!V64","v":9},{"$f":"MusicalTheatre!T64","v":65},{"$f":"IF((MusicalTheatreMR!$B75+MusicalTheatreMR!$C75)>0,1,0)","v":1},null,null,null,null,null,null,{"$f":"SUM(E75,G75,I75)","v":0},0]
[{"$f":"MusicalTheatre!A65","v":"N-602"},{"$f":"MusicalTheatre!V65","v":11},{"$f":"MusicalTheatre!T65","v":63},{"$f":"IF((MusicalTheatreMR!$B76+MusicalTheatreMR!$C76)>0,1,0)","v":1},null,null,null,null,null,null,{"$f":"SUM(E76,G76,I76)","v":0},0]
[{"$f":"MusicalTheatre!A66","v":"N-603"},{"$f":"MusicalTheatre!V66","v":11},{"$f":"MusicalTheatre!T66","v":65},{"$f":"IF((MusicalTheatreMR!$B77+MusicalTheatreMR!$C77)>0,1,0)","v":1},null,null,null,null,null,null,{"$f":"SUM(E77,G77,I77)","v":0},0]
[{"$f":"MusicalTheatre!A67","v":"N-604"},{"$f":"MusicalTheatre!V67","v":0},{"$f":"MusicalTheatre!T67","v":0},{"$f":"IF((MusicalTheatreMR!$B78+MusicalTheatreMR!$C78)>0,1,0)","v":0},null,null,null,null,null,null,{"$f":"SUM(E78,G78,I78)","v":0},0]
[{"$f":"MusicalTheatre!A69","v":"P-601"},{"$f":"MusicalTheatre!V69","v":9},{"$f":"MusicalTheatre!T69","v":64},{"$f":"IF((MusicalTheatreMR!$B79+MusicalTheatreMR!$C79)>0,1,0)","v":1},null,null,null,null,null,null,{"$f":"SUM(E79,G79,I79)","v":0},0]
[{"$f":"MusicalTheatre!A70","v":"P-602"},{"$f":"MusicalTheatre!V70","v":10},{"$f":"MusicalTheatre!T70","v":72},{"$f":"IF((MusicalTheatreMR!$B80+MusicalTheatreMR!$C80)>0,1,0)","v":1},null,null,null,null,null,null,{"$f":"SUM(E80,G80,I80)","v":0},0]
[{"$f":"MusicalTheatre!A71","v":"P-603"},{"$f":"MusicalTheatre!V71","v":7},{"$f":"MusicalTheatre!T71","v":75},{"$f":"IF((MusicalTheatreMR!$B81+MusicalTheatreMR!$C81)>0,1,0)","v":1},null,null,null,null,null,null,{"$f":"SUM(E81,G81,I81)","v":0},0]
[{"$f":"MusicalTheatre!A72","v":"P-604"},{"$f":"MusicalTheatre!V72","v":10},{"$f":"MusicalTheatre!T72","v":71},{"$f":"IF((MusicalTheatreMR!$B82+MusicalTheatreMR!$C82)>0,1,0)","v":1},null,null,null,null,null,null,{"$f":"SUM(E82,G82,I82)","v":0},0]
[{"$f":"MusicalTheatre!A74","v":"Q-601"},{"$f":"MusicalTheatre!V74","v":0},{"$f":"MusicalTheatre!T74","v":0},{"$f":"IF((MusicalTheatreMR!$B83+MusicalTheatreMR!$C83)>0,1,0)","v":0},null,null,null,null,null,null,{"$f":"SUM(E83,G83,I83)","v":0},0]
[{"$f":"MusicalTheatre!A75","v":"Q-602"},{"$f":"MusicalTheatre!V75","v":0},{"$f":"MusicalTheatre!T75","v":0},{"$f":"IF((MusicalTheatreMR!$B84+MusicalTheatreMR!$C84)>0,1,0)","v":0},null,null,null,null,null,null,{"$f":"SUM(E84,G84,I84)","v":0},0]
[{"$f":"MusicalTheatre!A76","v":"Q-603"},{"$f":"MusicalTheatre!V76","v":0},{"$f":"MusicalTheatre!T76","v":0},{"$f":"IF((MusicalTheatreMR!$B85+MusicalTheatreMR!$C85)>0,1,0)","v":0},null,null,null,null,null,null,{"$f":"SUM(E85,G85,I85)","v":0},0]
[{"$f":"MusicalTheatre!A77","v":"Q-604"},{"$f":"MusicalTheatre!V77","v":0},{"$f":"MusicalTheatre!T77","v":0},{"$f":"IF((MusicalTheatreMR!$B86+MusicalTheatreMR!$C86)>0,1,0)","v":0},null,null,null,null,null,null,{"$f":"SUM(E86,G86,I86)","v":0},0]
[{"$f":"MusicalTheatre!A79","v":"R-601"},{"$f":"MusicalTheatre!V79","v":7},{"$f":"MusicalTheatre!T79","v":73},{"$f":"IF((MusicalTheatreMR!$B87+MusicalTheatreMR!$C87)>0,1,0)","v":1},null,null,null,null,null,null,{"$f":"SUM(E87,G87,I87)","v":0},0]
[{"$f":"MusicalTheatre!A80","v":"R-602"},{"$f":"MusicalTheatre!V80","v":9},{"$f":"MusicalTheatre!T80","v":58},{"$f":"IF((MusicalTheatreMR!$B88+MusicalTheatreMR!$C88)>0,1,0)","v":1},null,null,null,null,null,null,{"$f":"SUM(E88,G88,I88)","v":0},0]
[{"$f":"MusicalTheatre!A81","v":"R-603"},{"$f":"MusicalTheatre!V81","v":11},{"$f":"MusicalTheatre!T81","v":61},{"$f":"IF((MusicalTheatreMR!$B89+MusicalTheatreMR!$C89)>0,1,0)","v":1},null,null,null,null,null,null,{"$f":"SUM(E89,G89,I89)","v":0},0]
[{"$f":"MusicalTheatre!A82","v":"R-604"},{"$f":"MusicalTheatre!V82","v":0},{"$f":"MusicalTheatre!T82","v":0},{"$f":"IF((MusicalTheatreMR!$B90+MusicalTheatreMR!$C90)>0,1,0)","v":0},null,null,null,null,null,null,{"$f":"SUM(E90,G90,I90)","v":0},0]
[{"$f":"MusicalTheatre!A84","v":"S-601"},{"$f":"MusicalTheatre!V84","v":7},{"$f":"MusicalTheatre!T84","v":70},{"$f":"IF((MusicalTheatreMR!$B91+MusicalTheatreMR!$C91)>0,1,0)","v":1},null,null,null,null,null,null,{"$f":"SUM(E91,G91,I91)","v":0},0]
[{"$f":"MusicalTheatre!A85","v":"S-602"},{"$f":"MusicalTheatre!V85","v":9},{"$f":"MusicalTheatre!T85","v":68},{"$f":"IF((MusicalTheatreMR!$B92+MusicalTheatreMR!$C92)>0,1,0)","v":1},null,null,null,null,null,null,{"$f":"SUM(E92,G92,I92)","v":0},0]
[{"$f":"MusicalTheatre!A86","v":"S-603"},{"$f":"MusicalTheatre!V86","v":10},{"$f":"MusicalTheatre!T86","v":65},{"$f":"IF((MusicalTheatreMR!$B93+MusicalTheatreMR!$C93)>0,1,0)","v":1},null,null,null,null,null,null,{"$f":"SUM(E93,G93,I93)","v":0},0]
[{"$f":"MusicalTheatre!A87","v":"S-604"},{"$f":"MusicalTheatre!V87","v":0},{"$f":"MusicalTheatre!T87","v":0},{"$f":"IF((MusicalTheatreMR!$B94+MusicalTheatreMR!$C94)>0,1,0)","v":0},null,null,null,null,null,null,{"$f":"SUM(E94,G94,I94)","v":0},0]
[{"$f":"MusicalTheatre!A89","v":"T-601"},{"$f":"MusicalTheatre!V89","v":0},{"$f":"MusicalTheatre!T89","v":0},{"$f":"IF((MusicalTheatreMR!$B95+MusicalTheatreMR!$C95)>0,1,0)","v":0},null,null,null,null,null,null,{"$f":"SUM(E95,G95,I95)","v":0},0]
[{"$f":"MusicalTheatre!A90","v":"T-602"},{"$f":"MusicalTheatre!V90","v":0},{"$f":"MusicalTheatre!T90","v":0},{"$f":"IF((MusicalTheatreMR!$B96+MusicalTheatreMR!$C96)>0,1,0)","v":0},null,null,null,null,null,null,{"$f":"SUM(E96,G96,I96)","v":0},0]
[{"$f":"MusicalTheatre!A91","v":"T-603"},{"$f":"MusicalTheatre!V91","v":0},{"$f":"MusicalTheatre!T91","v":0},{"$f":"IF((MusicalTheatreMR!$B97+MusicalTheatreMR!$C97)>0,1,0)","v":0},null,null,null,null,null,null,{"$f":"SUM(E97,G97,I97)","v":0},0]
[{"$f":"MusicalTheatre!A92","v":"T-604"},{"$f":"MusicalTheatre!V92","v":0},{"$f":"MusicalTheatre!T92","v":0},{"$f":"IF((MusicalTheatreMR!$B98+MusicalTheatreMR!$C98)>0,1,0)","v":0},null,null,null,null,null,null,{"$f":"SUM(E98,G98,I98)","v":0},0]
[{"$f":"MusicalTheatre!A94","v":"U-601"},{"$f":"MusicalTheatre!V94","v":0},{"$f":"MusicalTheatre!T94","v":0},{"$f":"IF((MusicalTheatreMR!$B99+MusicalTheatreMR!$C99)>0,1,0)","v":0},null,null,null,null,null,null,{"$f":"SUM(E99,G99,I99)","v":0},0]
[{"$f":"MusicalTheatre!A95","v":"U-602"},{"$f":"MusicalTheatre!V95","v":0},{"$f":"MusicalTheatre!T95","v":0},{"$f":"IF((MusicalTheatreMR!$B100+MusicalTheatreMR!$C100)>0,1,0)","v":0},null,null,null,null,null,null,{"$f":"SUM(E100,G100,I100)","v":0},0]
[{"$f":"MusicalTheatre!A96","v":"U-603"},{"$f":"MusicalTheatre!V96","v":0},{"$f":"MusicalTheatre!T96","v":0},{"$f":"IF((MusicalTheatreMR!$B101+MusicalTheatreMR!$C101)>0,1,0)","v":0},null,null,null,null,null,null,{"$f":"SUM(E101,G101,I101)","v":0},0]
[{"$f":"MusicalTheatre!A97","v":"U-604"},{"$f":"MusicalTheatre!V97","v":0},{"$f":"MusicalTheatre!T97","v":0},{"$f":"IF((MusicalTheatreMR!$B102+MusicalTheatreMR!$C102)>0,1,0)","v":0},null,null,null,null,null,null,{"$f":"SUM(E102,G102,I102)","v":0},0]
[{"$f":"MusicalTheatre!A99","v":"V-601"},{"$f":"MusicalTheatre!V99","v":0},{"$f":"MusicalTheatre!T99","v":0},{"$f":"IF((MusicalTheatreMR!$B103+MusicalTheatreMR!$C103)>0,1,0)","v":0},null,null,null,null,null,null,{"$f":"SUM(E103,G103,I103)","v":0},0]
[{"$f":"MusicalTheatre!A100","v":"V-602"},{"$f":"MusicalTheatre!V100","v":0},{"$f":"MusicalTheatre!T100","v":0},{"$f":"IF((MusicalTheatreMR!$B104+MusicalTheatreMR!$C104)>0,1,0)","v":0},null,null,null,null,null,null,{"$f":"SUM(E104,G104,I104)","v":0},0]
[{"$f":"MusicalTheatre!A101","v":"V-603"},{"$f":"MusicalTheatre!V101","v":0},{"$f":"MusicalTheatre!T101","v":0},{"$f":"IF((MusicalTheatreMR!$B105+MusicalTheatreMR!$C105)>0,1,0)","v":0},null,null,null,null,null,null,{"$f":"SUM(E105,G105,I105)","v":0},0]
[{"$f":"MusicalTheatre!A102","v":"V-604"},{"$f":"MusicalTheatre!V102","v":0},{"$f":"MusicalTheatre!T102","v":0},{"$f":"IF((MusicalTheatreMR!$B106+MusicalTheatreMR!$C106)>0,1,0)","v":0},null,null,null,null,null,null,{"$f":"SUM(E106,G106,I106)","v":0},0]
[{"$f":"MusicalTheatre!A104","v":"W-601"},{"$f":"MusicalTheatre!V104","v":0},{"$f":"MusicalTheatre!T104","v":0},{"$f":"IF((MusicalTheatreMR!$B107+MusicalTheatreMR!$C107)>0,1,0)","v":0},null,null,null,null,null,null,{"$f":"SUM(E107,G107,I107)","v":0},0]
[{"$f":"MusicalTheatre!A105","v":"W-602"},{"$f":"MusicalTheatre!V105","v":0},{"$f":"MusicalTheatre!T105","v":0},{"$f":"IF((MusicalTheatreMR!$B108+MusicalTheatreMR!$C108)>0,1,0)","v":0},null,null,null,null,null,null,{"$f":"SUM(E108,G108,I108)","v":0},0]
[{"$f":"MusicalTheatre!A106","v":"W-603"},{"$f":"MusicalTheatre!V106","v":0},{"$f":"MusicalTheatre!T106","v":0},{"$f":"IF((MusicalTheatreMR!$B109+MusicalTheatreMR!$C109)>0,1,0)","v":0},null,null,null,null,null,null,{"$f":"SUM(E109,G109,I109)","v":0},0]
[{"$f":"MusicalTheatre!A107","v":"W-604"},{"$f":"MusicalTheatre!V107","v":0},{"$f":"MusicalTheatre!T107","v":0},{"$f":"IF((MusicalTheatreMR!$B110+MusicalTheatreMR!$C110)>0,1,0)","v":0},null,null,null,null,null,null,{"$f":"SUM(E110,G110,I110)","v":0},0]
[{"$f":"MusicalTheatre!A109","v":"X-601"},{"$f":"MusicalTheatre!V109","v":0},{"$f":"MusicalTheatre!T109","v":0},{"$f":"IF((MusicalTheatreMR!$B111+MusicalTheatreMR!$C111)>0,1,0)","v":0},null,null,null,null,null,null,{"$f":"SUM(E111,G111,I111)","v":0},0]
[{"$f":"MusicalTheatre!A110","v":"X-602"},{"$f":"MusicalTheatre!V110","v":0},{"$f":"MusicalTheatre!T110","v":0},{"$f":"IF((MusicalTheatreMR!$B112+MusicalTheatreMR!$C112)>0,1,0)","v":0},null,null,null,null,null,null,{"$f":"SUM(E112,G112,I112)","v":0},0]
[{"$f":"MusicalTheatre!A111","v":"X-603"},{"$f":"MusicalTheatre!V111","v":0},{"$f":"MusicalTheatre!T111","v":0},{"$f":"IF((MusicalTheatreMR!$B113+MusicalTheatreMR!$C113)>0,1,0)","v":0},null,null,null,null,null,null,{"$f":"SUM(E113,G113,I113)","v":0},0]
[{"$f":"MusicalTheatre!A112","v":"X-604"},{"$f":"MusicalTheatre!V112","v":0},{"$f":"MusicalTheatre!T112","v":0},{"$f":"IF((MusicalTheatreMR!$B114+MusicalTheatreMR!$C114)>0,1,0)","v":0},null,null,null,null,null,null,{"$f":"SUM(E114,G114,I114)","v":0},0]
[{"$f":"MusicalTheatre!A114","v":"Y-601"},{"$f":"MusicalTheatre!V114","v":0},{"$f":"MusicalTheatre!T114","v":0},{"$f":"IF((MusicalTheatreMR!$B115+MusicalTheatreMR!$C115)>0,1,0)","v":0},null,null,null,null,null,null,{"$f":"SUM(E115,G115,I115)","v":0},0]
[{"$f":"MusicalTheatre!A115","v":"Y-602"},{"$f":"MusicalTheatre!V115","v":0},{"$f":"MusicalTheatre!T115","v":0},{"$f":"IF((MusicalTheatreMR!$B116+MusicalTheatreMR!$C116)>0,1,0)","v":0},null,null,null,null,null,null,{"$f":"SUM(E116,G116,I116)","v":0},0]
[{"$f":"MusicalTheatre!A116","v":"Y-603"},{"$f":"MusicalTheatre!V116","v":0},{"$f":"MusicalTheatre!T116","v":0},{"$f":"IF((MusicalTheatreMR!$B117+MusicalTheatreMR!$C117)>0,1,0)","v":0},null,null,null,null,null,null,{"$f":"SUM(E117,G117,I117)","v":0},0]
[{"$f":"MusicalTheatre!A117","v":"Y-604"},{"$f":"MusicalTheatre!V117","v":0},{"$f":"MusicalTheatre!T117","v":0},{"$f":"IF((MusicalTheatreMR!$B118+MusicalTheatreMR!$C118)>0,1,0)","v":0},null,null,null,null,null,null,{"$f":"SUM(E118,G118,I118)","v":0},0]
[{"$f":"MusicalTheatre!A119","v":"Z-601"},{"$f":"MusicalTheatre!V119","v":0},{"$f":"MusicalTheatre!T119","v":0},{"$f":"IF((MusicalTheatreMR!$B119+MusicalTheatreMR!$C119)>0,1,0)","v":0},null,null,null,null,null,null,{"$f":"SUM(E119,G119,I119)","v":0},0]
[{"$f":"MusicalTheatre!A120","v":"Z-602"},{"$f":"MusicalTheatre!V120","v":0},{"$f":"MusicalTheatre!T120","v":0},{"$f":"IF((MusicalTheatreMR!$B120+MusicalTheatreMR!$C120)>0,1,0)","v":0},null,null,null,null,null,null,{"$f":"SUM(E120,G120,I120)","v":0},0]
[{"$f":"MusicalTheatre!A121","v":"Z-603"},{"$f":"MusicalTheatre!V121","v":0},{"$f":"MusicalTheatre!T121","v":0},{"$f":"IF((MusicalTheatreMR!$B121+MusicalTheatreMR!$C121)>0,1,0)","v":0},null,null,null,null,null,null,{"$f":"SUM(E121,G121,I121)","v":0},0]
[{"$f":"MusicalTheatre!A122","v":"Z-604"},{"$f":"MusicalTheatre!V122","v":0},{"$f":"MusicalTheatre!T122","v":0},{"$f":"IF((MusicalTheatreMR!$B122+MusicalTheatreMR!$C122)>0,1,0)","v":0},null,null,null,null,null,null,{"$f":"SUM(E122,G122,I122)","v":0},0]

{"sheet":"One-Acts","index":13,"n_rows":33,"n_cols":35,"rows_kept":33,"cut":false,"hidden":false,"merged":[[0,0,0,8]]}
["ONE-ACTS",null,null,null,null,null,null,null,null,null,"Rank 1-6",null,null,null,null,null,null,null,null,null,null,null,null,null,null,null,null,null,null,"S","E","G","F",null,"1violation"]
[null,null,null,null,null,null,null,null,null,null,"Judge 1",null,"Judge 2",null,"Judge 3"]
[null,"Title of Piece",null,null,null,null,null,null,null,null,"J1 rank","J1 score","J2 rank","J2 score","J3 rank","J3 score",null,null,"TOTAL RANK",null,"TOTAL SCORE",null,"TOTAL SCHOOL SWEEPS POINTS",null,null,"Time Violations"]
["A-701","12 Angry Jurors",null,null,null,null,null,null,null,null,1.0,50.0,1.0,48.0,3.0,46.0,null,null,{"$f":"SUM(K4,M4,O4)","v":5},null,{"$f":"SUM(L4,N4,P4)","v":144},null,{"$f":"SUM(U4,AA4)","v":144},null,null,null,{"$f":"IF(Z4=\"1violation\",-35*1,IF(Z4=\"2violations\",-35*2,IF(Z4=\"3violations\",-35*3,IF(Z4=\"\",\"\"))))","v":""}]
["B-701",null,null,null,null,null,null,null,null,null,null,null,null,null,null,null,null,null,0,null,0,null,0,null,null,null,{"$f":"IF(Z5=\"1violation\",-10*1,IF(Z5=\"2violations\",-10*2,IF(Z5=\"3violations\",-10*3,IF(Z5=\"\",\"\"))))","v":""}]
["C-701","Almost Maine",null,null,null,null,null,null,null,null,3.0,50.0,2.0,48.0,1.0,47.0,null,null,6,null,145,null,145,null,null,null,""]
["D-701",null,null,null,null,null,null,null,null,null,null,null,null,null,null,null,null,null,0,null,0,null,0,null,null,null,""]
["E-701","04:00:00",null,null,null,null,null,null,null,null,6.0,40.0,6.0,39.0,6.0,30.0,null,null,18,null,109,null,109,null,null,null,""]
["F-701","Macduff",null,null,null,null,null,null,null,null,4.0,50.0,3.0,46.0,2.0,46.0,null,null,9,null,142,null,142,null,null,null,""]
["G-701","Little Women",null,null,null,null,null,null,null,null,6.0,45.0,6.0,40.0,5.0,41.0,null,null,17,null,126,null,126,null,null,null,""]
["H-701","Macbeth",null,null,null,null,null,null,null,null,2.0,50.0,6.0,38.0,6.0,40.0,null,null,14,null,128,null,128,null,null,null,""]
["J-701","I never saw another Butterfly",null,null,null,null,null,null,null,null,6.0,46.0,5.0,42.0,6.0,42.0,null,null,17,null,130,null,130,null,null,null,""]
["K-701","Squirrel Goes to College",null,null,null,null,null,null,null,null,5.0,50.0,6.0,42.0,4.0,45.0,null,null,15,null,137,null,137,null,null,null,""]
["L-701","This is a Test",null,null,null,null,null,null,null,null,6.0,40.0,6.0,35.0,6.0,40.0,null,null,18,null,115,null,115,null,null,null,""]
["M-701",null,null,null,null,null,null,null,null,null,null,null,null,null,null,null,null,null,0,null,0,null,0,null,null,null,""]
["N-701",null,null,null,null,null,null,null,null,null,null,null,null,null,null,null,null,null,0,null,0,null,0,null,null,null,""]
["P-701","An Adaptation of Tell Tale Heart",null,null,null,null,null,null,null,null,6.0,48.0,6.0,42.0,6.0,40.0,null,null,18,null,130,null,130,null,null,null,""]
["Q-701",null,null,null,null,null,null,null,null,null,null,null,null,null,null,null,null,null,0,null,0,null,0,null,null,null,""]
["R-701"," ",null,null,null,null,null,null,null,null,6.0,41.0,6.0,35.0,6.0,35.0,null,null,18,null,111,null,111,null,null,null,""]
["S-701","The other room",null,null,null,null,null,null,null,null,6.0,45.0,4.0,42.0,6.0,41.0,null,null,16,null,128,null,128,null,null,null,""]
["T-701",null,null,null,null,null,null,null,null,null,null,null,null,null,null,null,null,null,0,null,0,null,0,null,null,null,""]
["U-701",null,null,null,null,null,null,null,null,null,null,null,null,null,null,null,null,null,0,null,0,null,0,null,null,null,""]
["V-701",null,null,null,null,null,null,null,null,null,null,null,null,null,null,null,null,null,0,null,0,null,0,null,null,null,""]
["W-701",null,null,null,null,null,null,null,null,null,null,null,null,null,null,null,null,null,0,null,0,null,0,null,null,null,""]
["X-701",null,null,null,null,null,null,null,null,null,null,null,null,null,null,null,null,null,0,null,0,null,0,null,null,null,""]
["Y-701",null,null,null,null,null,null,null,null,null,null,null,null,null,null,null,null,null,0,null,0,null,0,null,null,null,""]
["Z-701",null,null,null,null,null,null,null,null,null,null,null,null,null,null,null,null,null,0,null,0,null,0,null,null,null,""]
["AA-701",null,null,null,null,null,null,null,null,null,null,null,null,null,null,null,null,null,0,null,0,null,0,null,null,null,""]
["BB-701",null,null,null,null,null,null,null,null,null,null,null,null,null,null,null,null,null,0,null,0,null,0,null,null,null,""]
["CC-701",null,null,null,null,null,null,null,null,null,null,null,null,null,null,null,null,null,0,null,0,null,0,null,null,null,""]
["DD-701",null,null,null,null,null,null,null,null,null,null,null,null,null,null,null,null,null,0,null,0,null,0,null,null,null,""]
["EE-701",null,null,null,null,null,null,null,null,null,null,null,null,null,null,null,null,null,0,null,0,null,0,null,null,null,""]
["FF-701",null,null,null,null,null,null,null,null,null,null,null,null,null,null,null,null,null,0,null,0,null,0,null,null,null,""]

{"sheet":"CostumeDesign","index":14,"n_rows":152,"n_cols":31,"rows_kept":152,"cut":false,"hidden":false,"merged":[[0,0,0,8]]}
["Costume Design",null,null,null,null,null,null,null,null,null,"Rank 1-6",null,null,null,null,null,null,null,null,null,null,null,null,null,null,null,null,null,"1violation","2violations","3violations"]
[null,null,null,null,null,null,null,null,null,null,"Round 1:",null,"Round 2:",null,"Round 3:"]
[null,null,null,null,null,null,null,"Student Name",null,null,"R1 rank","R1 score","R2 rank","R2 score","R3 rank","R3 score",null,null,"TOTAL SCORE",null,"TOTAL RANK"]
["A-801",null,null,null,null,null,null,null,null,null,null,null,null,null,null,null,null,null,{"$f":"SUM(L4,N4,P4)","v":0},null,{"$f":"SUM(K4,M4,O4)","v":0}]
["A-802",null,null,null,null,null,null,null,null,null,null,null,null,null,null,null,null,null,0,null,0]
["A-803",null,null,null,null,null,null,null,null,null,null,null,null,null,null,null,null,null,0,null,0]
["A-804",null,null,null,null,null,null,null,null,null,null,null,null,null,null,null,null,null,0,null,0]
[]
["B-801",null,null,null,null,null,null,null,null,null,null,null,null,null,null,null,null,null,{"$f":"SUM(L9,N9,P9)","v":0},null,{"$f":"SUM(K9,M9,O9)","v":0}]
["B-802",null,null,null,null,null,null,null,null,null,null,null,null,null,null,null,null,null,0,null,0]
["B-803",null,null,null,null,null,null,null,null,null,null,null,null,null,null,null,null,null,0,null,0]
["B-804",null,null,null,null,null,null,null,null,null,null,null,null,null,null,null,null,null,0,null,0]
[]
["C-801",null,null,null,null,null,null,"Eva","Spunaugle",null,5.0,22.0,4.0,22.0,6.0,20.0,null,null,{"$f":"SUM(L14,N14,P14)","v":64},null,{"$f":"SUM(K14,M14,O14)","v":15}]
["C-802",null,null,null,null,null,null,null,null,null,null,null,null,null,null,null,null,null,0,null,0]
["C-803",null,null,null,null,null,null,null,null,null,null,null,null,null,null,null,null,null,0,null,0]
["C-804",null,null,null,null,null,null,null,null,null,null,null,null,null,null,null,null,null,0,null,0]
[]
["D-801",null,null,null,null,null,null,null,null,null,null,null,null,null,null,null,null,null,{"$f":"SUM(L19,N19,P19)","v":0},null,{"$f":"SUM(K19,M19,O19)","v":0}]
["D-802",null,null,null,null,null,null,null,null,null,null,null,null,null,null,null,null,null,0,null,0]
["D-803",null,null,null,null,null,null,null,null,null,null,null,null,null,null,null,null,null,0,null,0]
["D-804",null,null,null,null,null,null,null,null,null,null,null,null,null,null,null,null,null,0,null,0]
[]
["E-801",null,null,null,null,null,null,null,null,null,null,null,null,null,null,null,null,null,{"$f":"SUM(L24,N24,P24)","v":0},null,{"$f":"SUM(K24,M24,O24)","v":0}]
["E-802",null,null,null,null,null,null,null,null,null,null,null,null,null,null,null,null,null,0,null,0]
["E-803",null,null,null,null,null,null,null,null,null,null,null,null,null,null,null,null,null,0,null,0]
["E-804",null,null,null,null,null,null,null,null,null,null,null,null,null,null,null,null,null,0,null,0]
[]
["F-801",null,null,null,null,null,null,null,null,null,null,null,null,null,null,null,null,null,{"$f":"SUM(L29,N29,P29)","v":0},null,{"$f":"SUM(K29,M29,O29)","v":0}]
["F-802",null,null,null,null,null,null,null,null,null,null,null,null,null,null,null,null,null,0,null,0]
["F-803",null,null,null,null,null,null,null,null,null,null,null,null,null,null,null,null,null,0,null,0]
["F-804",null,null,null,null,null,null,null,null,null,null,null,null,null,null,null,null,null,0,null,0]
[]
["G-801",null,null,null,null,null,null,"Ingrid","Payne",null,2.0,24.0,1.0,25.0,1.0,25.0,null,null,{"$f":"SUM(L34,N34,P34)","v":74},null,{"$f":"SUM(K34,M34,O34)","v":4}]
["G-802",null,null,null,null,null,null,null,null,null,null,null,null,null,null,null,null,null,0,null,0]
["G-803",null,null,null,null,null,null,null,null,null,null,null,null,null,null,null,null,null,0,null,0]
["G-804",null,null,null,null,null,null,null,null,null,null,null,null,null,null,null,null,null,0,null,0]
[]
["H-801",null,null,null,null,null,null,"Megan","Rice",null,6.0,15.0,null,null,6.0,9.0,null,null,{"$f":"SUM(L39,N39,P39)","v":24},null,{"$f":"SUM(K39,M39,O39)","v":12}]
["H-802",null,null,null,null,null,null,"Nick","Evans",null,3.0,24.0,3.0,23.0,2.0,25.0,null,null,72,null,8]
["H-803",null,null,null,null,null,null,"Lola","Perez",null,6.0,22.0,6.0,21.0,5.0,23.0,null,null,66,null,17]
["H-804",null,null,null,null,null,null,null,null,null,null,null,null,null,null,null,null,null,0,null,0]
[]
["J-801",null,null,null,null,null,null,null,null,null,null,null,null,null,null,null,null,null,{"$f":"SUM(L44,N44,P44)","v":0},null,{"$f":"SUM(K44,M44,O44)","v":0}]
["J-802",null,null,null,null,null,null,null,null,null,null,null,null,null,null,null,null,null,0,null,0]
["J-803",null,null,null,null,null,null,null,null,null,null,null,null,null,null,null,null,null,0,null,0]
["J-804",null,null,null,null,null,null,null,null,null,null,null,null,null,null,null,null,null,0,null,0]
[]
["K-801",null,null,null,null,null,null,null,null,null,null,null,null,null,null,null,null,null,{"$f":"SUM(L49,N49,P49)","v":0},null,{"$f":"SUM(K49,M49,O49)","v":0}]
["K-802",null,null,null,null,null,null,null,null,null,null,null,null,null,null,null,null,null,0,null,0]
["K-803",null,null,null,null,null,null,null,null,null,null,null,null,null,null,null,null,null,0,null,0]
["K-804",null,null,null,null,null,null,null,null,null,null,null,null,null,null,null,null,null,0,null,0]
[]
["L-801",null,null,null,null,null,null,"Brooklyn","Twedell",null,4.0,24.0,5.0,22.0,4.0,24.0,null,null,{"$f":"SUM(L54,N54,P54)","v":70},null,{"$f":"SUM(K54,M54,O54)","v":13}]
["L-802",null,null,null,null,null,null,"Reeanna","Morrey",null,1.0,24.0,2.0,24.0,2.0,24.0,null,null,72,null,5]
["L-803",null,null,null,null,null,null,null,null,null,null,null,null,null,null,null,null,null,0,null,0]
["L-804",null,null,null,null,null,null,null,null,null,null,null,null,null,null,null,null,null,0,null,0]
[]
["M-801",null,null,null,null,null,null,null,null,null,null,null,null,null,null,null,null,null,{"$f":"SUM(L59,N59,P59)","v":0},null,{"$f":"SUM(K59,M59,O59)","v":0}]
["M-802",null,null,null,null,null,null,null,null,null,null,null,null,null,null,null,null,null,0,null,0]
["M-803",null,null,null,null,null,null,null,null,null,null,null,null,null,null,null,null,null,0,null,0]
["M-804",null,null,null,null,null,null,null,null,null,null,null,null,null,null,null,null,null,0,null,0]
[]
["N-801",null,null,null,null,null,null,"Camila","Torgersen",null,null,null,null,null,null,null,null,null,{"$f":"SUM(L64,N64,P64)","v":0},null,{"$f":"SUM(K64,M64,O64)","v":0}]
["N-802",null,null,null,null,null,null,null,null,null,null,null,null,null,null,null,null,null,0,null,0]
["N-803",null,null,null,null,null,null,null,null,null,null,null,null,null,null,null,null,null,0,null,0]
["N-804",null,null,null,null,null,null,null,null,null,null,null,null,null,null,null,null,null,0,null,0]
[]
["P-801",null,null,null,null,null,null,null,null,null,null,null,null,null,null,null,null,null,{"$f":"SUM(L69,N69,P69)","v":0},null,{"$f":"SUM(K69,M69,O69)","v":0}]
["P-802",null,null,null,null,null,null,null,null,null,null,null,null,null,null,null,null,null,0,null,0]
["P-803",null,null,null,null,null,null,null,null,null,null,null,null,null,null,null,null,null,0,null,0]
["P-804",null,null,null,null,null,null,null,null,null,null,null,null,null,null,null,null,null,0,null,0]
[]
["Q-801",null,null,null,null,null,null,null,null,null,null,null,null,null,null,null,null,null,{"$f":"SUM(L74,N74,P74)","v":0},null,{"$f":"SUM(K74,M74,O74)","v":0}]
["Q-802",null,null,null,null,null,null,null,null,null,null,null,null,null,null,null,null,null,0,null,0]
["Q-803",null,null,null,null,null,null,null,null,null,null,null,null,null,null,null,null,null,0,null,0]
["Q-804",null,null,null,null,null,null,null,null,null,null,null,null,null,null,null,null,null,0,null,0]
[]
["R-801",null,null,null,null,null,null,null,null,null,null,null,null,null,null,null,null,null,{"$f":"SUM(L79,N79,P79)","v":0},null,{"$f":"SUM(K79,M79,O79)","v":0}]
["R-802",null,null,null,null,null,null,null,null,null,null,null,null,null,null,null,null,null,0,null,0]
["R-803",null,null,null,null,null,null,null,null,null,null,null,null,null,null,null,null,null,0,null,0]
["R-804",null,null,null,null,null,null,null,null,null,null,null,null,null,null,null,null,null,0,null,0]
[]
["S-801",null,null,null,null,null,null,null,null,null,null,null,null,null,null,null,null,null,{"$f":"SUM(L84,N84,P84)","v":0},null,{"$f":"SUM(K84,M84,O84)","v":0}]
["S-802",null,null,null,null,null,null,null,null,null,null,null,null,null,null,null,null,null,0,null,0]
["S-803",null,null,null,null,null,null,null,null,null,null,null,null,null,null,null,null,null,0,null,0]
["S-804",null,null,null,null,null,null,null,null,null,null,null,null,null,null,null,null,null,0,null,0]
[]
["T-801",null,null,null,null,null,null,null,null,null,null,null,null,null,null,null,null,null,{"$f":"SUM(L89,N89,P89)","v":0},null,{"$f":"SUM(K89,M89,O89)","v":0}]
["T-802",null,null,null,null,null,null,null,null,null,null,null,null,null,null,null,null,null,0,null,0]
["T-803",null,null,null,null,null,null,null,null,null,null,null,null,null,null,null,null,null,0,null,0]
["T-804",null,null,null,null,null,null,null,null,null,null,null,null,null,null,null,null,null,0,null,0]
[]
["U-801",null,null,null,null,null,null,null,null,null,null,null,null,null,null,null,null,null,{"$f":"SUM(L94,N94,P94)","v":0},null,{"$f":"SUM(K94,M94,O94)","v":0}]
["U-802",null,null,null,null,null,null,null,null,null,null,null,null,null,null,null,null,null,0,null,0]
["U-803",null,null,null,null,null,null,null,null,null,null,null,null,null,null,null,null,null,0,null,0]
["U-804",null,null,null,null,null,null,null,null,null,null,null,null,null,null,null,null,null,0,null,0]
[]
["V-801",null,null,null,null,null,null,null,null,null,null,null,null,null,null,null,null,null,{"$f":"SUM(L99,N99,P99)","v":0},null,{"$f":"SUM(K99,M99,O99)","v":0}]
["V-802",null,null,null,null,null,null,null,null,null,null,null,null,null,null,null,null,null,0,null,0]
["V-803",null,null,null,null,null,null,null,null,null,null,null,null,null,null,null,null,null,0,null,0]
["V-804",null,null,null,null,null,null,null,null,null,null,null,null,null,null,null,null,null,0,null,0]
[]
["W-801",null,null,null,null,null,null,null,null,null,null,null,null,null,null,null,null,null,{"$f":"SUM(L104,N104,P104)","v":0},null,{"$f":"SUM(K104,M104,O104)","v":0}]
["W-802",null,null,null,null,null,null,null,null,null,null,null,null,null,null,null,null,null,0,null,0]
["W-803",null,null,null,null,null,null,null,null,null,null,null,null,null,null,null,null,null,0,null,0]
["W-804",null,null,null,null,null,null,null,null,null,null,null,null,null,null,null,null,null,0,null,0]
[]
["X-801",null,null,null,null,null,null,null,null,null,null,null,null,null,null,null,null,null,{"$f":"SUM(L109,N109,P109)","v":0},null,{"$f":"SUM(K109,M109,O109)","v":0}]
["X-802",null,null,null,null,null,null,null,null,null,null,null,null,null,null,null,null,null,0,null,0]
["X-803",null,null,null,null,null,null,null,null,null,null,null,null,null,null,null,null,null,0,null,0]
["X-804",null,null,null,null,null,null,null,null,null,null,null,null,null,null,null,null,null,0,null,0]
[]
["Y-801",null,null,null,null,null,null,null,null,null,null,null,null,null,null,null,null,null,{"$f":"SUM(L114,N114,P114)","v":0},null,{"$f":"SUM(K114,M114,O114)","v":0}]
["Y-802",null,null,null,null,null,null,null,null,null,null,null,null,null,null,null,null,null,0,null,0]
["Y-803",null,null,null,null,null,null,null,null,null,null,null,null,null,null,null,null,null,0,null,0]
["Y-804",null,null,null,null,null,null,null,null,null,null,null,null,null,null,null,null,null,0,null,0]
[]
["Z-801",null,null,null,null,null,null,null,null,null,null,null,null,null,null,null,null,null,{"$f":"SUM(L119,N119,P119)","v":0},null,{"$f":"SUM(K119,M119,O119)","v":0}]
["Z-802",null,null,null,null,null,null,null,null,null,null,null,null,null,null,null,null,null,0,null,0]
["Z-803",null,null,null,null,null,null,null,null,null,null,null,null,null,null,null,null,null,0,null,0]
["Z-804",null,null,null,null,null,null,null,null,null,null,null,null,null,null,null,null,null,0,null,0]
[]
["AA-801",null,null,null,null,null,null,null,null,null,null,null,null,null,null,null,null,null,{"$f":"SUM(L124,N124,P124)","v":0},null,{"$f":"SUM(K124,M124,O124)","v":0}]
["AA-802",null,null,null,null,null,null,null,null,null,null,null,null,null,null,null,null,null,0,null,0]
["AA-803",null,null,null,null,null,null,null,null,null,null,null,null,null,null,null,null,null,0,null,0]
["AA-804",null,null,null,null,null,null,null,null,null,null,null,null,null,null,null,null,null,0,null,0]
[]
["BB-801",null,null,null,null,null,null,null,null,null,null,null,null,null,null,null,null,null,{"$f":"SUM(L129,N129,P129)","v":0},null,{"$f":"SUM(K129,M129,O129)","v":0}]
["BB-802",null,null,null,null,null,null,null,null,null,null,null,null,null,null,null,null,null,0,null,0]
["BB-803",null,null,null,null,null,null,null,null,null,null,null,null,null,null,null,null,null,0,null,0]
["BB-804",null,null,null,null,null,null,null,null,null,null,null,null,null,null,null,null,null,0,null,0]
[]
["CC-801",null,null,null,null,null,null,null,null,null,null,null,null,null,null,null,null,null,{"$f":"SUM(L134,N134,P134)","v":0},null,{"$f":"SUM(K134,M134,O134)","v":0}]
["CC-802",null,null,null,null,null,null,null,null,null,null,null,null,null,null,null,null,null,0,null,0]
["CC-803",null,null,null,null,null,null,null,null,null,null,null,null,null,null,null,null,null,0,null,0]
["CC-804",null,null,null,null,null,null,null,null,null,null,null,null,null,null,null,null,null,0,null,0]
[]
["DD-801",null,null,null,null,null,null,null,null,null,null,null,null,null,null,null,null,null,{"$f":"SUM(L139,N139,P139)","v":0},null,{"$f":"SUM(K139,M139,O139)","v":0}]
["DD-802",null,null,null,null,null,null,null,null,null,null,null,null,null,null,null,null,null,0,null,0]
["DD-803",null,null,null,null,null,null,null,null,null,null,null,null,null,null,null,null,null,0,null,0]
["DD-804",null,null,null,null,null,null,null,null,null,null,null,null,null,null,null,null,null,0,null,0]
[]
["EE-801",null,null,null,null,null,null,null,null,null,null,null,null,null,null,null,null,null,{"$f":"SUM(L144,N144,P144)","v":0},null,{"$f":"SUM(K144,M144,O144)","v":0}]
["EE-802",null,null,null,null,null,null,null,null,null,null,null,null,null,null,null,null,null,0,null,0]
["EE-803",null,null,null,null,null,null,null,null,null,null,null,null,null,null,null,null,null,0,null,0]
["EE-804",null,null,null,null,null,null,null,null,null,null,null,null,null,null,null,null,null,0,null,0]
[]
["FF-801",null,null,null,null,null,null,null,null,null,null,null,null,null,null,null,null,null,{"$f":"SUM(L149,N149,P149)","v":0},null,{"$f":"SUM(K149,M149,O149)","v":0}]
["FF-802",null,null,null,null,null,null,null,null,null,null,null,null,null,null,null,null,null,0,null,0]
["FF-803",null,null,null,null,null,null,null,null,null,null,null,null,null,null,null,null,null,0,null,0]
["FF-804",null,null,null,null,null,null,null,null,null,null,null,null,null,null,null,null,null,0,null,0]

{"sheet":"ScenicDesign","index":15,"n_rows":152,"n_cols":31,"rows_kept":152,"cut":false,"hidden":false,"merged":[[0,0,0,8]]}
["Scenic Design",null,null,null,null,null,null,null,null,null,"Rank 1-6",null,null,null,null,null,null,null,null,null,null,null,null,null,null,null,null,null,"1violation","2violations","3violations"]
[null,null,null,null,null,null,null,null,null,null,"Round 1:",null,"Round 2:",null,"Round 3:"]
[null,null,null,null,null,null,null,"Student Name",null,null,"R1 rank","R1 score","R2 rank","R2 score","R3 rank","R3 score",null,null,"TOTAL SCORE",null,"TOTAL RANK"]
["A-901",null,null,null,null,null,null,"Alison","Olson",null,3.0,22.0,3.0,25.0,1.0,25.0,null,null,{"$f":"SUM(L4,N4,P4)","v":72},null,{"$f":"SUM(K4,M4,O4)","v":7}]
["A-902",null,null,null,null,null,null,null,null,null,null,null,null,null,null,null,null,null,0,null,0]
["A-903",null,null,null,null,null,null,null,null,null,null,null,null,null,null,null,null,null,0,null,0]
["A-904",null,null,null,null,null,null,null,null,null,null,null,null,null,null,null,null,null,0,null,0]
[]
["B-901",null,null,null,null,null,null,null,null,null,null,null,null,null,null,null,null,null,{"$f":"SUM(L9,N9,P9)","v":0},null,{"$f":"SUM(K9,M9,O9)","v":0}]
["B-902",null,null,null,null,null,null,null,null,null,null,null,null,null,null,null,null,null,0,null,0]
["B-903",null,null,null,null,null,null,null,null,null,null,null,null,null,null,null,null,null,0,null,0]
["B-904",null,null,null,null,null,null,null,null,null,null,null,null,null,null,null,null,null,0,null,0]
[]
["C-901",null,null,null,null,null,null,null,null,null,null,null,null,null,null,null,null,null,{"$f":"SUM(L14,N14,P14)","v":0},null,{"$f":"SUM(K14,M14,O14)","v":0}]
["C-902",null,null,null,null,null,null,null,null,null,null,null,null,null,null,null,null,null,0,null,0]
["C-903",null,null,null,null,null,null,null,null,null,null,null,null,null,null,null,null,null,0,null,0]
["C-904",null,null,null,null,null,null,null,null,null,null,null,null,null,null,null,null,null,0,null,0]
[]
["D-901",null,null,null,null,null,null,null,null,null,null,null,null,null,null,null,null,null,{"$f":"SUM(L19,N19,P19)","v":0},null,{"$f":"SUM(K19,M19,O19)","v":0}]
["D-902",null,null,null,null,null,null,null,null,null,null,null,null,null,null,null,null,null,0,null,0]
["D-903",null,null,null,null,null,null,null,null,null,null,null,null,null,null,null,null,null,0,null,0]
["D-904",null,null,null,null,null,null,null,null,null,null,null,null,null,null,null,null,null,0,null,0]
[]
["E-901",null,null,null,null,null,null,null,null,null,null,null,null,null,null,null,null,null,{"$f":"SUM(L24,N24,P24)","v":0},null,{"$f":"SUM(K24,M24,O24)","v":0}]
["E-902",null,null,null,null,null,null,null,null,null,null,null,null,null,null,null,null,null,0,null,0]
["E-903",null,null,null,null,null,null,null,null,null,null,null,null,null,null,null,null,null,0,null,0]
["E-904",null,null,null,null,null,null,null,null,null,null,null,null,null,null,null,null,null,0,null,0]
[]
["F-901",null,null,null,null,null,null,null,null,null,null,null,null,null,null,null,null,null,{"$f":"SUM(L29,N29,P29)","v":0},null,{"$f":"SUM(K29,M29,O29)","v":0}]
["F-902",null,null,null,null,null,null,null,null,null,null,null,null,null,null,null,null,null,0,null,0]
["F-903",null,null,null,null,null,null,null,null,null,null,null,null,null,null,null,null,null,0,null,0]
["F-904",null,null,null,null,null,null,null,null,null,null,null,null,null,null,null,null,null,0,null,0]
[]
["G-901",null,null,null,null,null,null,null,null,null,null,null,null,null,null,null,null,null,{"$f":"SUM(L34,N34,P34)","v":0},null,{"$f":"SUM(K34,M34,O34)","v":0}]
["G-902",null,null,null,null,null,null,null,null,null,null,null,null,null,null,null,null,null,0,null,0]
["G-903",null,null,null,null,null,null,null,null,null,null,null,null,null,null,null,null,null,0,null,0]
["G-904",null,null,null,null,null,null,null,null,null,null,null,null,null,null,null,null,null,0,null,0]
[]
["H-901",null,null,null,null,null,null,null,null,null,null,null,null,null,null,null,null,null,{"$f":"SUM(L39,N39,P39)","v":0},null,{"$f":"SUM(K39,M39,O39)","v":0}]
["H-902",null,null,null,null,null,null,null,null,null,null,null,null,null,null,null,null,null,0,null,0]
["H-903",null,null,null,null,null,null,null,null,null,null,null,null,null,null,null,null,null,0,null,0]
["H-904",null,null,null,null,null,null,null,null,null,null,null,null,null,null,null,null,null,0,null,0]
[]
["J-901",null,null,null,null,null,null,null,null,null,null,null,null,null,null,null,null,null,{"$f":"SUM(L44,N44,P44)","v":0},null,{"$f":"SUM(K44,M44,O44)","v":0}]
["J-902",null,null,null,null,null,null,null,null,null,null,null,null,null,null,null,null,null,0,null,0]
["J-903",null,null,null,null,null,null,null,null,null,null,null,null,null,null,null,null,null,0,null,0]
["J-904",null,null,null,null,null,null,null,null,null,null,null,null,null,null,null,null,null,0,null,0]
[]
["K-901",null,null,null,null,null,null,null,null,null,null,null,null,null,null,null,null,null,{"$f":"SUM(L49,N49,P49)","v":0},null,{"$f":"SUM(K49,M49,O49)","v":0}]
["K-902",null,null,null,null,null,null,null,null,null,null,null,null,null,null,null,null,null,0,null,0]
["K-903",null,null,null,null,null,null,null,null,null,null,null,null,null,null,null,null,null,0,null,0]
["K-904",null,null,null,null,null,null,null,null,null,null,null,null,null,null,null,null,null,0,null,0]
[]
["L-901",null,null,null,null,null,null,null,null,null,null,null,null,null,null,null,null,null,{"$f":"SUM(L54,N54,P54)","v":0},null,{"$f":"SUM(K54,M54,O54)","v":0}]
["L-902",null,null,null,null,null,null,null,null,null,null,null,null,null,null,null,null,null,0,null,0]
["L-903",null,null,null,null,null,null,null,null,null,null,null,null,null,null,null,null,null,0,null,0]
["L-904",null,null,null,null,null,null,null,null,null,null,null,null,null,null,null,null,null,0,null,0]
[]
["M-901",null,null,null,null,null,null,null,null,null,null,null,null,null,null,null,null,null,{"$f":"SUM(L59,N59,P59)","v":0},null,{"$f":"SUM(K59,M59,O59)","v":0}]
["M-902",null,null,null,null,null,null,null,null,null,null,null,null,null,null,null,null,null,0,null,0]
["M-903",null,null,null,null,null,null,null,null,null,null,null,null,null,null,null,null,null,0,null,0]
["M-904",null,null,null,null,null,null,null,null,null,null,null,null,null,null,null,null,null,0,null,0]
[]
["N-901",null,null,null,null,null,null,"Isabel ","Nielsen",null,4.0,22.0,2.0,25.0,3.0,25.0,null,null,{"$f":"SUM(L64,N64,P64)","v":72},null,{"$f":"SUM(K64,M64,O64)","v":9}]
["N-902",null,null,null,null,null,null,"Bella","Aguilar",null,1.0,24.0,1.0,25.0,4.0,23.0,null,null,72,null,6]
["N-903",null,null,null,null,null,null,"Madison ","Garlick",null,2.0,23.0,4.0,25.0,2.0,25.0,null,null,73,null,8]
["N-904",null,null,null,null,null,null,null,null,null,null,null,null,null,null,null,null,null,0,null,0]
[]
["P-901",null,null,null,null,null,null,null,null,null,null,null,null,null,null,null,null,null,{"$f":"SUM(L69,N69,P69)","v":0},null,{"$f":"SUM(K69,M69,O69)","v":0}]
["P-902",null,null,null,null,null,null,null,null,null,null,null,null,null,null,null,null,null,0,null,0]
["P-903",null,null,null,null,null,null,null,null,null,null,null,null,null,null,null,null,null,0,null,0]
["P-904",null,null,null,null,null,null,null,null,null,null,null,null,null,null,null,null,null,0,null,0]
[]
["Q-901",null,null,null,null,null,null,null,null,null,null,null,null,null,null,null,null,null,{"$f":"SUM(L74,N74,P74)","v":0},null,{"$f":"SUM(K74,M74,O74)","v":0}]
["Q-902",null,null,null,null,null,null,null,null,null,null,null,null,null,null,null,null,null,0,null,0]
["Q-903",null,null,null,null,null,null,null,null,null,null,null,null,null,null,null,null,null,0,null,0]
["Q-904",null,null,null,null,null,null,null,null,null,null,null,null,null,null,null,null,null,0,null,0]
[]
["R-901",null,null,null,null,null,null,null,null,null,null,null,null,null,null,null,null,null,{"$f":"SUM(L79,N79,P79)","v":0},null,{"$f":"SUM(K79,M79,O79)","v":0}]
["R-902",null,null,null,null,null,null,null,null,null,null,null,null,null,null,null,null,null,0,null,0]
["R-903",null,null,null,null,null,null,null,null,null,null,null,null,null,null,null,null,null,0,null,0]
["R-904",null,null,null,null,null,null,null,null,null,null,null,null,null,null,null,null,null,0,null,0]
[]
["S-901",null,null,null,null,null,null,"Tanner","Perkins",null,5.0,21.0,5.0,23.0,5.0,22.0,null,null,{"$f":"SUM(L84,N84,P84)","v":66},null,{"$f":"SUM(K84,M84,O84)","v":15}]
["S-902",null,null,null,null,null,null,null,null,null,null,null,null,null,null,null,null,null,0,null,0]
["S-903",null,null,null,null,null,null,null,null,null,null,null,null,null,null,null,null,null,0,null,0]
["S-904",null,null,null,null,null,null,null,null,null,null,null,null,null,null,null,null,null,0,null,0]
[]
["T-901",null,null,null,null,null,null,null,null,null,null,null,null,null,null,null,null,null,{"$f":"SUM(L89,N89,P89)","v":0},null,{"$f":"SUM(K89,M89,O89)","v":0}]
["T-902",null,null,null,null,null,null,null,null,null,null,null,null,null,null,null,null,null,0,null,0]
["T-903",null,null,null,null,null,null,null,null,null,null,null,null,null,null,null,null,null,0,null,0]
["T-904",null,null,null,null,null,null,null,null,null,null,null,null,null,null,null,null,null,0,null,0]
[]
["U-901",null,null,null,null,null,null,null,null,null,null,null,null,null,null,null,null,null,{"$f":"SUM(L94,N94,P94)","v":0},null,{"$f":"SUM(K94,M94,O94)","v":0}]
["U-902",null,null,null,null,null,null,null,null,null,null,null,null,null,null,null,null,null,0,null,0]
["U-903",null,null,null,null,null,null,null,null,null,null,null,null,null,null,null,null,null,0,null,0]
["U-904",null,null,null,null,null,null,null,null,null,null,null,null,null,null,null,null,null,0,null,0]
[]
["V-901",null,null,null,null,null,null,null,null,null,null,null,null,null,null,null,null,null,{"$f":"SUM(L99,N99,P99)","v":0},null,{"$f":"SUM(K99,M99,O99)","v":0}]
["V-902",null,null,null,null,null,null,null,null,null,null,null,null,null,null,null,null,null,0,null,0]
["V-903",null,null,null,null,null,null,null,null,null,null,null,null,null,null,null,null,null,0,null,0]
["V-904",null,null,null,null,null,null,null,null,null,null,null,null,null,null,null,null,null,0,null,0]
[]
["W-901",null,null,null,null,null,null,null,null,null,null,null,null,null,null,null,null,null,{"$f":"SUM(L104,N104,P104)","v":0},null,{"$f":"SUM(K104,M104,O104)","v":0}]
["W-902",null,null,null,null,null,null,null,null,null,null,null,null,null,null,null,null,null,0,null,0]
["W-903",null,null,null,null,null,null,null,null,null,null,null,null,null,null,null,null,null,0,null,0]
["W-904",null,null,null,null,null,null,null,null,null,null,null,null,null,null,null,null,null,0,null,0]
[]
["X-901",null,null,null,null,null,null,null,null,null,null,null,null,null,null,null,null,null,{"$f":"SUM(L109,N109,P109)","v":0},null,{"$f":"SUM(K109,M109,O109)","v":0}]
["X-902",null,null,null,null,null,null,null,null,null,null,null,null,null,null,null,null,null,0,null,0]
["X-903",null,null,null,null,null,null,null,null,null,null,null,null,null,null,null,null,null,0,null,0]
["X-904",null,null,null,null,null,null,null,null,null,null,null,null,null,null,null,null,null,0,null,0]
[]
["Y-901",null,null,null,null,null,null,null,null,null,null,null,null,null,null,null,null,null,{"$f":"SUM(L114,N114,P114)","v":0},null,{"$f":"SUM(K114,M114,O114)","v":0}]
["Y-902",null,null,null,null,null,null,null,null,null,null,null,null,null,null,null,null,null,0,null,0]
["Y-903",null,null,null,null,null,null,null,null,null,null,null,null,null,null,null,null,null,0,null,0]
["Y-904",null,null,null,null,null,null,null,null,null,null,null,null,null,null,null,null,null,0,null,0]
[]
["Z-901",null,null,null,null,null,null,null,null,null,null,null,null,null,null,null,null,null,{"$f":"SUM(L119,N119,P119)","v":0},null,{"$f":"SUM(K119,M119,O119)","v":0}]
["Z-902",null,null,null,null,null,null,null,null,null,null,null,null,null,null,null,null,null,0,null,0]
["Z-903",null,null,null,null,null,null,null,null,null,null,null,null,null,null,null,null,null,0,null,0]
["Z-904",null,null,null,null,null,null,null,null,null,null,null,null,null,null,null,null,null,0,null,0]
[]
["AA-901",null,null,null,null,null,null,null,null,null,null,null,null,null,null,null,null,null,{"$f":"SUM(L124,N124,P124)","v":0},null,{"$f":"SUM(K124,M124,O124)","v":0}]
["AA-902",null,null,null,null,null,null,null,null,null,null,null,null,null,null,null,null,null,0,null,0]
["AA-903",null,null,null,null,null,null,null,null,null,null,null,null,null,null,null,null,null,0,null,0]
["AA-904",null,null,null,null,null,null,null,null,null,null,null,null,null,null,null,null,null,0,null,0]
[]
["BB-901",null,null,null,null,null,null,null,null,null,null,null,null,null,null,null,null,null,{"$f":"SUM(L129,N129,P129)","v":0},null,{"$f":"SUM(K129,M129,O129)","v":0}]
["BB-902",null,null,null,null,null,null,null,null,null,null,null,null,null,null,null,null,null,0,null,0]
["BB-903",null,null,null,null,null,null,null,null,null,null,null,null,null,null,null,null,null,0,null,0]
["BB-904",null,null,null,null,null,null,null,null,null,null,null,null,null,null,null,null,null,0,null,0]
[]
["CC-901",null,null,null,null,null,null,null,null,null,null,null,null,null,null,null,null,null,{"$f":"SUM(L134,N134,P134)","v":0},null,{"$f":"SUM(K134,M134,O134)","v":0}]
["CC-902",null,null,null,null,null,null,null,null,null,null,null,null,null,null,null,null,null,0,null,0]
["CC-903",null,null,null,null,null,null,null,null,null,null,null,null,null,null,null,null,null,0,null,0]
["CC-904",null,null,null,null,null,null,null,null,null,null,null,null,null,null,null,null,null,0,null,0]
[]
["DD-901",null,null,null,null,null,null,null,null,null,null,null,null,null,null,null,null,null,{"$f":"SUM(L139,N139,P139)","v":0},null,{"$f":"SUM(K139,M139,O139)","v":0}]
["DD-902",null,null,null,null,null,null,null,null,null,null,null,null,null,null,null,null,null,0,null,0]
["DD-903",null,null,null,null,null,null,null,null,null,null,null,null,null,null,null,null,null,0,null,0]
["DD-904",null,null,null,null,null,null,null,null,null,null,null,null,null,null,null,null,null,0,null,0]
[]
["EE-901",null,null,null,null,null,null,null,null,null,null,null,null,null,null,null,null,null,{"$f":"SUM(L144,N144,P144)","v":0},null,{"$f":"SUM(K144,M144,O144)","v":0}]
["EE-902",null,null,null,null,null,null,null,null,null,null,null,null,null,null,null,null,null,0,null,0]
["EE-903",null,null,null,null,null,null,null,null,null,null,null,null,null,null,null,null,null,0,null,0]
["EE-904",null,null,null,null,null,null,null,null,null,null,null,null,null,null,null,null,null,0,null,0]
[]
["FF-901",null,null,null,null,null,null,null,null,null,null,null,null,null,null,null,null,null,{"$f":"SUM(L149,N149,P149)","v":0},null,{"$f":"SUM(K149,M149,O149)","v":0}]
["FF-902",null,null,null,null,null,null,null,null,null,null,null,null,null,null,null,null,null,0,null,0]
["FF-903",null,null,null,null,null,null,null,null,null,null,null,null,null,null,null,null,null,0,null,0]
["FF-904",null,null,null,null,null,null,null,null,null,null,null,null,null,null,null,null,null,0,null,0]

{"sheet":"Sweepstakes","index":16,"n_rows":33,"n_cols":23,"rows_kept":33,"cut":false,"hidden":false,"merged":[]}
["FINAL SWEEPSTAKES SCORES"]
[]
[null,"School Name",null,"HUMOROUS MONOLOGUES",null,null,"DRAMATIC MONOLOGUES",null,null,"CLASSICAL SCENES",null,null,"CONTEMPORARY SCENES",null,null,"PANTOMIMES",null,"MUSICAL THEATRE",null,null,"ONE-ACT",null,"TOTAL"]
["A","Manti",null,null,{"$f":"SUM('Humorous Monologues'!Y4)","v":215},null,null,{"$f":"SUM(Dramatic!Y4)","v":214},null,null,{"$f":"SUM(Classical!Y4)","v":223},null,null,{"$f":"SUM(Contemporary!Y4)","v":199},null,{"$f":"SUM(Pantomime!Y4)","v":222},null,{"$f":"SUM(MusicalTheatre!Z4)","v":219},null,null,{"$f":"'One-Acts'!W4","v":144},null,{"$f":"SUM(E4:U4)","v":1436}]
["B","Delta",null,null,{"$f":"SUM('Humorous Monologues'!Y9)","v":66},null,null,{"$f":"SUM(Dramatic!Y9)","v":0},null,null,{"$f":"SUM(Classical!Y9)","v":0},null,null,{"$f":"SUM(Contemporary!Y9)","v":59},null,{"$f":"SUM(Pantomime!Y9)","v":0},null,{"$f":"SUM(MusicalTheatre!Z9)","v":141},null,null,{"$f":"'One-Acts'!W5","v":0},null,266]
["C","Union",null,null,{"$f":"SUM('Humorous Monologues'!Y14)","v":221},null,null,{"$f":"SUM(Dramatic!Y14)","v":217},null,null,{"$f":"SUM(Classical!Y14)","v":218},null,null,{"$f":"SUM(Contemporary!Y14)","v":219},null,{"$f":"SUM(Pantomime!Y14)","v":219},null,{"$f":"SUM(MusicalTheatre!Z14)","v":219},null,null,{"$f":"'One-Acts'!W6","v":145},null,1458]
["D",null,null,null,{"$f":"SUM('Humorous Monologues'!Y19)","v":0},null,null,{"$f":"SUM(Dramatic!Y19)","v":0},null,null,{"$f":"SUM(Classical!Y19)","v":0},null,null,{"$f":"SUM(Contemporary!Y19)","v":0},null,{"$f":"SUM(Pantomime!Y19)","v":0},null,{"$f":"SUM(MusicalTheatre!Z19)","v":0},null,null,{"$f":"'One-Acts'!W7","v":0},null,0]
["E","South Summit",null,null,{"$f":"SUM('Humorous Monologues'!Y24)","v":217},null,null,{"$f":"SUM(Dramatic!Y24)","v":139},null,null,{"$f":"SUM(Classical!Y24)","v":69},null,null,{"$f":"SUM(Contemporary!Y24)","v":64},null,{"$f":"SUM(Pantomime!Y24)","v":200},null,{"$f":"SUM(MusicalTheatre!Z24)","v":131},null,null,{"$f":"'One-Acts'!W8","v":109},null,929]
["F","ALA",null,null,{"$f":"SUM('Humorous Monologues'!Y29)","v":211},null,null,{"$f":"SUM(Dramatic!Y29)","v":205},null,null,{"$f":"SUM(Classical!Y29)","v":219},null,null,{"$f":"SUM(Contemporary!Y29)","v":205},null,{"$f":"SUM(Pantomime!Y29)","v":197},null,{"$f":"SUM(MusicalTheatre!Z29)","v":212},null,null,{"$f":"'One-Acts'!W9","v":142},null,1391]
["G","Grand County",null,null,{"$f":"SUM('Humorous Monologues'!Y34)","v":0},null,null,{"$f":"SUM(Dramatic!Y34)","v":127},null,null,{"$f":"SUM(Classical!Y34)","v":74},null,null,{"$f":"SUM(Contemporary!Y34)","v":0},null,{"$f":"SUM(Pantomime!Y34)","v":0},null,{"$f":"SUM(MusicalTheatre!Z34)","v":127},null,null,{"$f":"'One-Acts'!W10","v":126},null,454]
["H","Canyon View",null,null,{"$f":"SUM('Humorous Monologues'!Y39)","v":207},null,null,{"$f":"SUM(Dramatic!Y39)","v":212},null,null,{"$f":"SUM(Classical!Y39)","v":217},null,null,{"$f":"SUM(Contemporary!Y39)","v":204},null,{"$f":"SUM(Pantomime!Y39)","v":203},null,{"$f":"SUM(MusicalTheatre!Z39)","v":219},null,null,{"$f":"'One-Acts'!W11","v":128},null,1390]
["J","Juab",null,null,{"$f":"SUM('Humorous Monologues'!Y44)","v":0},null,null,{"$f":"SUM(Dramatic!Y44)","v":62},null,null,{"$f":"SUM(Classical!Y44)","v":0},null,null,{"$f":"SUM(Contemporary!Y44)","v":138},null,{"$f":"SUM(Pantomime!Y44)","v":0},null,{"$f":"SUM(MusicalTheatre!Z44)","v":142},null,null,{"$f":"'One-Acts'!W12","v":130},null,472]
["K","Juan Diego",null,null,{"$f":"SUM('Humorous Monologues'!Y49)","v":0},null,null,{"$f":"SUM(Dramatic!Y49)","v":205},null,null,{"$f":"SUM(Classical!Y49)","v":66},null,null,{"$f":"SUM(Contemporary!Y49)","v":201},null,{"$f":"SUM(Pantomime!Y49)","v":65},null,{"$f":"SUM(MusicalTheatre!Z49)","v":132},null,null,{"$f":"'One-Acts'!W13","v":137},null,806]
["L","Carbon",null,null,{"$f":"SUM('Humorous Monologues'!Y54)","v":213},null,null,{"$f":"SUM(Dramatic!Y54)","v":114},null,null,{"$f":"SUM(Classical!Y54)","v":70},null,null,{"$f":"SUM(Contemporary!Y54)","v":200},null,{"$f":"SUM(Pantomime!Y54)","v":130},null,{"$f":"SUM(MusicalTheatre!Z54)","v":206},null,null,{"$f":"'One-Acts'!W14","v":115},null,1048]
["M","Emery",null,null,{"$f":"SUM('Humorous Monologues'!Y59)","v":140},null,null,{"$f":"SUM(Dramatic!Y59)","v":139},null,null,{"$f":"SUM(Classical!Y59)","v":0},null,null,{"$f":"SUM(Contemporary!Y59)","v":0},null,{"$f":"SUM(Pantomime!Y59)","v":138},null,{"$f":"SUM(MusicalTheatre!Z59)","v":208},null,null,{"$f":"'One-Acts'!W15","v":0},null,625]
["N","Richfield",null,null,{"$f":"SUM('Humorous Monologues'!Y64)","v":0},null,null,{"$f":"SUM(Dramatic!Y64)","v":199},null,null,{"$f":"SUM(Classical!Y64)","v":0},null,null,{"$f":"SUM(Contemporary!Y64)","v":130},null,{"$f":"SUM(Pantomime!Y64)","v":61},null,{"$f":"SUM(MusicalTheatre!Z64)","v":193},null,null,{"$f":"'One-Acts'!W16","v":0},null,583]
["P","NSHS",null,null,{"$f":"SUM('Humorous Monologues'!Y69)","v":221},null,null,{"$f":"SUM(Dramatic!Y69)","v":211},null,null,{"$f":"SUM(Classical!Y69)","v":218},null,null,{"$f":"SUM(Contemporary!Y69)","v":213},null,{"$f":"SUM(Pantomime!Y69)","v":222},null,{"$f":"SUM(MusicalTheatre!Z69)","v":218},null,null,{"$f":"'One-Acts'!W17","v":130},null,1433]
["Q",null,null,null,{"$f":"SUM('Humorous Monologues'!Y74)","v":0},null,null,{"$f":"SUM(Dramatic!Y74)","v":0},null,null,{"$f":"SUM(Classical!Y74)","v":0},null,null,{"$f":"SUM(Contemporary!Y74)","v":0},null,{"$f":"SUM(Pantomime!Y74)","v":0},null,{"$f":"SUM(MusicalTheatre!Z74)","v":0},null,null,{"$f":"'One-Acts'!W18","v":0},null,0]
["R","Providence",null,null,{"$f":"SUM('Humorous Monologues'!Y79)","v":132},null,null,{"$f":"SUM(Dramatic!Y79)","v":135},null,null,{"$f":"SUM(Classical!Y79)","v":68},null,null,{"$f":"SUM(Contemporary!Y79)","v":184},null,{"$f":"SUM(Pantomime!Y79)","v":0},null,{"$f":"SUM(MusicalTheatre!Z79)","v":192},null,null,{"$f":"'One-Acts'!W19","v":111},null,822]
["S","Grantsville",null,null,{"$f":"SUM('Humorous Monologues'!Y84)","v":208},null,null,{"$f":"SUM(Dramatic!Y84)","v":142},null,null,{"$f":"SUM(Classical!Y84)","v":67},null,null,{"$f":"SUM(Contemporary!Y84)","v":134},null,{"$f":"SUM(Pantomime!Y84)","v":197},null,{"$f":"SUM(MusicalTheatre!Z84)","v":203},null,null,{"$f":"'One-Acts'!W20","v":128},null,1079]
["T",null,null,null,{"$f":"SUM('Humorous Monologues'!Y89)","v":0},null,null,{"$f":"SUM(Dramatic!Y89)","v":0},null,null,{"$f":"SUM(Classical!Y89)","v":0},null,null,{"$f":"SUM(Contemporary!Y89)","v":0},null,{"$f":"SUM(Pantomime!Y89)","v":0},null,{"$f":"SUM(MusicalTheatre!Z89)","v":0},null,null,{"$f":"'One-Acts'!W21","v":0},null,0]
["U",null,null,null,{"$f":"SUM('Humorous Monologues'!Y94)","v":0},null,null,{"$f":"SUM(Dramatic!Y94)","v":0},null,null,{"$f":"SUM(Classical!Y94)","v":0},null,null,{"$f":"SUM(Contemporary!Y94)","v":0},null,{"$f":"SUM(Pantomime!Y94)","v":0},null,{"$f":"SUM(MusicalTheatre!Z94)","v":0},null,null,{"$f":"'One-Acts'!W22","v":0},null,0]
["V",null,null,null,{"$f":"SUM('Humorous Monologues'!Y99)","v":0},null,null,{"$f":"SUM(Dramatic!Y99)","v":0},null,null,{"$f":"SUM(Classical!Y99)","v":0},null,null,{"$f":"SUM(Contemporary!Y99)","v":0},null,{"$f":"SUM(Pantomime!Y99)","v":0},null,{"$f":"SUM(MusicalTheatre!Z99)","v":0},null,null,{"$f":"'One-Acts'!W23","v":0},null,0]
["W",null,null,null,{"$f":"SUM('Humorous Monologues'!Y104)","v":0},null,null,{"$f":"SUM(Dramatic!Y104)","v":0},null,null,{"$f":"SUM(Classical!Y104)","v":0},null,null,{"$f":"SUM(Contemporary!Y104)","v":0},null,{"$f":"SUM(Pantomime!Y104)","v":0},null,{"$f":"SUM(MusicalTheatre!Z104)","v":0},null,null,{"$f":"'One-Acts'!W24","v":0},null,0]
["X",null,null,null,{"$f":"SUM('Humorous Monologues'!Y109)","v":0},null,null,{"$f":"SUM(Dramatic!Y109)","v":0},null,null,{"$f":"SUM(Classical!Y109)","v":0},null,null,{"$f":"SUM(Contemporary!Y109)","v":0},null,{"$f":"SUM(Pantomime!Y109)","v":0},null,{"$f":"SUM(MusicalTheatre!Z109)","v":0},null,null,{"$f":"'One-Acts'!W25","v":0},null,0]
["Y",null,null,null,{"$f":"SUM('Humorous Monologues'!Y114)","v":0},null,null,{"$f":"SUM(Dramatic!Y114)","v":0},null,null,{"$f":"SUM(Classical!Y114)","v":0},null,null,{"$f":"SUM(Contemporary!Y114)","v":0},null,{"$f":"SUM(Pantomime!Y114)","v":0},null,{"$f":"SUM(MusicalTheatre!Z114)","v":0},null,null,{"$f":"'One-Acts'!W26","v":0},null,0]
["Z",null,null,null,{"$f":"SUM('Humorous Monologues'!Y119)","v":0},null,null,{"$f":"SUM(Dramatic!Y119)","v":0},null,null,{"$f":"SUM(Classical!Y119)","v":0},null,null,{"$f":"SUM(Contemporary!Y119)","v":0},null,{"$f":"SUM(Pantomime!Y119)","v":0},null,{"$f":"SUM(MusicalTheatre!Z119)","v":0},null,null,{"$f":"'One-Acts'!W27","v":0},null,0]
["AA",null,null,null,{"$f":"SUM('Humorous Monologues'!Y124)","v":0},null,null,{"$f":"SUM(Dramatic!Y124)","v":0},null,null,{"$f":"SUM(Classical!Y124)","v":0},null,null,{"$f":"SUM(Contemporary!Y124)","v":0},null,{"$f":"SUM(Pantomime!Y124)","v":0},null,{"$f":"SUM(MusicalTheatre!Z124)","v":0},null,null,{"$f":"'One-Acts'!W28","v":0},null,0]
["BB",null,null,null,{"$f":"SUM('Humorous Monologues'!Y129)","v":0},null,null,{"$f":"SUM(Dramatic!Y129)","v":0},null,null,{"$f":"SUM(Classical!Y129)","v":0},null,null,{"$f":"SUM(Contemporary!Y129)","v":0},null,{"$f":"SUM(Pantomime!Y129)","v":0},null,{"$f":"SUM(MusicalTheatre!Z129)","v":0},null,null,{"$f":"'One-Acts'!W29","v":0},null,0]
["CC",null,null,null,{"$f":"SUM('Humorous Monologues'!Y134)","v":0},null,null,{"$f":"SUM(Dramatic!Y134)","v":0},null,null,{"$f":"SUM(Classical!Y134)","v":0},null,null,{"$f":"SUM(Contemporary!Y134)","v":0},null,{"$f":"SUM(Pantomime!Y134)","v":0},null,{"$f":"SUM(MusicalTheatre!Z134)","v":0},null,null,{"$f":"'One-Acts'!W30","v":0},null,0]
["DD",null,null,null,{"$f":"SUM('Humorous Monologues'!Y139)","v":0},null,null,{"$f":"SUM(Dramatic!Y139)","v":0},null,null,{"$f":"SUM(Classical!Y139)","v":0},null,null,{"$f":"SUM(Contemporary!Y139)","v":0},null,{"$f":"SUM(Pantomime!Y139)","v":0},null,{"$f":"SUM(MusicalTheatre!Z139)","v":0},null,null,{"$f":"'One-Acts'!W31","v":0},null,0]
["EE",null,null,null,{"$f":"SUM('Humorous Monologues'!Y144)","v":0},null,null,{"$f":"SUM(Dramatic!Y144)","v":0},null,null,{"$f":"SUM(Classical!Y144)","v":0},null,null,{"$f":"SUM(Contemporary!Y144)","v":0},null,{"$f":"SUM(Pantomime!Y144)","v":0},null,{"$f":"SUM(MusicalTheatre!Z144)","v":0},null,null,{"$f":"'One-Acts'!W32","v":0},null,0]
["FF",null,null,null,{"$f":"SUM('Humorous Monologues'!Y149)","v":0},null,null,{"$f":"SUM(Dramatic!Y149)","v":0},null,null,{"$f":"SUM(Classical!Y149)","v":0},null,null,{"$f":"SUM(Contemporary!Y149)","v":0},null,{"$f":"SUM(Pantomime!Y149)","v":0},null,{"$f":"SUM(MusicalTheatre!Z149)","v":0},null,null,{"$f":"'One-Acts'!W33","v":0},null,0]

{"sheet":"ScenicResults","index":17,"n_rows":122,"n_cols":4,"rows_kept":122,"cut":false,"hidden":false,"merged":[]}
["Scenic Design"]
["ID","Rank","Score","LeaveBlank"]
[{"$f":"ScenicDesign!A4","v":"A-901"},{"$f":"ScenicDesign!U4","v":7},{"$f":"ScenicDesign!S4","v":72},{"$f":"IF((ScenicResults!$B3+ScenicResults!$C3)>0,1,0)","v":1}]
[{"$f":"ScenicDesign!A5","v":"A-902"},{"$f":"ScenicDesign!U5","v":0},{"$f":"ScenicDesign!S5","v":0},{"$f":"IF((ScenicResults!$B4+ScenicResults!$C4)>0,1,0)","v":0}]
[{"$f":"ScenicDesign!A6","v":"A-903"},{"$f":"ScenicDesign!U6","v":0},{"$f":"ScenicDesign!S6","v":0},{"$f":"IF((ScenicResults!$B5+ScenicResults!$C5)>0,1,0)","v":0}]
[{"$f":"ScenicDesign!A7","v":"A-904"},{"$f":"ScenicDesign!U7","v":0},{"$f":"ScenicDesign!S7","v":0},{"$f":"IF((ScenicResults!$B6+ScenicResults!$C6)>0,1,0)","v":0}]
[{"$f":"ScenicDesign!A9","v":"B-901"},{"$f":"ScenicDesign!U9","v":0},{"$f":"ScenicDesign!S9","v":0},{"$f":"IF((ScenicResults!$B7+ScenicResults!$C7)>0,1,0)","v":0}]
[{"$f":"ScenicDesign!A10","v":"B-902"},{"$f":"ScenicDesign!U10","v":0},{"$f":"ScenicDesign!S10","v":0},{"$f":"IF((ScenicResults!$B8+ScenicResults!$C8)>0,1,0)","v":0}]
[{"$f":"ScenicDesign!A11","v":"B-903"},{"$f":"ScenicDesign!U11","v":0},{"$f":"ScenicDesign!S11","v":0},{"$f":"IF((ScenicResults!$B9+ScenicResults!$C9)>0,1,0)","v":0}]
[{"$f":"ScenicDesign!A12","v":"B-904"},{"$f":"ScenicDesign!U12","v":0},{"$f":"ScenicDesign!S12","v":0},{"$f":"IF((ScenicResults!$B10+ScenicResults!$C10)>0,1,0)","v":0}]
[{"$f":"ScenicDesign!A14","v":"C-901"},{"$f":"ScenicDesign!U14","v":0},{"$f":"ScenicDesign!S14","v":0},{"$f":"IF((ScenicResults!$B11+ScenicResults!$C11)>0,1,0)","v":0}]
[{"$f":"ScenicDesign!A15","v":"C-902"},{"$f":"ScenicDesign!U15","v":0},{"$f":"ScenicDesign!S15","v":0},{"$f":"IF((ScenicResults!$B12+ScenicResults!$C12)>0,1,0)","v":0}]
[{"$f":"ScenicDesign!A16","v":"C-903"},{"$f":"ScenicDesign!U16","v":0},{"$f":"ScenicDesign!S16","v":0},{"$f":"IF((ScenicResults!$B13+ScenicResults!$C13)>0,1,0)","v":0}]
[{"$f":"ScenicDesign!A17","v":"C-904"},{"$f":"ScenicDesign!U17","v":0},{"$f":"ScenicDesign!S17","v":0},{"$f":"IF((ScenicResults!$B14+ScenicResults!$C14)>0,1,0)","v":0}]
[{"$f":"ScenicDesign!A19","v":"D-901"},{"$f":"ScenicDesign!U19","v":0},{"$f":"ScenicDesign!S19","v":0},{"$f":"IF((ScenicResults!$B15+ScenicResults!$C15)>0,1,0)","v":0}]
[{"$f":"ScenicDesign!A20","v":"D-902"},{"$f":"ScenicDesign!U20","v":0},{"$f":"ScenicDesign!S20","v":0},{"$f":"IF((ScenicResults!$B16+ScenicResults!$C16)>0,1,0)","v":0}]
[{"$f":"ScenicDesign!A21","v":"D-903"},{"$f":"ScenicDesign!U21","v":0},{"$f":"ScenicDesign!S21","v":0},{"$f":"IF((ScenicResults!$B17+ScenicResults!$C17)>0,1,0)","v":0}]
[{"$f":"ScenicDesign!A22","v":"D-904"},{"$f":"ScenicDesign!U22","v":0},{"$f":"ScenicDesign!S22","v":0},{"$f":"IF((ScenicResults!$B18+ScenicResults!$C18)>0,1,0)","v":0}]
[{"$f":"ScenicDesign!A24","v":"E-901"},{"$f":"ScenicDesign!U24","v":0},{"$f":"ScenicDesign!S24","v":0},{"$f":"IF((ScenicResults!$B19+ScenicResults!$C19)>0,1,0)","v":0}]
[{"$f":"ScenicDesign!A25","v":"E-902"},{"$f":"ScenicDesign!U25","v":0},{"$f":"ScenicDesign!S25","v":0},{"$f":"IF((ScenicResults!$B20+ScenicResults!$C20)>0,1,0)","v":0}]
[{"$f":"ScenicDesign!A26","v":"E-903"},{"$f":"ScenicDesign!U26","v":0},{"$f":"ScenicDesign!S26","v":0},{"$f":"IF((ScenicResults!$B21+ScenicResults!$C21)>0,1,0)","v":0}]
[{"$f":"ScenicDesign!A27","v":"E-904"},{"$f":"ScenicDesign!U27","v":0},{"$f":"ScenicDesign!S27","v":0},{"$f":"IF((ScenicResults!$B22+ScenicResults!$C22)>0,1,0)","v":0}]
[{"$f":"ScenicDesign!A29","v":"F-901"},{"$f":"ScenicDesign!U29","v":0},{"$f":"ScenicDesign!S29","v":0},{"$f":"IF((ScenicResults!$B23+ScenicResults!$C23)>0,1,0)","v":0}]
[{"$f":"ScenicDesign!A30","v":"F-902"},{"$f":"ScenicDesign!U30","v":0},{"$f":"ScenicDesign!S30","v":0},{"$f":"IF((ScenicResults!$B24+ScenicResults!$C24)>0,1,0)","v":0}]
[{"$f":"ScenicDesign!A31","v":"F-903"},{"$f":"ScenicDesign!U31","v":0},{"$f":"ScenicDesign!S31","v":0},{"$f":"IF((ScenicResults!$B25+ScenicResults!$C25)>0,1,0)","v":0}]
[{"$f":"ScenicDesign!A32","v":"F-904"},{"$f":"ScenicDesign!U32","v":0},{"$f":"ScenicDesign!S32","v":0},{"$f":"IF((ScenicResults!$B26+ScenicResults!$C26)>0,1,0)","v":0}]
[{"$f":"ScenicDesign!A34","v":"G-901"},{"$f":"ScenicDesign!U34","v":0},{"$f":"ScenicDesign!S34","v":0},{"$f":"IF((ScenicResults!$B27+ScenicResults!$C27)>0,1,0)","v":0}]
[{"$f":"ScenicDesign!A35","v":"G-902"},{"$f":"ScenicDesign!U35","v":0},{"$f":"ScenicDesign!S35","v":0},{"$f":"IF((ScenicResults!$B28+ScenicResults!$C28)>0,1,0)","v":0}]
[{"$f":"ScenicDesign!A36","v":"G-903"},{"$f":"ScenicDesign!U36","v":0},{"$f":"ScenicDesign!S36","v":0},{"$f":"IF((ScenicResults!$B29+ScenicResults!$C29)>0,1,0)","v":0}]
[{"$f":"ScenicDesign!A37","v":"G-904"},{"$f":"ScenicDesign!U37","v":0},{"$f":"ScenicDesign!S37","v":0},{"$f":"IF((ScenicResults!$B30+ScenicResults!$C30)>0,1,0)","v":0}]
[{"$f":"ScenicDesign!A39","v":"H-901"},{"$f":"ScenicDesign!U39","v":0},{"$f":"ScenicDesign!S39","v":0},{"$f":"IF((ScenicResults!$B31+ScenicResults!$C31)>0,1,0)","v":0}]
[{"$f":"ScenicDesign!A40","v":"H-902"},{"$f":"ScenicDesign!U40","v":0},{"$f":"ScenicDesign!S40","v":0},{"$f":"IF((ScenicResults!$B32+ScenicResults!$C32)>0,1,0)","v":0}]
[{"$f":"ScenicDesign!A41","v":"H-903"},{"$f":"ScenicDesign!U41","v":0},{"$f":"ScenicDesign!S41","v":0},{"$f":"IF((ScenicResults!$B33+ScenicResults!$C33)>0,1,0)","v":0}]
[{"$f":"ScenicDesign!A42","v":"H-904"},{"$f":"ScenicDesign!U42","v":0},{"$f":"ScenicDesign!S42","v":0},{"$f":"IF((ScenicResults!$B34+ScenicResults!$C34)>0,1,0)","v":0}]
[{"$f":"ScenicDesign!A44","v":"J-901"},{"$f":"ScenicDesign!U44","v":0},{"$f":"ScenicDesign!S44","v":0},{"$f":"IF((ScenicResults!$B35+ScenicResults!$C35)>0,1,0)","v":0}]
[{"$f":"ScenicDesign!A45","v":"J-902"},{"$f":"ScenicDesign!U45","v":0},{"$f":"ScenicDesign!S45","v":0},{"$f":"IF((ScenicResults!$B36+ScenicResults!$C36)>0,1,0)","v":0}]
[{"$f":"ScenicDesign!A46","v":"J-903"},{"$f":"ScenicDesign!U46","v":0},{"$f":"ScenicDesign!S46","v":0},{"$f":"IF((ScenicResults!$B37+ScenicResults!$C37)>0,1,0)","v":0}]
[{"$f":"ScenicDesign!A47","v":"J-904"},{"$f":"ScenicDesign!U47","v":0},{"$f":"ScenicDesign!S47","v":0},{"$f":"IF((ScenicResults!$B38+ScenicResults!$C38)>0,1,0)","v":0}]
[{"$f":"ScenicDesign!A49","v":"K-901"},{"$f":"ScenicDesign!U49","v":0},{"$f":"ScenicDesign!S49","v":0},{"$f":"IF((ScenicResults!$B39+ScenicResults!$C39)>0,1,0)","v":0}]
[{"$f":"ScenicDesign!A50","v":"K-902"},{"$f":"ScenicDesign!U50","v":0},{"$f":"ScenicDesign!S50","v":0},{"$f":"IF((ScenicResults!$B40+ScenicResults!$C40)>0,1,0)","v":0}]
[{"$f":"ScenicDesign!A51","v":"K-903"},{"$f":"ScenicDesign!U51","v":0},{"$f":"ScenicDesign!S51","v":0},{"$f":"IF((ScenicResults!$B41+ScenicResults!$C41)>0,1,0)","v":0}]
[{"$f":"ScenicDesign!A52","v":"K-904"},{"$f":"ScenicDesign!U52","v":0},{"$f":"ScenicDesign!S52","v":0},{"$f":"IF((ScenicResults!$B42+ScenicResults!$C42)>0,1,0)","v":0}]
[{"$f":"ScenicDesign!A54","v":"L-901"},{"$f":"ScenicDesign!U54","v":0},{"$f":"ScenicDesign!S54","v":0},{"$f":"IF((ScenicResults!$B43+ScenicResults!$C43)>0,1,0)","v":0}]
[{"$f":"ScenicDesign!A55","v":"L-902"},{"$f":"ScenicDesign!U55","v":0},{"$f":"ScenicDesign!S55","v":0},{"$f":"IF((ScenicResults!$B44+ScenicResults!$C44)>0,1,0)","v":0}]
[{"$f":"ScenicDesign!A56","v":"L-903"},{"$f":"ScenicDesign!U56","v":0},{"$f":"ScenicDesign!S56","v":0},{"$f":"IF((ScenicResults!$B45+ScenicResults!$C45)>0,1,0)","v":0}]
[{"$f":"ScenicDesign!A57","v":"L-904"},{"$f":"ScenicDesign!U57","v":0},{"$f":"ScenicDesign!S57","v":0},{"$f":"IF((ScenicResults!$B46+ScenicResults!$C46)>0,1,0)","v":0}]
[{"$f":"ScenicDesign!A59","v":"M-901"},{"$f":"ScenicDesign!U59","v":0},{"$f":"ScenicDesign!S59","v":0},{"$f":"IF((ScenicResults!$B47+ScenicResults!$C47)>0,1,0)","v":0}]
[{"$f":"ScenicDesign!A60","v":"M-902"},{"$f":"ScenicDesign!U60","v":0},{"$f":"ScenicDesign!S60","v":0},{"$f":"IF((ScenicResults!$B48+ScenicResults!$C48)>0,1,0)","v":0}]
[{"$f":"ScenicDesign!A61","v":"M-903"},{"$f":"ScenicDesign!U61","v":0},{"$f":"ScenicDesign!S61","v":0},{"$f":"IF((ScenicResults!$B49+ScenicResults!$C49)>0,1,0)","v":0}]
[{"$f":"ScenicDesign!A62","v":"M-904"},{"$f":"ScenicDesign!U62","v":0},{"$f":"ScenicDesign!S62","v":0},{"$f":"IF((ScenicResults!$B50+ScenicResults!$C50)>0,1,0)","v":0}]
[{"$f":"ScenicDesign!A64","v":"N-901"},{"$f":"ScenicDesign!U64","v":9},{"$f":"ScenicDesign!S64","v":72},{"$f":"IF((ScenicResults!$B51+ScenicResults!$C51)>0,1,0)","v":1}]
[{"$f":"ScenicDesign!A65","v":"N-902"},{"$f":"ScenicDesign!U65","v":6},{"$f":"ScenicDesign!S65","v":72},{"$f":"IF((ScenicResults!$B52+ScenicResults!$C52)>0,1,0)","v":1}]
[{"$f":"ScenicDesign!A66","v":"N-903"},{"$f":"ScenicDesign!U66","v":8},{"$f":"ScenicDesign!S66","v":73},{"$f":"IF((ScenicResults!$B53+ScenicResults!$C53)>0,1,0)","v":1}]
[{"$f":"ScenicDesign!A67","v":"N-904"},{"$f":"ScenicDesign!U67","v":0},{"$f":"ScenicDesign!S67","v":0},{"$f":"IF((ScenicResults!$B54+ScenicResults!$C54)>0,1,0)","v":0}]
[{"$f":"ScenicDesign!A69","v":"P-901"},{"$f":"ScenicDesign!U69","v":0},{"$f":"ScenicDesign!S69","v":0},{"$f":"IF((ScenicResults!$B55+ScenicResults!$C55)>0,1,0)","v":0}]
[{"$f":"ScenicDesign!A70","v":"P-902"},{"$f":"ScenicDesign!U70","v":0},{"$f":"ScenicDesign!S70","v":0},{"$f":"IF((ScenicResults!$B56+ScenicResults!$C56)>0,1,0)","v":0}]
[{"$f":"ScenicDesign!A71","v":"P-903"},{"$f":"ScenicDesign!U71","v":0},{"$f":"ScenicDesign!S71","v":0},{"$f":"IF((ScenicResults!$B57+ScenicResults!$C57)>0,1,0)","v":0}]
[{"$f":"ScenicDesign!A72","v":"P-904"},{"$f":"ScenicDesign!U72","v":0},{"$f":"ScenicDesign!S72","v":0},{"$f":"IF((ScenicResults!$B58+ScenicResults!$C58)>0,1,0)","v":0}]
[{"$f":"ScenicDesign!A74","v":"Q-901"},{"$f":"ScenicDesign!U74","v":0},{"$f":"ScenicDesign!S74","v":0},{"$f":"IF((ScenicResults!$B59+ScenicResults!$C59)>0,1,0)","v":0}]
[{"$f":"ScenicDesign!A75","v":"Q-902"},{"$f":"ScenicDesign!U75","v":0},{"$f":"ScenicDesign!S75","v":0},{"$f":"IF((ScenicResults!$B60+ScenicResults!$C60)>0,1,0)","v":0}]
[{"$f":"ScenicDesign!A76","v":"Q-903"},{"$f":"ScenicDesign!U76","v":0},{"$f":"ScenicDesign!S76","v":0},{"$f":"IF((ScenicResults!$B61+ScenicResults!$C61)>0,1,0)","v":0}]
[{"$f":"ScenicDesign!A77","v":"Q-904"},{"$f":"ScenicDesign!U77","v":0},{"$f":"ScenicDesign!S77","v":0},{"$f":"IF((ScenicResults!$B62+ScenicResults!$C62)>0,1,0)","v":0}]
[{"$f":"ScenicDesign!A79","v":"R-901"},{"$f":"ScenicDesign!U79","v":0},{"$f":"ScenicDesign!S79","v":0},{"$f":"IF((ScenicResults!$B63+ScenicResults!$C63)>0,1,0)","v":0}]
[{"$f":"ScenicDesign!A80","v":"R-902"},{"$f":"ScenicDesign!U80","v":0},{"$f":"ScenicDesign!S80","v":0},{"$f":"IF((ScenicResults!$B64+ScenicResults!$C64)>0,1,0)","v":0}]
[{"$f":"ScenicDesign!A81","v":"R-903"},{"$f":"ScenicDesign!U81","v":0},{"$f":"ScenicDesign!S81","v":0},{"$f":"IF((ScenicResults!$B65+ScenicResults!$C65)>0,1,0)","v":0}]
[{"$f":"ScenicDesign!A82","v":"R-904"},{"$f":"ScenicDesign!U82","v":0},{"$f":"ScenicDesign!S82","v":0},{"$f":"IF((ScenicResults!$B66+ScenicResults!$C66)>0,1,0)","v":0}]
[{"$f":"ScenicDesign!A84","v":"S-901"},{"$f":"ScenicDesign!U84","v":15},{"$f":"ScenicDesign!S84","v":66},{"$f":"IF((ScenicResults!$B67+ScenicResults!$C67)>0,1,0)","v":1}]
[{"$f":"ScenicDesign!A85","v":"S-902"},{"$f":"ScenicDesign!U85","v":0},{"$f":"ScenicDesign!S85","v":0},{"$f":"IF((ScenicResults!$B68+ScenicResults!$C68)>0,1,0)","v":0}]
[{"$f":"ScenicDesign!A86","v":"S-903"},{"$f":"ScenicDesign!U86","v":0},{"$f":"ScenicDesign!S86","v":0},{"$f":"IF((ScenicResults!$B69+ScenicResults!$C69)>0,1,0)","v":0}]
[{"$f":"ScenicDesign!A87","v":"S-904"},{"$f":"ScenicDesign!U87","v":0},{"$f":"ScenicDesign!S87","v":0},{"$f":"IF((ScenicResults!$B70+ScenicResults!$C70)>0,1,0)","v":0}]
[{"$f":"ScenicDesign!A89","v":"T-901"},{"$f":"ScenicDesign!U89","v":0},{"$f":"ScenicDesign!S89","v":0},{"$f":"IF((ScenicResults!$B71+ScenicResults!$C71)>0,1,0)","v":0}]
[{"$f":"ScenicDesign!A90","v":"T-902"},{"$f":"ScenicDesign!U90","v":0},{"$f":"ScenicDesign!S90","v":0},{"$f":"IF((ScenicResults!$B72+ScenicResults!$C72)>0,1,0)","v":0}]
[{"$f":"ScenicDesign!A91","v":"T-903"},{"$f":"ScenicDesign!U91","v":0},{"$f":"ScenicDesign!S91","v":0},{"$f":"IF((ScenicResults!$B73+ScenicResults!$C73)>0,1,0)","v":0}]
[{"$f":"ScenicDesign!A92","v":"T-904"},{"$f":"ScenicDesign!U92","v":0},{"$f":"ScenicDesign!S92","v":0},{"$f":"IF((ScenicResults!$B74+ScenicResults!$C74)>0,1,0)","v":0}]
[{"$f":"ScenicDesign!A94","v":"U-901"},{"$f":"ScenicDesign!U94","v":0},{"$f":"ScenicDesign!S94","v":0},{"$f":"IF((ScenicResults!$B75+ScenicResults!$C75)>0,1,0)","v":0}]
[{"$f":"ScenicDesign!A95","v":"U-902"},{"$f":"ScenicDesign!U95","v":0},{"$f":"ScenicDesign!S95","v":0},{"$f":"IF((ScenicResults!$B76+ScenicResults!$C76)>0,1,0)","v":0}]
[{"$f":"ScenicDesign!A96","v":"U-903"},{"$f":"ScenicDesign!U96","v":0},{"$f":"ScenicDesign!S96","v":0},{"$f":"IF((ScenicResults!$B77+ScenicResults!$C77)>0,1,0)","v":0}]
[{"$f":"ScenicDesign!A97","v":"U-904"},{"$f":"ScenicDesign!U97","v":0},{"$f":"ScenicDesign!S97","v":0},{"$f":"IF((ScenicResults!$B78+ScenicResults!$C78)>0,1,0)","v":0}]
[{"$f":"ScenicDesign!A99","v":"V-901"},{"$f":"ScenicDesign!U99","v":0},{"$f":"ScenicDesign!S99","v":0},{"$f":"IF((ScenicResults!$B79+ScenicResults!$C79)>0,1,0)","v":0}]
[{"$f":"ScenicDesign!A100","v":"V-902"},{"$f":"ScenicDesign!U100","v":0},{"$f":"ScenicDesign!S100","v":0},{"$f":"IF((ScenicResults!$B80+ScenicResults!$C80)>0,1,0)","v":0}]
[{"$f":"ScenicDesign!A101","v":"V-903"},{"$f":"ScenicDesign!U101","v":0},{"$f":"ScenicDesign!S101","v":0},{"$f":"IF((ScenicResults!$B81+ScenicResults!$C81)>0,1,0)","v":0}]
[{"$f":"ScenicDesign!A102","v":"V-904"},{"$f":"ScenicDesign!U102","v":0},{"$f":"ScenicDesign!S102","v":0},{"$f":"IF((ScenicResults!$B82+ScenicResults!$C82)>0,1,0)","v":0}]
[{"$f":"ScenicDesign!A104","v":"W-901"},{"$f":"ScenicDesign!U104","v":0},{"$f":"ScenicDesign!S104","v":0},{"$f":"IF((ScenicResults!$B83+ScenicResults!$C83)>0,1,0)","v":0}]
[{"$f":"ScenicDesign!A105","v":"W-902"},{"$f":"ScenicDesign!U105","v":0},{"$f":"ScenicDesign!S105","v":0},{"$f":"IF((ScenicResults!$B84+ScenicResults!$C84)>0,1,0)","v":0}]
[{"$f":"ScenicDesign!A106","v":"W-903"},{"$f":"ScenicDesign!U106","v":0},{"$f":"ScenicDesign!S106","v":0},{"$f":"IF((ScenicResults!$B85+ScenicResults!$C85)>0,1,0)","v":0}]
[{"$f":"ScenicDesign!A107","v":"W-904"},{"$f":"ScenicDesign!U107","v":0},{"$f":"ScenicDesign!S107","v":0},{"$f":"IF((ScenicResults!$B86+ScenicResults!$C86)>0,1,0)","v":0}]
[{"$f":"ScenicDesign!A109","v":"X-901"},{"$f":"ScenicDesign!U109","v":0},{"$f":"ScenicDesign!S109","v":0},{"$f":"IF((ScenicResults!$B87+ScenicResults!$C87)>0,1,0)","v":0}]
[{"$f":"ScenicDesign!A110","v":"X-902"},{"$f":"ScenicDesign!U110","v":0},{"$f":"ScenicDesign!S110","v":0},{"$f":"IF((ScenicResults!$B88+ScenicResults!$C88)>0,1,0)","v":0}]
[{"$f":"ScenicDesign!A111","v":"X-903"},{"$f":"ScenicDesign!U111","v":0},{"$f":"ScenicDesign!S111","v":0},{"$f":"IF((ScenicResults!$B89+ScenicResults!$C89)>0,1,0)","v":0}]
[{"$f":"ScenicDesign!A112","v":"X-904"},{"$f":"ScenicDesign!U112","v":0},{"$f":"ScenicDesign!S112","v":0},{"$f":"IF((ScenicResults!$B90+ScenicResults!$C90)>0,1,0)","v":0}]
[{"$f":"ScenicDesign!A114","v":"Y-901"},{"$f":"ScenicDesign!U114","v":0},{"$f":"ScenicDesign!S114","v":0},{"$f":"IF((ScenicResults!$B91+ScenicResults!$C91)>0,1,0)","v":0}]
[{"$f":"ScenicDesign!A115","v":"Y-902"},{"$f":"ScenicDesign!U115","v":0},{"$f":"ScenicDesign!S115","v":0},{"$f":"IF((ScenicResults!$B92+ScenicResults!$C92)>0,1,0)","v":0}]
[{"$f":"ScenicDesign!A116","v":"Y-903"},{"$f":"ScenicDesign!U116","v":0},{"$f":"ScenicDesign!S116","v":0},{"$f":"IF((ScenicResults!$B93+ScenicResults!$C93)>0,1,0)","v":0}]
[{"$f":"ScenicDesign!A117","v":"Y-904"},{"$f":"ScenicDesign!U117","v":0},{"$f":"ScenicDesign!S117","v":0},{"$f":"IF((ScenicResults!$B94+ScenicResults!$C94)>0,1,0)","v":0}]
[{"$f":"ScenicDesign!A119","v":"Z-901"},{"$f":"ScenicDesign!U119","v":0},{"$f":"ScenicDesign!S119","v":0},{"$f":"IF((ScenicResults!$B95+ScenicResults!$C95)>0,1,0)","v":0}]
[{"$f":"ScenicDesign!A120","v":"Z-902"},{"$f":"ScenicDesign!U120","v":0},{"$f":"ScenicDesign!S120","v":0},{"$f":"IF((ScenicResults!$B96+ScenicResults!$C96)>0,1,0)","v":0}]
[{"$f":"ScenicDesign!A121","v":"Z-903"},{"$f":"ScenicDesign!U121","v":0},{"$f":"ScenicDesign!S121","v":0},{"$f":"IF((ScenicResults!$B97+ScenicResults!$C97)>0,1,0)","v":0}]
[{"$f":"ScenicDesign!A122","v":"Z-904"},{"$f":"ScenicDesign!U122","v":0},{"$f":"ScenicDesign!S122","v":0},{"$f":"IF((ScenicResults!$B98+ScenicResults!$C98)>0,1,0)","v":0}]
[{"$f":"ScenicDesign!A124","v":"AA-901"},{"$f":"ScenicDesign!U124","v":0},{"$f":"ScenicDesign!S124","v":0},{"$f":"IF((ScenicResults!$B99+ScenicResults!$C99)>0,1,0)","v":0}]
[{"$f":"ScenicDesign!A125","v":"AA-902"},{"$f":"ScenicDesign!U125","v":0},{"$f":"ScenicDesign!S125","v":0},{"$f":"IF((ScenicResults!$B100+ScenicResults!$C100)>0,1,0)","v":0}]
[{"$f":"ScenicDesign!A126","v":"AA-903"},{"$f":"ScenicDesign!U126","v":0},{"$f":"ScenicDesign!S126","v":0},{"$f":"IF((ScenicResults!$B101+ScenicResults!$C101)>0,1,0)","v":0}]
[{"$f":"ScenicDesign!A127","v":"AA-904"},{"$f":"ScenicDesign!U127","v":0},{"$f":"ScenicDesign!S127","v":0},{"$f":"IF((ScenicResults!$B102+ScenicResults!$C102)>0,1,0)","v":0}]
[{"$f":"ScenicDesign!A129","v":"BB-901"},{"$f":"ScenicDesign!U129","v":0},{"$f":"ScenicDesign!S129","v":0},{"$f":"IF((ScenicResults!$B103+ScenicResults!$C103)>0,1,0)","v":0}]
[{"$f":"ScenicDesign!A130","v":"BB-902"},{"$f":"ScenicDesign!U130","v":0},{"$f":"ScenicDesign!S130","v":0},{"$f":"IF((ScenicResults!$B104+ScenicResults!$C104)>0,1,0)","v":0}]
[{"$f":"ScenicDesign!A131","v":"BB-903"},{"$f":"ScenicDesign!U131","v":0},{"$f":"ScenicDesign!S131","v":0},{"$f":"IF((ScenicResults!$B105+ScenicResults!$C105)>0,1,0)","v":0}]
[{"$f":"ScenicDesign!A132","v":"BB-904"},{"$f":"ScenicDesign!U132","v":0},{"$f":"ScenicDesign!S132","v":0},{"$f":"IF((ScenicResults!$B106+ScenicResults!$C106)>0,1,0)","v":0}]
[{"$f":"ScenicDesign!A134","v":"CC-901"},{"$f":"ScenicDesign!U134","v":0},{"$f":"ScenicDesign!S134","v":0},{"$f":"IF((ScenicResults!$B107+ScenicResults!$C107)>0,1,0)","v":0}]
[{"$f":"ScenicDesign!A135","v":"CC-902"},{"$f":"ScenicDesign!U135","v":0},{"$f":"ScenicDesign!S135","v":0},{"$f":"IF((ScenicResults!$B108+ScenicResults!$C108)>0,1,0)","v":0}]
[{"$f":"ScenicDesign!A136","v":"CC-903"},{"$f":"ScenicDesign!U136","v":0},{"$f":"ScenicDesign!S136","v":0},{"$f":"IF((ScenicResults!$B109+ScenicResults!$C109)>0,1,0)","v":0}]
[{"$f":"ScenicDesign!A137","v":"CC-904"},{"$f":"ScenicDesign!U137","v":0},{"$f":"ScenicDesign!S137","v":0},{"$f":"IF((ScenicResults!$B110+ScenicResults!$C110)>0,1,0)","v":0}]
[{"$f":"ScenicDesign!A139","v":"DD-901"},{"$f":"ScenicDesign!U139","v":0},{"$f":"ScenicDesign!S139","v":0},{"$f":"IF((ScenicResults!$B111+ScenicResults!$C111)>0,1,0)","v":0}]
[{"$f":"ScenicDesign!A140","v":"DD-902"},{"$f":"ScenicDesign!U140","v":0},{"$f":"ScenicDesign!S140","v":0},{"$f":"IF((ScenicResults!$B112+ScenicResults!$C112)>0,1,0)","v":0}]
[{"$f":"ScenicDesign!A141","v":"DD-903"},{"$f":"ScenicDesign!U141","v":0},{"$f":"ScenicDesign!S141","v":0},{"$f":"IF((ScenicResults!$B113+ScenicResults!$C113)>0,1,0)","v":0}]
[{"$f":"ScenicDesign!A142","v":"DD-904"},{"$f":"ScenicDesign!U142","v":0},{"$f":"ScenicDesign!S142","v":0},{"$f":"IF((ScenicResults!$B114+ScenicResults!$C114)>0,1,0)","v":0}]
[{"$f":"ScenicDesign!A144","v":"EE-901"},{"$f":"ScenicDesign!U144","v":0},{"$f":"ScenicDesign!S144","v":0},{"$f":"IF((ScenicResults!$B115+ScenicResults!$C115)>0,1,0)","v":0}]
[{"$f":"ScenicDesign!A145","v":"EE-902"},{"$f":"ScenicDesign!U145","v":0},{"$f":"ScenicDesign!S145","v":0},{"$f":"IF((ScenicResults!$B116+ScenicResults!$C116)>0,1,0)","v":0}]
[{"$f":"ScenicDesign!A146","v":"EE-903"},{"$f":"ScenicDesign!U146","v":0},{"$f":"ScenicDesign!S146","v":0},{"$f":"IF((ScenicResults!$B117+ScenicResults!$C117)>0,1,0)","v":0}]
[{"$f":"ScenicDesign!A147","v":"EE-904"},{"$f":"ScenicDesign!U147","v":0},{"$f":"ScenicDesign!S147","v":0},{"$f":"IF((ScenicResults!$B118+ScenicResults!$C118)>0,1,0)","v":0}]
[{"$f":"ScenicDesign!A149","v":"FF-901"},{"$f":"ScenicDesign!U149","v":0},{"$f":"ScenicDesign!S149","v":0},{"$f":"IF((ScenicResults!$B119+ScenicResults!$C119)>0,1,0)","v":0}]
[{"$f":"ScenicDesign!A150","v":"FF-902"},{"$f":"ScenicDesign!U150","v":0},{"$f":"ScenicDesign!S150","v":0},{"$f":"IF((ScenicResults!$B120+ScenicResults!$C120)>0,1,0)","v":0}]
[{"$f":"ScenicDesign!A151","v":"FF-903"},{"$f":"ScenicDesign!U151","v":0},{"$f":"ScenicDesign!S151","v":0},{"$f":"IF((ScenicResults!$B121+ScenicResults!$C121)>0,1,0)","v":0}]
[{"$f":"ScenicDesign!A152","v":"FF-904"},{"$f":"ScenicDesign!U152","v":0},{"$f":"ScenicDesign!S152","v":0},{"$f":"IF((ScenicResults!$B122+ScenicResults!$C122)>0,1,0)","v":0}]

{"sheet":"CostumeResults","index":18,"n_rows":122,"n_cols":4,"rows_kept":122,"cut":false,"hidden":false,"merged":[]}
["Costume Design"]
["ID","Rank","Score","LeaveBlank"]
[{"$f":"CostumeDesign!A4","v":"A-801"},{"$f":"CostumeDesign!U4","v":0},{"$f":"CostumeDesign!S4","v":0},{"$f":"IF((CostumeResults!$B3+CostumeResults!$C3)>0,1,0)","v":0}]
[{"$f":"CostumeDesign!A5","v":"A-802"},{"$f":"CostumeDesign!U5","v":0},{"$f":"CostumeDesign!S5","v":0},{"$f":"IF((CostumeResults!$B4+CostumeResults!$C4)>0,1,0)","v":0}]
[{"$f":"CostumeDesign!A6","v":"A-803"},{"$f":"CostumeDesign!U6","v":0},{"$f":"CostumeDesign!S6","v":0},{"$f":"IF((CostumeResults!$B5+CostumeResults!$C5)>0,1,0)","v":0}]
[{"$f":"CostumeDesign!A7","v":"A-804"},{"$f":"CostumeDesign!U7","v":0},{"$f":"CostumeDesign!S7","v":0},{"$f":"IF((CostumeResults!$B6+CostumeResults!$C6)>0,1,0)","v":0}]
[{"$f":"CostumeDesign!A9","v":"B-801"},{"$f":"CostumeDesign!U9","v":0},{"$f":"CostumeDesign!S9","v":0},{"$f":"IF((CostumeResults!$B7+CostumeResults!$C7)>0,1,0)","v":0}]
[{"$f":"CostumeDesign!A10","v":"B-802"},{"$f":"CostumeDesign!U10","v":0},{"$f":"CostumeDesign!S10","v":0},{"$f":"IF((CostumeResults!$B8+CostumeResults!$C8)>0,1,0)","v":0}]
[{"$f":"CostumeDesign!A11","v":"B-803"},{"$f":"CostumeDesign!U11","v":0},{"$f":"CostumeDesign!S11","v":0},{"$f":"IF((CostumeResults!$B9+CostumeResults!$C9)>0,1,0)","v":0}]
[{"$f":"CostumeDesign!A12","v":"B-804"},{"$f":"CostumeDesign!U12","v":0},{"$f":"CostumeDesign!S12","v":0},{"$f":"IF((CostumeResults!$B10+CostumeResults!$C10)>0,1,0)","v":0}]
[{"$f":"CostumeDesign!A14","v":"C-801"},{"$f":"CostumeDesign!U14","v":15},{"$f":"CostumeDesign!S14","v":64},{"$f":"IF((CostumeResults!$B11+CostumeResults!$C11)>0,1,0)","v":1}]
[{"$f":"CostumeDesign!A15","v":"C-802"},{"$f":"CostumeDesign!U15","v":0},{"$f":"CostumeDesign!S15","v":0},{"$f":"IF((CostumeResults!$B12+CostumeResults!$C12)>0,1,0)","v":0}]
[{"$f":"CostumeDesign!A16","v":"C-803"},{"$f":"CostumeDesign!U16","v":0},{"$f":"CostumeDesign!S16","v":0},{"$f":"IF((CostumeResults!$B13+CostumeResults!$C13)>0,1,0)","v":0}]
[{"$f":"CostumeDesign!A17","v":"C-804"},{"$f":"CostumeDesign!U17","v":0},{"$f":"CostumeDesign!S17","v":0},{"$f":"IF((CostumeResults!$B14+CostumeResults!$C14)>0,1,0)","v":0}]
[{"$f":"CostumeDesign!A19","v":"D-801"},{"$f":"CostumeDesign!U19","v":0},{"$f":"CostumeDesign!S19","v":0},{"$f":"IF((CostumeResults!$B15+CostumeResults!$C15)>0,1,0)","v":0}]
[{"$f":"CostumeDesign!A20","v":"D-802"},{"$f":"CostumeDesign!U20","v":0},{"$f":"CostumeDesign!S20","v":0},{"$f":"IF((CostumeResults!$B16+CostumeResults!$C16)>0,1,0)","v":0}]
[{"$f":"CostumeDesign!A21","v":"D-803"},{"$f":"CostumeDesign!U21","v":0},{"$f":"CostumeDesign!S21","v":0},{"$f":"IF((CostumeResults!$B17+CostumeResults!$C17)>0,1,0)","v":0}]
[{"$f":"CostumeDesign!A22","v":"D-804"},{"$f":"CostumeDesign!U22","v":0},{"$f":"CostumeDesign!S22","v":0},{"$f":"IF((CostumeResults!$B18+CostumeResults!$C18)>0,1,0)","v":0}]
[{"$f":"CostumeDesign!A24","v":"E-801"},{"$f":"CostumeDesign!U24","v":0},{"$f":"CostumeDesign!S24","v":0},{"$f":"IF((CostumeResults!$B19+CostumeResults!$C19)>0,1,0)","v":0}]
[{"$f":"CostumeDesign!A25","v":"E-802"},{"$f":"CostumeDesign!U25","v":0},{"$f":"CostumeDesign!S25","v":0},{"$f":"IF((CostumeResults!$B20+CostumeResults!$C20)>0,1,0)","v":0}]
[{"$f":"CostumeDesign!A26","v":"E-803"},{"$f":"CostumeDesign!U26","v":0},{"$f":"CostumeDesign!S26","v":0},{"$f":"IF((CostumeResults!$B21+CostumeResults!$C21)>0,1,0)","v":0}]
[{"$f":"CostumeDesign!A27","v":"E-804"},{"$f":"CostumeDesign!U27","v":0},{"$f":"CostumeDesign!S27","v":0},{"$f":"IF((CostumeResults!$B22+CostumeResults!$C22)>0,1,0)","v":0}]
[{"$f":"CostumeDesign!A29","v":"F-801"},{"$f":"CostumeDesign!U29","v":0},{"$f":"CostumeDesign!S29","v":0},{"$f":"IF((CostumeResults!$B23+CostumeResults!$C23)>0,1,0)","v":0}]
[{"$f":"CostumeDesign!A30","v":"F-802"},{"$f":"CostumeDesign!U30","v":0},{"$f":"CostumeDesign!S30","v":0},{"$f":"IF((CostumeResults!$B24+CostumeResults!$C24)>0,1,0)","v":0}]
[{"$f":"CostumeDesign!A31","v":"F-803"},{"$f":"CostumeDesign!U31","v":0},{"$f":"CostumeDesign!S31","v":0},{"$f":"IF((CostumeResults!$B25+CostumeResults!$C25)>0,1,0)","v":0}]
[{"$f":"CostumeDesign!A32","v":"F-804"},{"$f":"CostumeDesign!U32","v":0},{"$f":"CostumeDesign!S32","v":0},{"$f":"IF((CostumeResults!$B26+CostumeResults!$C26)>0,1,0)","v":0}]
[{"$f":"CostumeDesign!A34","v":"G-801"},{"$f":"CostumeDesign!U34","v":4},{"$f":"CostumeDesign!S34","v":74},{"$f":"IF((CostumeResults!$B27+CostumeResults!$C27)>0,1,0)","v":1}]
[{"$f":"CostumeDesign!A35","v":"G-802"},{"$f":"CostumeDesign!U35","v":0},{"$f":"CostumeDesign!S35","v":0},{"$f":"IF((CostumeResults!$B28+CostumeResults!$C28)>0,1,0)","v":0}]
[{"$f":"CostumeDesign!A36","v":"G-803"},{"$f":"CostumeDesign!U36","v":0},{"$f":"CostumeDesign!S36","v":0},{"$f":"IF((CostumeResults!$B29+CostumeResults!$C29)>0,1,0)","v":0}]
[{"$f":"CostumeDesign!A37","v":"G-804"},{"$f":"CostumeDesign!U37","v":0},{"$f":"CostumeDesign!S37","v":0},{"$f":"IF((CostumeResults!$B30+CostumeResults!$C30)>0,1,0)","v":0}]
[{"$f":"CostumeDesign!A39","v":"H-801"},{"$f":"CostumeDesign!U39","v":12},{"$f":"CostumeDesign!S39","v":24},{"$f":"IF((CostumeResults!$B31+CostumeResults!$C31)>0,1,0)","v":1}]
[{"$f":"CostumeDesign!A40","v":"H-802"},{"$f":"CostumeDesign!U40","v":8},{"$f":"CostumeDesign!S40","v":72},{"$f":"IF((CostumeResults!$B32+CostumeResults!$C32)>0,1,0)","v":1}]
[{"$f":"CostumeDesign!A41","v":"H-803"},{"$f":"CostumeDesign!U41","v":17},{"$f":"CostumeDesign!S41","v":66},{"$f":"IF((CostumeResults!$B33+CostumeResults!$C33)>0,1,0)","v":1}]
[{"$f":"CostumeDesign!A42","v":"H-804"},{"$f":"CostumeDesign!U42","v":0},{"$f":"CostumeDesign!S42","v":0},{"$f":"IF((CostumeResults!$B34+CostumeResults!$C34)>0,1,0)","v":0}]
[{"$f":"CostumeDesign!A44","v":"J-801"},{"$f":"CostumeDesign!U44","v":0},{"$f":"CostumeDesign!S44","v":0},{"$f":"IF((CostumeResults!$B35+CostumeResults!$C35)>0,1,0)","v":0}]
[{"$f":"CostumeDesign!A45","v":"J-802"},{"$f":"CostumeDesign!U45","v":0},{"$f":"CostumeDesign!S45","v":0},{"$f":"IF((CostumeResults!$B36+CostumeResults!$C36)>0,1,0)","v":0}]
[{"$f":"CostumeDesign!A46","v":"J-803"},{"$f":"CostumeDesign!U46","v":0},{"$f":"CostumeDesign!S46","v":0},{"$f":"IF((CostumeResults!$B37+CostumeResults!$C37)>0,1,0)","v":0}]
[{"$f":"CostumeDesign!A47","v":"J-804"},{"$f":"CostumeDesign!U47","v":0},{"$f":"CostumeDesign!S47","v":0},{"$f":"IF((CostumeResults!$B38+CostumeResults!$C38)>0,1,0)","v":0}]
[{"$f":"CostumeDesign!A49","v":"K-801"},{"$f":"CostumeDesign!U49","v":0},{"$f":"CostumeDesign!S49","v":0},{"$f":"IF((CostumeResults!$B39+CostumeResults!$C39)>0,1,0)","v":0}]
[{"$f":"CostumeDesign!A50","v":"K-802"},{"$f":"CostumeDesign!U50","v":0},{"$f":"CostumeDesign!S50","v":0},{"$f":"IF((CostumeResults!$B40+CostumeResults!$C40)>0,1,0)","v":0}]
[{"$f":"CostumeDesign!A51","v":"K-803"},{"$f":"CostumeDesign!U51","v":0},{"$f":"CostumeDesign!S51","v":0},{"$f":"IF((CostumeResults!$B41+CostumeResults!$C41)>0,1,0)","v":0}]
[{"$f":"CostumeDesign!A52","v":"K-804"},{"$f":"CostumeDesign!U52","v":0},{"$f":"CostumeDesign!S52","v":0},{"$f":"IF((CostumeResults!$B42+CostumeResults!$C42)>0,1,0)","v":0}]
[{"$f":"CostumeDesign!A54","v":"L-801"},{"$f":"CostumeDesign!U54","v":13},{"$f":"CostumeDesign!S54","v":70},{"$f":"IF((CostumeResults!$B43+CostumeResults!$C43)>0,1,0)","v":1}]
[{"$f":"CostumeDesign!A55","v":"L-802"},{"$f":"CostumeDesign!U55","v":5},{"$f":"CostumeDesign!S55","v":72},{"$f":"IF((CostumeResults!$B44+CostumeResults!$C44)>0,1,0)","v":1}]
[{"$f":"CostumeDesign!A56","v":"L-803"},{"$f":"CostumeDesign!U56","v":0},{"$f":"CostumeDesign!S56","v":0},{"$f":"IF((CostumeResults!$B45+CostumeResults!$C45)>0,1,0)","v":0}]
[{"$f":"CostumeDesign!A57","v":"L-804"},{"$f":"CostumeDesign!U57","v":0},{"$f":"CostumeDesign!S57","v":0},{"$f":"IF((CostumeResults!$B46+CostumeResults!$C46)>0,1,0)","v":0}]
[{"$f":"CostumeDesign!A59","v":"M-801"},{"$f":"CostumeDesign!U59","v":0},{"$f":"CostumeDesign!S59","v":0},{"$f":"IF((CostumeResults!$B47+CostumeResults!$C47)>0,1,0)","v":0}]
[{"$f":"CostumeDesign!A60","v":"M-802"},{"$f":"CostumeDesign!U60","v":0},{"$f":"CostumeDesign!S60","v":0},{"$f":"IF((CostumeResults!$B48+CostumeResults!$C48)>0,1,0)","v":0}]
[{"$f":"CostumeDesign!A61","v":"M-803"},{"$f":"CostumeDesign!U61","v":0},{"$f":"CostumeDesign!S61","v":0},{"$f":"IF((CostumeResults!$B49+CostumeResults!$C49)>0,1,0)","v":0}]
[{"$f":"CostumeDesign!A62","v":"M-804"},{"$f":"CostumeDesign!U62","v":0},{"$f":"CostumeDesign!S62","v":0},{"$f":"IF((CostumeResults!$B50+CostumeResults!$C50)>0,1,0)","v":0}]
[{"$f":"CostumeDesign!A64","v":"N-801"},{"$f":"CostumeDesign!U64","v":0},{"$f":"CostumeDesign!S64","v":0},{"$f":"IF((CostumeResults!$B51+CostumeResults!$C51)>0,1,0)","v":0}]
[{"$f":"CostumeDesign!A65","v":"N-802"},{"$f":"CostumeDesign!U65","v":0},{"$f":"CostumeDesign!S65","v":0},{"$f":"IF((CostumeResults!$B52+CostumeResults!$C52)>0,1,0)","v":0}]
[{"$f":"CostumeDesign!A66","v":"N-803"},{"$f":"CostumeDesign!U66","v":0},{"$f":"CostumeDesign!S66","v":0},{"$f":"IF((CostumeResults!$B53+CostumeResults!$C53)>0,1,0)","v":0}]
[{"$f":"CostumeDesign!A67","v":"N-804"},{"$f":"CostumeDesign!U67","v":0},{"$f":"CostumeDesign!S67","v":0},{"$f":"IF((CostumeResults!$B54+CostumeResults!$C54)>0,1,0)","v":0}]
[{"$f":"CostumeDesign!A69","v":"P-801"},{"$f":"CostumeDesign!U69","v":0},{"$f":"CostumeDesign!S69","v":0},{"$f":"IF((CostumeResults!$B55+CostumeResults!$C55)>0,1,0)","v":0}]
[{"$f":"CostumeDesign!A70","v":"P-802"},{"$f":"CostumeDesign!U70","v":0},{"$f":"CostumeDesign!S70","v":0},{"$f":"IF((CostumeResults!$B56+CostumeResults!$C56)>0,1,0)","v":0}]
[{"$f":"CostumeDesign!A71","v":"P-803"},{"$f":"CostumeDesign!U71","v":0},{"$f":"CostumeDesign!S71","v":0},{"$f":"IF((CostumeResults!$B57+CostumeResults!$C57)>0,1,0)","v":0}]
[{"$f":"CostumeDesign!A72","v":"P-804"},{"$f":"CostumeDesign!U72","v":0},{"$f":"CostumeDesign!S72","v":0},{"$f":"IF((CostumeResults!$B58+CostumeResults!$C58)>0,1,0)","v":0}]
[{"$f":"CostumeDesign!A74","v":"Q-801"},{"$f":"CostumeDesign!U74","v":0},{"$f":"CostumeDesign!S74","v":0},{"$f":"IF((CostumeResults!$B59+CostumeResults!$C59)>0,1,0)","v":0}]
[{"$f":"CostumeDesign!A75","v":"Q-802"},{"$f":"CostumeDesign!U75","v":0},{"$f":"CostumeDesign!S75","v":0},{"$f":"IF((CostumeResults!$B60+CostumeResults!$C60)>0,1,0)","v":0}]
[{"$f":"CostumeDesign!A76","v":"Q-803"},{"$f":"CostumeDesign!U76","v":0},{"$f":"CostumeDesign!S76","v":0},{"$f":"IF((CostumeResults!$B61+CostumeResults!$C61)>0,1,0)","v":0}]
[{"$f":"CostumeDesign!A77","v":"Q-804"},{"$f":"CostumeDesign!U77","v":0},{"$f":"CostumeDesign!S77","v":0},{"$f":"IF((CostumeResults!$B62+CostumeResults!$C62)>0,1,0)","v":0}]
[{"$f":"CostumeDesign!A79","v":"R-801"},{"$f":"CostumeDesign!U79","v":0},{"$f":"CostumeDesign!S79","v":0},{"$f":"IF((CostumeResults!$B63+CostumeResults!$C63)>0,1,0)","v":0}]
[{"$f":"CostumeDesign!A80","v":"R-802"},{"$f":"CostumeDesign!U80","v":0},{"$f":"CostumeDesign!S80","v":0},{"$f":"IF((CostumeResults!$B64+CostumeResults!$C64)>0,1,0)","v":0}]
[{"$f":"CostumeDesign!A81","v":"R-803"},{"$f":"CostumeDesign!U81","v":0},{"$f":"CostumeDesign!S81","v":0},{"$f":"IF((CostumeResults!$B65+CostumeResults!$C65)>0,1,0)","v":0}]
[{"$f":"CostumeDesign!A82","v":"R-804"},{"$f":"CostumeDesign!U82","v":0},{"$f":"CostumeDesign!S82","v":0},{"$f":"IF((CostumeResults!$B66+CostumeResults!$C66)>0,1,0)","v":0}]
[{"$f":"CostumeDesign!A84","v":"S-801"},{"$f":"CostumeDesign!U84","v":0},{"$f":"CostumeDesign!S84","v":0},{"$f":"IF((CostumeResults!$B67+CostumeResults!$C67)>0,1,0)","v":0}]
[{"$f":"CostumeDesign!A85","v":"S-802"},{"$f":"CostumeDesign!U85","v":0},{"$f":"CostumeDesign!S85","v":0},{"$f":"IF((CostumeResults!$B68+CostumeResults!$C68)>0,1,0)","v":0}]
[{"$f":"CostumeDesign!A86","v":"S-803"},{"$f":"CostumeDesign!U86","v":0},{"$f":"CostumeDesign!S86","v":0},{"$f":"IF((CostumeResults!$B69+CostumeResults!$C69)>0,1,0)","v":0}]
[{"$f":"CostumeDesign!A87","v":"S-804"},{"$f":"CostumeDesign!U87","v":0},{"$f":"CostumeDesign!S87","v":0},{"$f":"IF((CostumeResults!$B70+CostumeResults!$C70)>0,1,0)","v":0}]
[{"$f":"CostumeDesign!A89","v":"T-801"},{"$f":"CostumeDesign!U89","v":0},{"$f":"CostumeDesign!S89","v":0},{"$f":"IF((CostumeResults!$B71+CostumeResults!$C71)>0,1,0)","v":0}]
[{"$f":"CostumeDesign!A90","v":"T-802"},{"$f":"CostumeDesign!U90","v":0},{"$f":"CostumeDesign!S90","v":0},{"$f":"IF((CostumeResults!$B72+CostumeResults!$C72)>0,1,0)","v":0}]
[{"$f":"CostumeDesign!A91","v":"T-803"},{"$f":"CostumeDesign!U91","v":0},{"$f":"CostumeDesign!S91","v":0},{"$f":"IF((CostumeResults!$B73+CostumeResults!$C73)>0,1,0)","v":0}]
[{"$f":"CostumeDesign!A92","v":"T-804"},{"$f":"CostumeDesign!U92","v":0},{"$f":"CostumeDesign!S92","v":0},{"$f":"IF((CostumeResults!$B74+CostumeResults!$C74)>0,1,0)","v":0}]
[{"$f":"CostumeDesign!A94","v":"U-801"},{"$f":"CostumeDesign!U94","v":0},{"$f":"CostumeDesign!S94","v":0},{"$f":"IF((CostumeResults!$B75+CostumeResults!$C75)>0,1,0)","v":0}]
[{"$f":"CostumeDesign!A95","v":"U-802"},{"$f":"CostumeDesign!U95","v":0},{"$f":"CostumeDesign!S95","v":0},{"$f":"IF((CostumeResults!$B76+CostumeResults!$C76)>0,1,0)","v":0}]
[{"$f":"CostumeDesign!A96","v":"U-803"},{"$f":"CostumeDesign!U96","v":0},{"$f":"CostumeDesign!S96","v":0},{"$f":"IF((CostumeResults!$B77+CostumeResults!$C77)>0,1,0)","v":0}]
[{"$f":"CostumeDesign!A97","v":"U-804"},{"$f":"CostumeDesign!U97","v":0},{"$f":"CostumeDesign!S97","v":0},{"$f":"IF((CostumeResults!$B78+CostumeResults!$C78)>0,1,0)","v":0}]
[{"$f":"CostumeDesign!A99","v":"V-801"},{"$f":"CostumeDesign!U99","v":0},{"$f":"CostumeDesign!S99","v":0},{"$f":"IF((CostumeResults!$B79+CostumeResults!$C79)>0,1,0)","v":0}]
[{"$f":"CostumeDesign!A100","v":"V-802"},{"$f":"CostumeDesign!U100","v":0},{"$f":"CostumeDesign!S100","v":0},{"$f":"IF((CostumeResults!$B80+CostumeResults!$C80)>0,1,0)","v":0}]
[{"$f":"CostumeDesign!A101","v":"V-803"},{"$f":"CostumeDesign!U101","v":0},{"$f":"CostumeDesign!S101","v":0},{"$f":"IF((CostumeResults!$B81+CostumeResults!$C81)>0,1,0)","v":0}]
[{"$f":"CostumeDesign!A102","v":"V-804"},{"$f":"CostumeDesign!U102","v":0},{"$f":"CostumeDesign!S102","v":0},{"$f":"IF((CostumeResults!$B82+CostumeResults!$C82)>0,1,0)","v":0}]
[{"$f":"CostumeDesign!A104","v":"W-801"},{"$f":"CostumeDesign!U104","v":0},{"$f":"CostumeDesign!S104","v":0},{"$f":"IF((CostumeResults!$B83+CostumeResults!$C83)>0,1,0)","v":0}]
[{"$f":"CostumeDesign!A105","v":"W-802"},{"$f":"CostumeDesign!U105","v":0},{"$f":"CostumeDesign!S105","v":0},{"$f":"IF((CostumeResults!$B84+CostumeResults!$C84)>0,1,0)","v":0}]
[{"$f":"CostumeDesign!A106","v":"W-803"},{"$f":"CostumeDesign!U106","v":0},{"$f":"CostumeDesign!S106","v":0},{"$f":"IF((CostumeResults!$B85+CostumeResults!$C85)>0,1,0)","v":0}]
[{"$f":"CostumeDesign!A107","v":"W-804"},{"$f":"CostumeDesign!U107","v":0},{"$f":"CostumeDesign!S107","v":0},{"$f":"IF((CostumeResults!$B86+CostumeResults!$C86)>0,1,0)","v":0}]
[{"$f":"CostumeDesign!A109","v":"X-801"},{"$f":"CostumeDesign!U109","v":0},{"$f":"CostumeDesign!S109","v":0},{"$f":"IF((CostumeResults!$B87+CostumeResults!$C87)>0,1,0)","v":0}]
[{"$f":"CostumeDesign!A110","v":"X-802"},{"$f":"CostumeDesign!U110","v":0},{"$f":"CostumeDesign!S110","v":0},{"$f":"IF((CostumeResults!$B88+CostumeResults!$C88)>0,1,0)","v":0}]
[{"$f":"CostumeDesign!A111","v":"X-803"},{"$f":"CostumeDesign!U111","v":0},{"$f":"CostumeDesign!S111","v":0},{"$f":"IF((CostumeResults!$B89+CostumeResults!$C89)>0,1,0)","v":0}]
[{"$f":"CostumeDesign!A112","v":"X-804"},{"$f":"CostumeDesign!U112","v":0},{"$f":"CostumeDesign!S112","v":0},{"$f":"IF((CostumeResults!$B90+CostumeResults!$C90)>0,1,0)","v":0}]
[{"$f":"CostumeDesign!A114","v":"Y-801"},{"$f":"CostumeDesign!U114","v":0},{"$f":"CostumeDesign!S114","v":0},{"$f":"IF((CostumeResults!$B91+CostumeResults!$C91)>0,1,0)","v":0}]
[{"$f":"CostumeDesign!A115","v":"Y-802"},{"$f":"CostumeDesign!U115","v":0},{"$f":"CostumeDesign!S115","v":0},{"$f":"IF((CostumeResults!$B92+CostumeResults!$C92)>0,1,0)","v":0}]
[{"$f":"CostumeDesign!A116","v":"Y-803"},{"$f":"CostumeDesign!U116","v":0},{"$f":"CostumeDesign!S116","v":0},{"$f":"IF((CostumeResults!$B93+CostumeResults!$C93)>0,1,0)","v":0}]
[{"$f":"CostumeDesign!A117","v":"Y-804"},{"$f":"CostumeDesign!U117","v":0},{"$f":"CostumeDesign!S117","v":0},{"$f":"IF((CostumeResults!$B94+CostumeResults!$C94)>0,1,0)","v":0}]
[{"$f":"CostumeDesign!A119","v":"Z-801"},{"$f":"CostumeDesign!U119","v":0},{"$f":"CostumeDesign!S119","v":0},{"$f":"IF((CostumeResults!$B95+CostumeResults!$C95)>0,1,0)","v":0}]
[{"$f":"CostumeDesign!A120","v":"Z-802"},{"$f":"CostumeDesign!U120","v":0},{"$f":"CostumeDesign!S120","v":0},{"$f":"IF((CostumeResults!$B96+CostumeResults!$C96)>0,1,0)","v":0}]
[{"$f":"CostumeDesign!A121","v":"Z-803"},{"$f":"CostumeDesign!U121","v":0},{"$f":"CostumeDesign!S121","v":0},{"$f":"IF((CostumeResults!$B97+CostumeResults!$C97)>0,1,0)","v":0}]
[{"$f":"CostumeDesign!A122","v":"Z-804"},{"$f":"CostumeDesign!U122","v":0},{"$f":"CostumeDesign!S122","v":0},{"$f":"IF((CostumeResults!$B98+CostumeResults!$C98)>0,1,0)","v":0}]
[{"$f":"CostumeDesign!A124","v":"AA-801"},{"$f":"CostumeDesign!U124","v":0},{"$f":"CostumeDesign!S124","v":0},{"$f":"IF((CostumeResults!$B99+CostumeResults!$C99)>0,1,0)","v":0}]
[{"$f":"CostumeDesign!A125","v":"AA-802"},{"$f":"CostumeDesign!U125","v":0},{"$f":"CostumeDesign!S125","v":0},{"$f":"IF((CostumeResults!$B100+CostumeResults!$C100)>0,1,0)","v":0}]
[{"$f":"CostumeDesign!A126","v":"AA-803"},{"$f":"CostumeDesign!U126","v":0},{"$f":"CostumeDesign!S126","v":0},{"$f":"IF((CostumeResults!$B101+CostumeResults!$C101)>0,1,0)","v":0}]
[{"$f":"CostumeDesign!A127","v":"AA-804"},{"$f":"CostumeDesign!U127","v":0},{"$f":"CostumeDesign!S127","v":0},{"$f":"IF((CostumeResults!$B102+CostumeResults!$C102)>0,1,0)","v":0}]
[{"$f":"CostumeDesign!A129","v":"BB-801"},{"$f":"CostumeDesign!U129","v":0},{"$f":"CostumeDesign!S129","v":0},{"$f":"IF((CostumeResults!$B103+CostumeResults!$C103)>0,1,0)","v":0}]
[{"$f":"CostumeDesign!A130","v":"BB-802"},{"$f":"CostumeDesign!U130","v":0},{"$f":"CostumeDesign!S130","v":0},{"$f":"IF((CostumeResults!$B104+CostumeResults!$C104)>0,1,0)","v":0}]
[{"$f":"CostumeDesign!A131","v":"BB-803"},{"$f":"CostumeDesign!U131","v":0},{"$f":"CostumeDesign!S131","v":0},{"$f":"IF((CostumeResults!$B105+CostumeResults!$C105)>0,1,0)","v":0}]
[{"$f":"CostumeDesign!A132","v":"BB-804"},{"$f":"CostumeDesign!U132","v":0},{"$f":"CostumeDesign!S132","v":0},{"$f":"IF((CostumeResults!$B106+CostumeResults!$C106)>0,1,0)","v":0}]
[{"$f":"CostumeDesign!A134","v":"CC-801"},{"$f":"CostumeDesign!U134","v":0},{"$f":"CostumeDesign!S134","v":0},{"$f":"IF((CostumeResults!$B107+CostumeResults!$C107)>0,1,0)","v":0}]
[{"$f":"CostumeDesign!A135","v":"CC-802"},{"$f":"CostumeDesign!U135","v":0},{"$f":"CostumeDesign!S135","v":0},{"$f":"IF((CostumeResults!$B108+CostumeResults!$C108)>0,1,0)","v":0}]
[{"$f":"CostumeDesign!A136","v":"CC-803"},{"$f":"CostumeDesign!U136","v":0},{"$f":"CostumeDesign!S136","v":0},{"$f":"IF((CostumeResults!$B109+CostumeResults!$C109)>0,1,0)","v":0}]
[{"$f":"CostumeDesign!A137","v":"CC-804"},{"$f":"CostumeDesign!U137","v":0},{"$f":"CostumeDesign!S137","v":0},{"$f":"IF((CostumeResults!$B110+CostumeResults!$C110)>0,1,0)","v":0}]
[{"$f":"CostumeDesign!A139","v":"DD-801"},{"$f":"CostumeDesign!U139","v":0},{"$f":"CostumeDesign!S139","v":0},{"$f":"IF((CostumeResults!$B111+CostumeResults!$C111)>0,1,0)","v":0}]
[{"$f":"CostumeDesign!A140","v":"DD-802"},{"$f":"CostumeDesign!U140","v":0},{"$f":"CostumeDesign!S140","v":0},{"$f":"IF((CostumeResults!$B112+CostumeResults!$C112)>0,1,0)","v":0}]
[{"$f":"CostumeDesign!A141","v":"DD-803"},{"$f":"CostumeDesign!U141","v":0},{"$f":"CostumeDesign!S141","v":0},{"$f":"IF((CostumeResults!$B113+CostumeResults!$C113)>0,1,0)","v":0}]
[{"$f":"CostumeDesign!A142","v":"DD-804"},{"$f":"CostumeDesign!U142","v":0},{"$f":"CostumeDesign!S142","v":0},{"$f":"IF((CostumeResults!$B114+CostumeResults!$C114)>0,1,0)","v":0}]
[{"$f":"CostumeDesign!A144","v":"EE-801"},{"$f":"CostumeDesign!U144","v":0},{"$f":"CostumeDesign!S144","v":0},{"$f":"IF((CostumeResults!$B115+CostumeResults!$C115)>0,1,0)","v":0}]
[{"$f":"CostumeDesign!A145","v":"EE-802"},{"$f":"CostumeDesign!U145","v":0},{"$f":"CostumeDesign!S145","v":0},{"$f":"IF((CostumeResults!$B116+CostumeResults!$C116)>0,1,0)","v":0}]
[{"$f":"CostumeDesign!A146","v":"EE-803"},{"$f":"CostumeDesign!U146","v":0},{"$f":"CostumeDesign!S146","v":0},{"$f":"IF((CostumeResults!$B117+CostumeResults!$C117)>0,1,0)","v":0}]
[{"$f":"CostumeDesign!A147","v":"EE-804"},{"$f":"CostumeDesign!U147","v":0},{"$f":"CostumeDesign!S147","v":0},{"$f":"IF((CostumeResults!$B118+CostumeResults!$C118)>0,1,0)","v":0}]
[{"$f":"CostumeDesign!A149","v":"FF-801"},{"$f":"CostumeDesign!U149","v":0},{"$f":"CostumeDesign!S149","v":0},{"$f":"IF((CostumeResults!$B119+CostumeResults!$C119)>0,1,0)","v":0}]
[{"$f":"CostumeDesign!A150","v":"FF-802"},{"$f":"CostumeDesign!U150","v":0},{"$f":"CostumeDesign!S150","v":0},{"$f":"IF((CostumeResults!$B120+CostumeResults!$C120)>0,1,0)","v":0}]
[{"$f":"CostumeDesign!A151","v":"FF-803"},{"$f":"CostumeDesign!U151","v":0},{"$f":"CostumeDesign!S151","v":0},{"$f":"IF((CostumeResults!$B121+CostumeResults!$C121)>0,1,0)","v":0}]
[{"$f":"CostumeDesign!A152","v":"FF-804"},{"$f":"CostumeDesign!U152","v":0},{"$f":"CostumeDesign!S152","v":0},{"$f":"IF((CostumeResults!$B122+CostumeResults!$C122)>0,1,0)","v":0}]